From mboxrd@z Thu Jan 1 00:00:00 1970 Return-Path: Received: from mails.dpdk.org (mails.dpdk.org [217.70.189.124]) by inbox.dpdk.org (Postfix) with ESMTP id BB5A846193 for ; Wed, 5 Feb 2025 02:10:07 +0100 (CET) Received: from mails.dpdk.org (localhost [127.0.0.1]) by mails.dpdk.org (Postfix) with ESMTP id B889A4021E; Wed, 5 Feb 2025 02:10:07 +0100 (CET) Received: from mail-oa1-f98.google.com (mail-oa1-f98.google.com [209.85.160.98]) by mails.dpdk.org (Postfix) with ESMTP id E33F9400EF for ; Wed, 5 Feb 2025 02:10:06 +0100 (CET) Received: by mail-oa1-f98.google.com with SMTP id 586e51a60fabf-29fe7ff65e6so2045350fac.0 for ; Tue, 04 Feb 2025 17:10:06 -0800 (PST) DKIM-Signature: v=1; a=rsa-sha256; c=relaxed/relaxed; d=iol.unh.edu; s=unh-iol; t=1738717806; x=1739322606; darn=dpdk.org; h=references:in-reply-to:cc:to:from:subject:message-id:date:from:to :cc:subject:date:message-id:reply-to; bh=uxfLs5lbkCJX/X5BnCIFgfkbzJPWsci6nWHkCmV582o=; b=AcRAMaB927IvaStrdRCCLNDNn+F0zEvNWRDwIpkHtC7HT4KSwLHoPSCw+cHPnvTddO 0ncE41BXUFppu4Yxlq/UDPVH06efB8qDHt9HDPOEf0S2N5l01GJehGg/xpe355ESiud/ 2lm1XGP2TgjVH201j98DaiXowXurIp8r12n/c= X-Google-DKIM-Signature: v=1; a=rsa-sha256; c=relaxed/relaxed; d=1e100.net; s=20230601; t=1738717806; x=1739322606; h=references:in-reply-to:cc:to:from:subject:message-id:date :x-gm-message-state:from:to:cc:subject:date:message-id:reply-to; bh=uxfLs5lbkCJX/X5BnCIFgfkbzJPWsci6nWHkCmV582o=; b=q/gJ7WMYxg9tOlSklOS7vuZN4b8Ir7rmzsw/3xFcy/srwHy/DhmbqaV8sSARI4ywJ2 B9m3PAvpGvmQhL1f9eKHDn0i4u68PnTZfjoeIrWv/1uYMUaNaxxSv9/gUTM0ci1vknP0 1d4rlEObc3w5+dSdXXuQhrYcM9gKxzryXayX0Zsr5QWPC1+YHcdiFyE0fnFLUuW4YzpG sKhPyGwv4gXx9uOKHJrM34xmmaHrC5iq7+VEdRURmyBr3AnOJ6kamLJU45lNdWX72hAH votJUskXVHGPgg6wwHITNeO+/nF+2KsXXMHJ2W+kulZxaX014Kg15mHr7wruaGlt005S jtPQ== X-Gm-Message-State: AOJu0YyUIpRLnmIONb28xuKIUQRGJhb56TqpHjEdRfBLKihBSB30prZQ TTjNNPT5zwD/idXCmvEJ2WsDMQF8R1yy+rWmfmWyE7NVHgQY0X50A6ujY+KZdhGorNm67JA1sew h7aLYp5IHO3g4roeVFnFEw/T+CwXl7wCIFgXSug/s X-Gm-Gg: ASbGncu4oj4AfnxAqeJ0DIwSO25cEOolT9Z9vE64AqHI1hiqR1Qge1FJH15xs0i/Fp4 prT3CjKhyozZu2ct8cixVZ+7yNs6eA+OZZImOs6D/oWc2aT43gYMZde93Xq9QMagF0BfMtGfiQY Lja5Ch05v5LjfMKsZjEDb3GdK8M2YxBDN6m4t3GfappW1GDDMB73ZSeg6QEDJ3/av3t+sLnd6RF k0JppiUTbi6AJBqTCMuuwDaXB44eq2ozYDNxlONmMLb/z9Hev5FMol8c26OWIFvP3FvIMcHHrfV Nt7HeSWR7usk75AzFFPDgosyLitvDw== X-Google-Smtp-Source: AGHT+IHt6EBRFKU/3SunKdfg9lYuue27PttkA6LyLGs4UloP26AgUuWk5uJEfV5MkVlhC/9yld2CDtygwprY X-Received: by 2002:a05:6871:442:b0:29e:40f8:ad9b with SMTP id 586e51a60fabf-2b804f74b21mr781437fac.14.1738717806181; Tue, 04 Feb 2025 17:10:06 -0800 (PST) Received: from postal.iol.unh.edu (postal.iol.unh.edu. [132.177.123.84]) by smtp-relay.gmail.com with ESMTPS id 586e51a60fabf-2b3565aff38sm857829fac.31.2025.02.04.17.10.06 (version=TLS1_2 cipher=ECDHE-ECDSA-AES128-GCM-SHA256 bits=128/128); Tue, 04 Feb 2025 17:10:06 -0800 (PST) X-Relaying-Domain: iol.unh.edu Date: Tue, 04 Feb 2025 17:10:06 -0800 (PST) Message-ID: <67a2ba6e.050a0220.3bb529.873cSMTPIN_ADDED_MISSING@mx.google.com> Received: from [172.21.0.5] (unknown [172.18.0.240]) by postal.iol.unh.edu (Postfix) with ESMTP id A09A06052471; Tue, 4 Feb 2025 20:10:05 -0500 (EST) Subject: |SUCCESS| pw150807 [PATCH] stack: occasional crash due to uninitiali From: dpdklab@iol.unh.edu To: Test Report Cc: dpdk-test-reports@iol.unh.edu In-Reply-To: <1738632218-5796-1-git-send-email-andremue@linux.microsoft.com> References: <1738632218-5796-1-git-send-email-andremue@linux.microsoft.com> Content-Type: text/plain X-BeenThere: test-report@dpdk.org X-Mailman-Version: 2.1.29 Precedence: list List-Id: automatic DPDK test reports List-Unsubscribe: , List-Archive: List-Post: List-Help: List-Subscribe: , Errors-To: test-report-bounces@dpdk.org Test-Label: iol-compile-amd64-testing Test-Status: SUCCESS http://dpdk.org/patch/150807 _Testing PASS_ Submitter: Andre Muezerie Date: Tuesday, February 04 2025 01:23:37 DPDK git baseline: Repo:dpdk Branch: master CommitID:dc4ce7c2538b713e16887eb598da309bc7b4d528 150807 --> testing pass Upstream job id: Windows-Compile-DPDK-Native#26309 Test environment and result as below: +---------------------+--------------------+------------------+-------------------+-------------------+----------------------+-------------------------+ | Environment | dpdk_meson_compile | dpdk_compile_ovs | dpdk_compile_spdk | dpdk_msvc_compile | dpdk_mingw64_compile | dpdk_llvm_clang_compile | +=====================+====================+==================+===================+===================+======================+=========================+ | CentOS Stream 9 | PASS | PASS | PASS | SKIPPED | SKIPPED | SKIPPED | +---------------------+--------------------+------------------+-------------------+-------------------+----------------------+-------------------------+ | Debian 12 | PASS | PASS | PASS | SKIPPED | SKIPPED | SKIPPED | +---------------------+--------------------+------------------+-------------------+-------------------+----------------------+-------------------------+ | Fedora 40 (Clang) | PASS | PASS | PASS | SKIPPED | SKIPPED | SKIPPED | +---------------------+--------------------+------------------+-------------------+-------------------+----------------------+-------------------------+ | Fedora 40 | PASS | PASS | PASS | SKIPPED | SKIPPED | SKIPPED | +---------------------+--------------------+------------------+-------------------+-------------------+----------------------+-------------------------+ | Fedora 41 (Clang) | PASS | PASS | PASS | SKIPPED | SKIPPED | SKIPPED | +---------------------+--------------------+------------------+-------------------+-------------------+----------------------+-------------------------+ | Fedora 41 | PASS | PASS | PASS | SKIPPED | SKIPPED | SKIPPED | +---------------------+--------------------+------------------+-------------------+-------------------+----------------------+-------------------------+ | openSUSE Leap 15 | PASS | SKIPPED | SKIPPED | SKIPPED | SKIPPED | SKIPPED | +---------------------+--------------------+------------------+-------------------+-------------------+----------------------+-------------------------+ | RHEL9 | PASS | PASS | SKIPPED | SKIPPED | SKIPPED | SKIPPED | +---------------------+--------------------+------------------+-------------------+-------------------+----------------------+-------------------------+ | RHEL8 | PASS | PASS | SKIPPED | SKIPPED | SKIPPED | SKIPPED | +---------------------+--------------------+------------------+-------------------+-------------------+----------------------+-------------------------+ | Ubuntu 20.04 | PASS | SKIPPED | SKIPPED | SKIPPED | SKIPPED | SKIPPED | +---------------------+--------------------+------------------+-------------------+-------------------+----------------------+-------------------------+ | Ubuntu 24.04 | PASS | PASS | PASS | SKIPPED | SKIPPED | SKIPPED | +---------------------+--------------------+------------------+-------------------+-------------------+----------------------+-------------------------+ | Alpine | PASS | PASS | SKIPPED | SKIPPED | SKIPPED | SKIPPED | +---------------------+--------------------+------------------+-------------------+-------------------+----------------------+-------------------------+ | FreeBSD 13.4 | PASS | SKIPPED | SKIPPED | SKIPPED | SKIPPED | SKIPPED | +---------------------+--------------------+------------------+-------------------+-------------------+----------------------+-------------------------+ | FreeBSD 14.2 | PASS | SKIPPED | SKIPPED | SKIPPED | SKIPPED | SKIPPED | +---------------------+--------------------+------------------+-------------------+-------------------+----------------------+-------------------------+ | Debian Bullseye | PASS | PASS | PASS | SKIPPED | SKIPPED | SKIPPED | +---------------------+--------------------+------------------+-------------------+-------------------+----------------------+-------------------------+ | Ubuntu 22.04 | PASS | PASS | PASS | SKIPPED | SKIPPED | SKIPPED | +---------------------+--------------------+------------------+-------------------+-------------------+----------------------+-------------------------+ | Windows Server 2022 | SKIPPED | SKIPPED | SKIPPED | PASS | PASS | PASS | +---------------------+--------------------+------------------+-------------------+-------------------+----------------------+-------------------------+ CentOS Stream 9 Kernel: Depends on container host Compiler: gcc 11.5.0 20240719 (Red Hat 11.5.0-2) Debian 12 Kernel: Depends on container host Compiler: gcc (Debian 12.2.0-14) 12.2.0 Fedora 40 (Clang) Kernel: Depends on container host Compiler: clang 18.1.8 (Fedora 18.1.8-1.fc40) Fedora 40 Kernel: Depends on container host Compiler: gcc 14.2.1 20240912 (Red Hat 14.2.1-3) Fedora 41 (Clang) Kernel: Depends on container host Compiler: clang 19.1.5 (Fedora 19.1.5-1.fc41) Fedora 41 Kernel: Depends on container host Compiler: gcc 14.2.1 20240912 (Red Hat 14.2.1-3) openSUSE Leap 15 Kernel: Depends on container host Compiler: gcc (SUSE Linux) 7.5.0 RHEL9 Kernel: Depends on container host Compiler: gcc 11.5.0 20240719 (Red Hat 11.5.0-2) RHEL8 Kernel: Depends on container host Compiler: gcc 8.5.0 20210514 (Red Hat 8.5.0-22) Ubuntu 20.04 Kernel: Depends on container host Compiler: gcc (Ubuntu 9.4.0-1ubuntu1~20.04.2) 9.4.0 Ubuntu 24.04 Kernel: Depends on container host Compiler: gcc (Ubuntu 13.3.0-6ubuntu2~24.04) 13.3.0 Alpine Kernel: Depends on container host Compiler: gcc (Alpine 14.2.0) 14.2.0 FreeBSD 13.4 Kernel: 13.4-RELEASE-p1 Compiler: clang 18.1.6 FreeBSD 14.2 Kernel: 14.2-RELEASE Compiler: clang 18.1.6 Debian Bullseye Kernel: Depends on container host Compiler: gcc (Debian 10.2.1-6) 10.2.1 20210110 Ubuntu 22.04 Kernel: Depends on container host Compiler: gcc (Ubuntu 11.4.0-1ubuntu1~22.04) 11.4.0 Windows Server 2022 Kernel: 10.0.20348.2031 Compiler: clang 15.0.7, gcc 14.1.0 (MinGW), and MSVC VS 19.39.33521 To view detailed results, visit: https://lab.dpdk.org/results/dashboard/patchsets/32484/ UNH-IOL DPDK Community Lab To manage your email subscriptions, visit: https://lab.dpdk.org/results/dashboard/preferences/subscriptions/