From mboxrd@z Thu Jan 1 00:00:00 1970 Return-Path: Received: from mails.dpdk.org (mails.dpdk.org [217.70.189.124]) by inbox.dpdk.org (Postfix) with ESMTP id 0EC5D46193 for ; Wed, 5 Feb 2025 02:20:07 +0100 (CET) Received: from mails.dpdk.org (localhost [127.0.0.1]) by mails.dpdk.org (Postfix) with ESMTP id EADB84021E; Wed, 5 Feb 2025 02:20:06 +0100 (CET) Received: from mail-pl1-f227.google.com (mail-pl1-f227.google.com [209.85.214.227]) by mails.dpdk.org (Postfix) with ESMTP id 96459400EF for ; Wed, 5 Feb 2025 02:20:05 +0100 (CET) Received: by mail-pl1-f227.google.com with SMTP id d9443c01a7336-2166651f752so26813215ad.3 for ; Tue, 04 Feb 2025 17:20:05 -0800 (PST) DKIM-Signature: v=1; a=rsa-sha256; c=relaxed/relaxed; d=iol.unh.edu; s=unh-iol; t=1738718404; x=1739323204; darn=dpdk.org; h=references:in-reply-to:cc:to:from:subject:message-id:date:from:to :cc:subject:date:message-id:reply-to; bh=HivDO8jdecx5fDrdQXIPj80m3ngg+Pn7DLD/MpnMpeE=; b=WAqpKBv8CznCSqVm0QjtkIFWlOBO/cD+UMGWi2EX+hp7lmReWjVyBm6YgLifFsbpe7 jCEIEBoFaiix4gFMwBLETGG0xVESmgxFEnpzkij3iHZ7aigcDMLMzQYMxWvtmfX+dgOD 2gWaBHRF6kKApu8VtxVM6jU5l8aSc/LesGUfQ= X-Google-DKIM-Signature: v=1; a=rsa-sha256; c=relaxed/relaxed; d=1e100.net; s=20230601; t=1738718404; x=1739323204; h=references:in-reply-to:cc:to:from:subject:message-id:date :x-gm-message-state:from:to:cc:subject:date:message-id:reply-to; bh=HivDO8jdecx5fDrdQXIPj80m3ngg+Pn7DLD/MpnMpeE=; b=fCl7uawSEPJMuUDF/DjlbOCYJ+NFQgQqjh0RPHvf6OsUgtTSrwI+hlsxpbsvccxpRB kkO6ssQppzpSw/GaIOQZ9MtjBwIdnw4Lpf852IZ2WuzVe5EA8o2DxYkRYz73gmm+mQyN YOoax3K5HSSR4jSJj9MvEoOxF0DkGWLuPdajL0p6uVELC2ok0WxhjW2CtQFN7b418f14 NNjtwMCpXy12GFKGTYtREuZOAAV591NX8QRFKVRs44fZI/1rXSIfUl309vZbfo3xr3vP GDO5oTsS2kPoGAFl/u4uUPxq8+XTlCMuZByBm5aN9/TzZwn6ce3gSs2bG7dWaQudi1u2 ijYQ== X-Gm-Message-State: AOJu0YzOg85Mv6tYVak5PUTXO1X2MjqQZms0fQwjRVS/nC6Y/yc/XCET zA1BDzVZLUM5ny7xrChjSLsvOXwHPJ4mQXG5DL8jKBxVN0WiNfj7sDY3LFwnOFeHBQOF75c6D9E NgT2xG7TGNEjMp57kM2b7+3bO0GvUi0TijSvt5nrJ X-Gm-Gg: ASbGncsVmVQ7dFGiBGzafQAtKfJ7loKmiuM/hjoKesk1qeh/9q77EMAJ0rcQ4tuxzrz zHxKc3zjpQqZIcntqikdveTrDfS63OXoGq6yOONDjZfcwh/zUGx7bq0Iry/Dqe/k/86vaUi+/yQ nG02HNklWEHtE2E+oEaZuNNWQXZ7x2WXKs6BAIOYeaG0JyNrW1u3+KKamUP3pjuRIJeo6MM3Wtw bkY3sKAYPLAGnMNHYNsL9xp2+2wIDNBctcOheaHZoBaOAg630pVVj0w351yDpax7q18wQ1BczHD /QIlfUdTySlWA+9fQjviB5i5oZYLCg== X-Google-Smtp-Source: AGHT+IESfPF8R0Bzw+0B2zvlrGnIP4c+jT2aA3A+s5Q7aGvii8YPBXnrTC4Z/PjiVkGvekygIyMjFDoDsx/1 X-Received: by 2002:a05:6a20:d504:b0:1ed:75f4:d290 with SMTP id adf61e73a8af0-1ede88ab390mr1655173637.29.1738718404528; Tue, 04 Feb 2025 17:20:04 -0800 (PST) Received: from postal.iol.unh.edu (postal.iol.unh.edu. [132.177.123.84]) by smtp-relay.gmail.com with ESMTPS id 41be03b00d2f7-acebe38503bsm717486a12.9.2025.02.04.17.20.04 (version=TLS1_2 cipher=ECDHE-ECDSA-AES128-GCM-SHA256 bits=128/128); Tue, 04 Feb 2025 17:20:04 -0800 (PST) X-Relaying-Domain: iol.unh.edu Date: Tue, 04 Feb 2025 17:20:04 -0800 (PST) Message-ID: <67a2bcc4.630a0220.16b8db.2d89SMTPIN_ADDED_MISSING@mx.google.com> Received: from [172.21.0.5] (unknown [172.18.0.240]) by postal.iol.unh.edu (Postfix) with ESMTP id A6FDB6052471; Tue, 4 Feb 2025 20:20:03 -0500 (EST) Subject: |SUCCESS| pw150905-150924 [PATCH] [v21,27/27] config: add -Wvla proj From: dpdklab@iol.unh.edu To: Test Report Cc: dpdk-test-reports@iol.unh.edu In-Reply-To: <1738702638-22363-28-git-send-email-andremue@linux.microsoft.com> References: <1738702638-22363-28-git-send-email-andremue@linux.microsoft.com> Content-Type: text/plain X-BeenThere: test-report@dpdk.org X-Mailman-Version: 2.1.29 Precedence: list List-Id: automatic DPDK test reports List-Unsubscribe: , List-Archive: List-Post: List-Help: List-Subscribe: , Errors-To: test-report-bounces@dpdk.org Test-Label: iol-abi-testing Test-Status: SUCCESS http://dpdk.org/patch/150924 _Testing PASS_ Submitter: Andre Muezerie Date: Tuesday, February 04 2025 20:57:18 DPDK git baseline: Repo:dpdk Branch: master CommitID:dc4ce7c2538b713e16887eb598da309bc7b4d528 150905-150924 --> testing pass Upstream job id: Generic-DPDK-Compile-ABI#114780 Test environment and result as below: +-------------------+----------+ | Environment | abi_test | +===================+==========+ | CentOS Stream 9 | PASS | +-------------------+----------+ | Debian Bullseye | PASS | +-------------------+----------+ | Debian 12 | PASS | +-------------------+----------+ | Fedora 40 | PASS | +-------------------+----------+ | Fedora 40 (Clang) | PASS | +-------------------+----------+ | Fedora 41 (Clang) | PASS | +-------------------+----------+ | openSUSE Leap 15 | PASS | +-------------------+----------+ | RHEL8 | PASS | +-------------------+----------+ | Fedora 41 | PASS | +-------------------+----------+ | RHEL9 | PASS | +-------------------+----------+ | Ubuntu 22.04 | PASS | +-------------------+----------+ | Ubuntu 24.04 | PASS | +-------------------+----------+ CentOS Stream 9 Kernel: Depends on container host Compiler: gcc 11.5.0 20240719 (Red Hat 11.5.0-2) Debian Bullseye Kernel: Depends on container host Compiler: gcc (Debian 10.2.1-6) 10.2.1 20210110 Debian 12 Kernel: Depends on container host Compiler: gcc (Debian 12.2.0-14) 12.2.0 Fedora 40 Kernel: Depends on container host Compiler: gcc 14.2.1 20240912 (Red Hat 14.2.1-3) Fedora 40 (Clang) Kernel: Depends on container host Compiler: clang 18.1.8 (Fedora 18.1.8-1.fc40) Fedora 41 (Clang) Kernel: Depends on container host Compiler: clang 19.1.5 (Fedora 19.1.5-1.fc41) openSUSE Leap 15 Kernel: Depends on container host Compiler: gcc (SUSE Linux) 7.5.0 RHEL8 Kernel: Depends on container host Compiler: gcc 8.5.0 20210514 (Red Hat 8.5.0-22) Fedora 41 Kernel: Depends on container host Compiler: gcc 14.2.1 20240912 (Red Hat 14.2.1-3) RHEL9 Kernel: Depends on container host Compiler: gcc 11.5.0 20240719 (Red Hat 11.5.0-2) Ubuntu 22.04 Kernel: Depends on container host Compiler: gcc (Ubuntu 11.4.0-1ubuntu1~22.04) 11.4.0 Ubuntu 24.04 Kernel: Depends on container host Compiler: gcc (Ubuntu 13.3.0-6ubuntu2~24.04) 13.3.0 To view detailed results, visit: https://lab.dpdk.org/results/dashboard/patchsets/32494/ UNH-IOL DPDK Community Lab To manage your email subscriptions, visit: https://lab.dpdk.org/results/dashboard/preferences/subscriptions/