From mboxrd@z Thu Jan 1 00:00:00 1970 Return-Path: Received: from mails.dpdk.org (mails.dpdk.org [217.70.189.124]) by inbox.dpdk.org (Postfix) with ESMTP id 1355146193 for ; Wed, 5 Feb 2025 02:20:28 +0100 (CET) Received: from mails.dpdk.org (localhost [127.0.0.1]) by mails.dpdk.org (Postfix) with ESMTP id 0D5144021E; Wed, 5 Feb 2025 02:20:28 +0100 (CET) Received: from mail-qv1-f100.google.com (mail-qv1-f100.google.com [209.85.219.100]) by mails.dpdk.org (Postfix) with ESMTP id DD1DF400EF for ; Wed, 5 Feb 2025 02:20:26 +0100 (CET) Received: by mail-qv1-f100.google.com with SMTP id 6a1803df08f44-6d8e8445219so52996246d6.0 for ; Tue, 04 Feb 2025 17:20:26 -0800 (PST) DKIM-Signature: v=1; a=rsa-sha256; c=relaxed/relaxed; d=iol.unh.edu; s=unh-iol; t=1738718426; x=1739323226; darn=dpdk.org; h=references:in-reply-to:cc:to:from:subject:message-id:date:from:to :cc:subject:date:message-id:reply-to; bh=NmO0TFruAOzrANTtqUjjRP/QNrWL37dMRY/+N2XBiUQ=; b=a/qCaVpAV+qTx7xX2tngnH5LyETkhzxUif1/5u3V5Dr7/jfYjgQxWbfH6J1a5L5EfG Vl7djFRrKANdRJcVRqCdod+QN65bYiIFmAKa5s7s5ulvvky2iKzWA6BeE4k0VyH+hL0h nNr7rjaJSd/7R0sQfVkkk8bqm6bVpoU7SgSk0= X-Google-DKIM-Signature: v=1; a=rsa-sha256; c=relaxed/relaxed; d=1e100.net; s=20230601; t=1738718426; x=1739323226; h=references:in-reply-to:cc:to:from:subject:message-id:date :x-gm-message-state:from:to:cc:subject:date:message-id:reply-to; bh=NmO0TFruAOzrANTtqUjjRP/QNrWL37dMRY/+N2XBiUQ=; b=k7I4b3IEZB0MWdhaitxLcIF7BHphOB9ZRIQjIbu8ztoVanjOeEon2wUpHgAoQvMbvd RzQ4TpqqtjBDctg5ZDGXsFirTwHoIWLKZDcwi9fgS1J8nU48ul/N3nma64CW+u8pLOQf 1TaqgdvXr6fQXrOEFPIevKUp6qlbfJ0Rk6ikc53pu4wlWASMJL3uqy1jQY/SCDK/l80l y2xaO5u3E8UZmLrLkQO45LnNid2OvggjNPx5iE8C+V1wJ4h3UITE93BG3mTHpDMIcu9p PYnXRsd+QN1ah4blAe+sTbwY6ucr+Ae+lwx15rvEGBjeydPHEVtf6xHZySl85HrKTL4a NTdw== X-Gm-Message-State: AOJu0YwgY2ev5DIb8T/cCj2JcPyrq5/kRvoG3nBXpJnlkZBzXW8s/3wQ JG/rMQdcwTSIsFLLfipuVlGDvNHTlsgXUh6WOtic/kJium4fg/k0WOmkeSWRsXI+XsM2qJe54nB /nOXyNITD0JbibJqCIXOZgywVB+NiymtBnUST+ubk X-Gm-Gg: ASbGncsJJLo/g5/Zx3PIjORhFiItueIpE4O71pGvRcMaEqMTMKoggpPAGwFhN3z4sc6 5yHByJFLw3cHpOlrtCq9K7vP/E2yVeeqiGBTMcUPOew4dRPuLOQrsma9U5KOpltT1pEUulax4pZ Gs3DXSzQdBDY10s/uER9CTGj5L82qaUowF+gs81Z428IbXr3HLe1qYi8cMK0Hbe91Em04p52e2F ng6sHYnUgXG/9I8AOKJer5LICmpvOiILl+m9FAYPKOHy2YlvGsqSRBmNuMEzMKLwaHMSGsKV8Mr iQ3cZy2d3t09+A+GB8yPzx/kE5tGdw== X-Google-Smtp-Source: AGHT+IFWQBwS4nGFFvEkC/N81V6OsOteM33Hf3zOVldbeGk6mE3R8/p3XN9ELsUkIPw5ez1batoXMvdRrle5 X-Received: by 2002:ad4:5962:0:b0:6d8:9c50:52be with SMTP id 6a1803df08f44-6e42fca91c3mr14971296d6.44.1738718426274; Tue, 04 Feb 2025 17:20:26 -0800 (PST) Received: from postal.iol.unh.edu (postal.iol.unh.edu. [132.177.123.84]) by smtp-relay.gmail.com with ESMTPS id 6a1803df08f44-6e25480c61bsm8978776d6.19.2025.02.04.17.20.26 (version=TLS1_2 cipher=ECDHE-ECDSA-AES128-GCM-SHA256 bits=128/128); Tue, 04 Feb 2025 17:20:26 -0800 (PST) X-Relaying-Domain: iol.unh.edu Date: Tue, 04 Feb 2025 17:20:26 -0800 (PST) Message-ID: <67a2bcda.050a0220.332be6.cd46SMTPIN_ADDED_MISSING@mx.google.com> Received: from [172.21.0.6] (unknown [172.18.0.240]) by postal.iol.unh.edu (Postfix) with ESMTP id 028A66052471; Tue, 4 Feb 2025 20:20:26 -0500 (EST) Subject: |SUCCESS| pw150905-150924 [PATCH] [v21,27/27] config: add -Wvla proj From: dpdklab@iol.unh.edu To: Test Report Cc: dpdk-test-reports@iol.unh.edu In-Reply-To: <1738702638-22363-28-git-send-email-andremue@linux.microsoft.com> References: <1738702638-22363-28-git-send-email-andremue@linux.microsoft.com> Content-Type: text/plain X-BeenThere: test-report@dpdk.org X-Mailman-Version: 2.1.29 Precedence: list List-Id: automatic DPDK test reports List-Unsubscribe: , List-Archive: List-Post: List-Help: List-Subscribe: , Errors-To: test-report-bounces@dpdk.org Test-Label: iol-abi-testing Test-Status: SUCCESS http://dpdk.org/patch/150924 _Testing PASS_ Submitter: Andre Muezerie Date: Tuesday, February 04 2025 20:57:18 DPDK git baseline: Repo:dpdk Branch: master CommitID:dc4ce7c2538b713e16887eb598da309bc7b4d528 150905-150924 --> testing pass Upstream job id: Generic-DPDK-Compile-ABI#114782 Test environment and result as below: +-------------------+----------+ | Environment | abi_test | +===================+==========+ | CentOS Stream 9 | PASS | +-------------------+----------+ | Debian Bullseye | PASS | +-------------------+----------+ | Debian 12 | PASS | +-------------------+----------+ | Fedora 40 | PASS | +-------------------+----------+ | Fedora 40 (Clang) | PASS | +-------------------+----------+ | Fedora 41 (Clang) | PASS | +-------------------+----------+ | openSUSE Leap 15 | PASS | +-------------------+----------+ | RHEL8 | PASS | +-------------------+----------+ | Fedora 41 | PASS | +-------------------+----------+ | RHEL9 | PASS | +-------------------+----------+ | Ubuntu 22.04 | PASS | +-------------------+----------+ | Ubuntu 24.04 | PASS | +-------------------+----------+ CentOS Stream 9 Kernel: Depends on container host Compiler: gcc 11.5.0 20240719 (Red Hat 11.5.0-2) Debian Bullseye Kernel: Depends on container host Compiler: gcc (Debian 10.2.1-6) 10.2.1 20210110 Debian 12 Kernel: Depends on container host Compiler: gcc (Debian 12.2.0-14) 12.2.0 Fedora 40 Kernel: Depends on container host Compiler: gcc 14.2.1 20240912 (Red Hat 14.2.1-3) Fedora 40 (Clang) Kernel: Depends on container host Compiler: clang 18.1.8 (Fedora 18.1.8-1.fc40) Fedora 41 (Clang) Kernel: Depends on container host Compiler: clang 19.1.5 (Fedora 19.1.5-1.fc41) openSUSE Leap 15 Kernel: Depends on container host Compiler: gcc (SUSE Linux) 7.5.0 RHEL8 Kernel: Depends on container host Compiler: gcc 8.5.0 20210514 (Red Hat 8.5.0-22) Fedora 41 Kernel: Depends on container host Compiler: gcc 14.2.1 20240912 (Red Hat 14.2.1-3) RHEL9 Kernel: Depends on container host Compiler: gcc 11.5.0 20240719 (Red Hat 11.5.0-2) Ubuntu 22.04 Kernel: Depends on container host Compiler: gcc (Ubuntu 11.4.0-1ubuntu1~22.04) 11.4.0 Ubuntu 24.04 Kernel: Depends on container host Compiler: gcc (Ubuntu 13.3.0-6ubuntu2~24.04) 13.3.0 To view detailed results, visit: https://lab.dpdk.org/results/dashboard/patchsets/32494/ UNH-IOL DPDK Community Lab To manage your email subscriptions, visit: https://lab.dpdk.org/results/dashboard/preferences/subscriptions/