From mboxrd@z Thu Jan 1 00:00:00 1970 Return-Path: Received: from mails.dpdk.org (mails.dpdk.org [217.70.189.124]) by inbox.dpdk.org (Postfix) with ESMTP id 3FF2846193 for ; Wed, 5 Feb 2025 02:21:13 +0100 (CET) Received: from mails.dpdk.org (localhost [127.0.0.1]) by mails.dpdk.org (Postfix) with ESMTP id 3B7414021E; Wed, 5 Feb 2025 02:21:13 +0100 (CET) Received: from mail-pl1-f227.google.com (mail-pl1-f227.google.com [209.85.214.227]) by mails.dpdk.org (Postfix) with ESMTP id 293B4400EF for ; Wed, 5 Feb 2025 02:21:11 +0100 (CET) Received: by mail-pl1-f227.google.com with SMTP id d9443c01a7336-21f0b5d6c6eso4845985ad.0 for ; Tue, 04 Feb 2025 17:21:11 -0800 (PST) DKIM-Signature: v=1; a=rsa-sha256; c=relaxed/relaxed; d=iol.unh.edu; s=unh-iol; t=1738718470; x=1739323270; darn=dpdk.org; h=references:in-reply-to:cc:to:from:subject:message-id:date:from:to :cc:subject:date:message-id:reply-to; bh=btGoBFdxbHUMBHashG1vgS+c4Lrpi2VBP+uNDOKq1OA=; b=PFWy9RnGnq1hFZS9lrpEgItI9uLn8bHHdtHGeEOr/OUI4l6jppmpHpAFZZgtU4mZ5b 7XRh7i90WhNlRu/nRkgsmL0twZ5d4GS8hEvCE98rEnyFLLIxo6zY25Tus1Tia6QhtTpL vXvddjthopy/xrsss+3/Y5l3GOEiGjE3/lSLw= X-Google-DKIM-Signature: v=1; a=rsa-sha256; c=relaxed/relaxed; d=1e100.net; s=20230601; t=1738718470; x=1739323270; h=references:in-reply-to:cc:to:from:subject:message-id:date :x-gm-message-state:from:to:cc:subject:date:message-id:reply-to; bh=btGoBFdxbHUMBHashG1vgS+c4Lrpi2VBP+uNDOKq1OA=; b=XW2GMoKjWdqK2ynhBSIyZHhlrk0iiKtdD7rM3CwWZw6RTzaP9FL63hEPgJ5B0ae0PO rOW/Q571aiyDrNK7G+rX8EbbhC7jnFljRHaqBKo5lOpjp0OxMS6ZDgUQB4nVUsy5VuwU RPUKk4AbNszQ7FRVNS+nwDctloAHwgPf8mY4pDS2WTj1lWakUMvKLy8ieZSKhAIlodhQ Pv8hyV35wJPfUTroPDcg7G62QnKt/6W3RuYP0PKKbA0iy+9CQIE2CTwJepCIqPiP+tNo 452JyI1MimDQ5cOgYw1N458+UnAIlyvaSZ9wg752FU1vOMbSUbWzDfAZ8CrBkQOr+GOa X5RQ== X-Gm-Message-State: AOJu0Yx2Es/hRMDEOFviIt2LhHRw2ZeAVkmNH1hbkVmppfOK4gbUV7ka 3sVtokWzeS5zlrY5In9ZVj+/vicbinaeYcIx4WDAPPx1sJ/592zShcowOQZTxUP1081ySiz0WIE CAkmwF3X6P+0dRaEfgn/CDZMPVMgFasyFPowB8cK3 X-Gm-Gg: ASbGnctkvNiS4Tm9d+weroSmVAp6UdVdIujfYoa7+O4Q5eGMU4kvP8RaKLgyWYx2/Tc olOaQWQV3XxEjljCXn8a0FD2r0d3YJX/xCRTKndsNKI2w/VpZV8n1mvkQTUZl3wq0074QKrJFH0 JinA1sWZXSUfUtvRGzbV48060oiSsu0lZqYeH6pFC47Swirsue4lZIuFS6wGVdjDI3d5sH3Q5qB HDyqXDOZOIkcvyojjXApuKSSLhRLELdhTPgOEzHMa++1AJUPMM5F87orsY16F9ZRzuU/8oNfjwZ oPyED3UhzhVhlqXqQCA9/diH/qvlew== X-Google-Smtp-Source: AGHT+IHp9EodixtPU9M9z/WFup03qZZSlo61rvIVTIjPu6poRaKPlv5JsOVCJXCnVGB7MFsivA3utpnHT2vV X-Received: by 2002:a17:903:2983:b0:215:758c:52ea with SMTP id d9443c01a7336-21f17a64cc5mr17760965ad.9.1738718470209; Tue, 04 Feb 2025 17:21:10 -0800 (PST) Received: from postal.iol.unh.edu (postal.iol.unh.edu. [132.177.123.84]) by smtp-relay.gmail.com with ESMTPS id d9443c01a7336-21de326bf11sm5669275ad.53.2025.02.04.17.21.10 (version=TLS1_2 cipher=ECDHE-ECDSA-AES128-GCM-SHA256 bits=128/128); Tue, 04 Feb 2025 17:21:10 -0800 (PST) X-Relaying-Domain: iol.unh.edu Date: Tue, 04 Feb 2025 17:21:10 -0800 (PST) Message-ID: <67a2bd06.170a0220.310144.9ab7SMTPIN_ADDED_MISSING@mx.google.com> Received: from [172.21.0.5] (unknown [172.18.0.240]) by postal.iol.unh.edu (Postfix) with ESMTP id 4A3346052471; Tue, 4 Feb 2025 20:21:09 -0500 (EST) Subject: |WARNING| pw150805-150806 [PATCH] [v2,2/2] dts: rework run-time MTU From: dpdklab@iol.unh.edu To: Test Report Cc: dpdk-test-reports@iol.unh.edu In-Reply-To: <20250203163850.249461-3-npratte@iol.unh.edu> References: <20250203163850.249461-3-npratte@iol.unh.edu> Content-Type: text/plain X-BeenThere: test-report@dpdk.org X-Mailman-Version: 2.1.29 Precedence: list List-Id: automatic DPDK test reports List-Unsubscribe: , List-Archive: List-Post: List-Help: List-Subscribe: , Errors-To: test-report-bounces@dpdk.org Test-Label: iol-compile-amd64-testing Test-Status: WARNING http://dpdk.org/patch/150806 _Testing issues_ Submitter: Nicholas Pratte Date: Monday, February 03 2025 16:38:50 DPDK git baseline: Repo:dpdk Branch: master CommitID:75fb46c7ade4a7efaaa02743c4aa450f75ba9468 150805-150806 --> testing issues Upstream job id: Windows-Compile-DPDK-Native#26311 Test environment and result as below: +---------------------+--------------------+------------------+-------------------+-------------------+----------------------+-------------------------+ | Environment | dpdk_meson_compile | dpdk_compile_ovs | dpdk_compile_spdk | dpdk_msvc_compile | dpdk_mingw64_compile | dpdk_llvm_clang_compile | +=====================+====================+==================+===================+===================+======================+=========================+ | CentOS Stream 9 | PASS | PASS | PASS | SKIPPED | SKIPPED | SKIPPED | +---------------------+--------------------+------------------+-------------------+-------------------+----------------------+-------------------------+ | Fedora 40 | PASS | PASS | PASS | SKIPPED | SKIPPED | SKIPPED | +---------------------+--------------------+------------------+-------------------+-------------------+----------------------+-------------------------+ | Debian 12 | PASS | PASS | PASS | SKIPPED | SKIPPED | SKIPPED | +---------------------+--------------------+------------------+-------------------+-------------------+----------------------+-------------------------+ | Fedora 40 (Clang) | PASS | PASS | PASS | SKIPPED | SKIPPED | SKIPPED | +---------------------+--------------------+------------------+-------------------+-------------------+----------------------+-------------------------+ | Fedora 41 | PASS | PASS | PASS | SKIPPED | SKIPPED | SKIPPED | +---------------------+--------------------+------------------+-------------------+-------------------+----------------------+-------------------------+ | Fedora 41 (Clang) | PASS | PASS | PASS | SKIPPED | SKIPPED | SKIPPED | +---------------------+--------------------+------------------+-------------------+-------------------+----------------------+-------------------------+ | Ubuntu 22.04 | PASS | PASS | PASS | SKIPPED | SKIPPED | SKIPPED | +---------------------+--------------------+------------------+-------------------+-------------------+----------------------+-------------------------+ | RHEL8 | PASS | PASS | SKIPPED | SKIPPED | SKIPPED | SKIPPED | +---------------------+--------------------+------------------+-------------------+-------------------+----------------------+-------------------------+ | RHEL9 | PASS | PASS | SKIPPED | SKIPPED | SKIPPED | SKIPPED | +---------------------+--------------------+------------------+-------------------+-------------------+----------------------+-------------------------+ | openSUSE Leap 15 | PASS | SKIPPED | SKIPPED | SKIPPED | SKIPPED | SKIPPED | +---------------------+--------------------+------------------+-------------------+-------------------+----------------------+-------------------------+ | Ubuntu 20.04 | PASS | WARN | SKIPPED | SKIPPED | SKIPPED | SKIPPED | +---------------------+--------------------+------------------+-------------------+-------------------+----------------------+-------------------------+ | Ubuntu 24.04 | PASS | PASS | PASS | SKIPPED | SKIPPED | SKIPPED | +---------------------+--------------------+------------------+-------------------+-------------------+----------------------+-------------------------+ | Alpine | PASS | PASS | SKIPPED | SKIPPED | SKIPPED | SKIPPED | +---------------------+--------------------+------------------+-------------------+-------------------+----------------------+-------------------------+ | FreeBSD 13.4 | PASS | SKIPPED | SKIPPED | SKIPPED | SKIPPED | SKIPPED | +---------------------+--------------------+------------------+-------------------+-------------------+----------------------+-------------------------+ | FreeBSD 14.2 | PASS | SKIPPED | SKIPPED | SKIPPED | SKIPPED | SKIPPED | +---------------------+--------------------+------------------+-------------------+-------------------+----------------------+-------------------------+ | Debian Bullseye | PASS | PASS | PASS | SKIPPED | SKIPPED | SKIPPED | +---------------------+--------------------+------------------+-------------------+-------------------+----------------------+-------------------------+ | Windows Server 2022 | SKIPPED | SKIPPED | SKIPPED | PASS | PASS | PASS | +---------------------+--------------------+------------------+-------------------+-------------------+----------------------+-------------------------+ ==== 20 line log output for Ubuntu 20.04 (dpdk_compile_ovs): ==== --- Failed to get log output --- ==== End log output ==== CentOS Stream 9 Kernel: Depends on container host Compiler: gcc 11.5.0 20240719 (Red Hat 11.5.0-2) Fedora 40 Kernel: Depends on container host Compiler: gcc 14.2.1 20240912 (Red Hat 14.2.1-3) Debian 12 Kernel: Depends on container host Compiler: gcc (Debian 12.2.0-14) 12.2.0 Fedora 40 (Clang) Kernel: Depends on container host Compiler: clang 18.1.8 (Fedora 18.1.8-1.fc40) Fedora 41 Kernel: Depends on container host Compiler: gcc 14.2.1 20240912 (Red Hat 14.2.1-3) Fedora 41 (Clang) Kernel: Depends on container host Compiler: clang 19.1.5 (Fedora 19.1.5-1.fc41) Ubuntu 22.04 Kernel: Depends on container host Compiler: gcc (Ubuntu 11.4.0-1ubuntu1~22.04) 11.4.0 RHEL8 Kernel: Depends on container host Compiler: gcc 8.5.0 20210514 (Red Hat 8.5.0-22) RHEL9 Kernel: Depends on container host Compiler: gcc 11.5.0 20240719 (Red Hat 11.5.0-2) openSUSE Leap 15 Kernel: Depends on container host Compiler: gcc (SUSE Linux) 7.5.0 Ubuntu 20.04 Kernel: Depends on container host Compiler: gcc (Ubuntu 9.4.0-1ubuntu1~20.04.2) 9.4.0 Ubuntu 24.04 Kernel: Depends on container host Compiler: gcc (Ubuntu 13.3.0-6ubuntu2~24.04) 13.3.0 Alpine Kernel: Depends on container host Compiler: gcc (Alpine 14.2.0) 14.2.0 FreeBSD 13.4 Kernel: 13.4-RELEASE-p1 Compiler: clang 18.1.6 FreeBSD 14.2 Kernel: 14.2-RELEASE Compiler: clang 18.1.6 Debian Bullseye Kernel: Depends on container host Compiler: gcc (Debian 10.2.1-6) 10.2.1 20210110 Windows Server 2022 Kernel: 10.0.20348.2031 Compiler: clang 15.0.7, gcc 14.1.0 (MinGW), and MSVC VS 19.39.33521 To view detailed results, visit: https://lab.dpdk.org/results/dashboard/patchsets/32483/ UNH-IOL DPDK Community Lab To manage your email subscriptions, visit: https://lab.dpdk.org/results/dashboard/preferences/subscriptions/