From mboxrd@z Thu Jan 1 00:00:00 1970 Return-Path: Received: from mails.dpdk.org (mails.dpdk.org [217.70.189.124]) by inbox.dpdk.org (Postfix) with ESMTP id 7460546193 for ; Wed, 5 Feb 2025 02:22:39 +0100 (CET) Received: from mails.dpdk.org (localhost [127.0.0.1]) by mails.dpdk.org (Postfix) with ESMTP id 6C85A4021E; Wed, 5 Feb 2025 02:22:39 +0100 (CET) Received: from mail-yw1-f227.google.com (mail-yw1-f227.google.com [209.85.128.227]) by mails.dpdk.org (Postfix) with ESMTP id 03285400EF for ; Wed, 5 Feb 2025 02:22:38 +0100 (CET) Received: by mail-yw1-f227.google.com with SMTP id 00721157ae682-6f74b78df93so45710047b3.0 for ; Tue, 04 Feb 2025 17:22:37 -0800 (PST) DKIM-Signature: v=1; a=rsa-sha256; c=relaxed/relaxed; d=iol.unh.edu; s=unh-iol; t=1738718557; x=1739323357; darn=dpdk.org; h=references:in-reply-to:cc:to:from:subject:message-id:date:from:to :cc:subject:date:message-id:reply-to; bh=BWRT9sPJ8gpX1pnTf3/6Dw6zUdS2v7rBJKHzf1xbSQo=; b=J8qMoV7+Ad+Rzp6H6Jbrd7TOtBXHACbNi4vG22zrDxJ1PtIw3EYU8erndmJBjho2GO idaoQlYI4T1l8CNvyiu3laxsaoRQX59JtTKNGekVEr5cx1pokaahHtq26hwPS1Ag37R0 JCKxqb5lQEQU9GO/wh3SwgleqUvh+W5FcxNUE= X-Google-DKIM-Signature: v=1; a=rsa-sha256; c=relaxed/relaxed; d=1e100.net; s=20230601; t=1738718557; x=1739323357; h=references:in-reply-to:cc:to:from:subject:message-id:date :x-gm-message-state:from:to:cc:subject:date:message-id:reply-to; bh=BWRT9sPJ8gpX1pnTf3/6Dw6zUdS2v7rBJKHzf1xbSQo=; b=ROPBGM6nPOsJLldwPHB71ZqZ5tKFDu8XMvDkhferBSHs8qB5s2Bnx7jaqrgwZHRkyO TbxpR+Flqw+g8CCggiZnZMfxHAjowP2z12+hZJhzcbKzsQsFdcOxloy8KM95L+lFlxxS 6o7a8jMDVamEtQ1MDtH1O6Gm+5D0OzF0QNhCgzsi5c4nq0ndrx6HrpLIsucdPwc5jvMM /HrbbC7zu8PMFb/ykmFaxo4UBupa0KJX2t3srSVw3KLLOByhlY1eJ9QLu5GhGaPEbZ1O yn0qiqtLb8T4DznI6nax5vsplTMEwN4jYBdxEKBvGEN3ZX7myUxt1ykh/hodOTH6/hFt c1Jg== X-Gm-Message-State: AOJu0Yys8AyspWOieE6ytC9eI84Wf/nAZV/fujS0Fh5c5lTmFp9zRHHl eWty5Rk8jrxlG92Se+RgjeEtyBwxz5O7g4bysnTLfdHCCrEMqiRSpH6W4G7gO6mPal5ejAJWHAY wf7hP9qaENiKD2OOUyE3eFLgtq+RpohStChE8qQXF X-Gm-Gg: ASbGncuwlieW97dxTxg2mL02cIXdo3fBb1MpsjSzG9ADuSatrClmrmId+DpSIhUz8FB x3FF/ChLf+c+R/sA49YZLqCWN6us6XngSsCOMJalThXmbL32cdL6UQSqi/Hs9rdi8DugxwtoFXi iHYZGZTlgrJoe3rAhl5xzdFnF28mgbMsah5xHndfuFin2vgbIlW1tLsnR2GTPlG3vxehFeWG0N/ rq6gpEkVnaguuipNM5+tB7eqOLzIE68ObSyf3tLVtgRly7U11WgiHPt5SzdGevjSCVQE8ytAtVG zHpx9HdeKvOs0zkTJ4QpuXtKQPtG6w== X-Google-Smtp-Source: AGHT+IETjZZcO8rreKUWU7lLbgooTDjcELQ2mdviuQK6paTh37NKOqLGuXDnHSaAY+UsLk8N3R9dyFLacA7g X-Received: by 2002:a05:690c:6088:b0:6ef:4fba:8137 with SMTP id 00721157ae682-6f989e3b159mr11650837b3.6.1738718557145; Tue, 04 Feb 2025 17:22:37 -0800 (PST) Received: from postal.iol.unh.edu (postal.iol.unh.edu. [132.177.123.84]) by smtp-relay.gmail.com with ESMTPS id 00721157ae682-6f975987ffdsm1379267b3.58.2025.02.04.17.22.37 (version=TLS1_2 cipher=ECDHE-ECDSA-AES128-GCM-SHA256 bits=128/128); Tue, 04 Feb 2025 17:22:37 -0800 (PST) X-Relaying-Domain: iol.unh.edu Date: Tue, 04 Feb 2025 17:22:37 -0800 (PST) Message-ID: <67a2bd5d.050a0220.78643.6b4fSMTPIN_ADDED_MISSING@mx.google.com> Received: from [172.21.0.5] (unknown [172.18.0.240]) by postal.iol.unh.edu (Postfix) with ESMTP id C49546052471; Tue, 4 Feb 2025 20:22:36 -0500 (EST) Subject: |SUCCESS| pw150865 [PATCH] [RFC] ci: Add support for Cirrus-CI servi From: dpdklab@iol.unh.edu To: Test Report Cc: dpdk-test-reports@iol.unh.edu In-Reply-To: <20250204160739.1603197-1-aconole@redhat.com> References: <20250204160739.1603197-1-aconole@redhat.com> Content-Type: text/plain X-BeenThere: test-report@dpdk.org X-Mailman-Version: 2.1.29 Precedence: list List-Id: automatic DPDK test reports List-Unsubscribe: , List-Archive: List-Post: List-Help: List-Subscribe: , Errors-To: test-report-bounces@dpdk.org Test-Label: iol-unit-arm64-testing Test-Status: SUCCESS http://dpdk.org/patch/150865 _Testing PASS_ Submitter: Aaron Conole Date: Tuesday, February 04 2025 16:07:39 DPDK git baseline: Repo:dpdk Branch: master CommitID:dc4ce7c2538b713e16887eb598da309bc7b4d528 150865 --> testing pass Upstream job id: Generic-Unit-Test-DPDK#311535 Test environment and result as below: +--------------------------+----------------+------------------------------+---------------------------+--------------+ | Environment | dpdk_unit_test | cryptodev_sw_snow3g_autotest | cryptodev_sw_zuc_autotest | lpm_autotest | +==========================+================+==============================+===========================+==============+ | CentOS Stream 9 (ARM) | PASS | SKIPPED | SKIPPED | SKIPPED | +--------------------------+----------------+------------------------------+---------------------------+--------------+ | Debian 11 (Buster) (ARM) | PASS | SKIPPED | SKIPPED | SKIPPED | +--------------------------+----------------+------------------------------+---------------------------+--------------+ | Fedora 40 (ARM Clang) | PASS | SKIPPED | SKIPPED | SKIPPED | +--------------------------+----------------+------------------------------+---------------------------+--------------+ | Fedora 41 (ARM) | PASS | SKIPPED | SKIPPED | SKIPPED | +--------------------------+----------------+------------------------------+---------------------------+--------------+ | Fedora 40 (ARM) | PASS | SKIPPED | SKIPPED | SKIPPED | +--------------------------+----------------+------------------------------+---------------------------+--------------+ | RHEL9 (ARM) | PASS | SKIPPED | SKIPPED | SKIPPED | +--------------------------+----------------+------------------------------+---------------------------+--------------+ | Fedora 41 (ARM Clang) | PASS | SKIPPED | SKIPPED | SKIPPED | +--------------------------+----------------+------------------------------+---------------------------+--------------+ | Debian 12 (arm) | PASS | PASS | PASS | SKIPPED | +--------------------------+----------------+------------------------------+---------------------------+--------------+ | Ubuntu 24.04 (ARM) | PASS | SKIPPED | SKIPPED | SKIPPED | +--------------------------+----------------+------------------------------+---------------------------+--------------+ | Ubuntu 22.04 (ARM) | PASS | SKIPPED | SKIPPED | SKIPPED | +--------------------------+----------------+------------------------------+---------------------------+--------------+ | Ubuntu 20.04 (ARM) | PASS | SKIPPED | SKIPPED | SKIPPED | +--------------------------+----------------+------------------------------+---------------------------+--------------+ | Ubuntu 20.04 ARM SVE | SKIPPED | SKIPPED | SKIPPED | PASS | +--------------------------+----------------+------------------------------+---------------------------+--------------+ CentOS Stream 9 (ARM) Kernel: Depends on container host Compiler: gcc 11.5.0 20240719 (Red Hat 11.5.0-2) Debian 11 (Buster) (ARM) Kernel: Depends on container host Compiler: gcc (Debian 10.2.1-6) 10.2.1 20210110 Fedora 40 (ARM Clang) Kernel: Depends on container host Compiler: clang 18.1.8 (Fedora 18.1.8-1.fc40) Fedora 41 (ARM) Kernel: Depends on container host Compiler: gcc 14.2.1 20240912 (Red Hat 14.2.1-3) Fedora 40 (ARM) Kernel: Depends on container host Compiler: gcc 14.2.1 20240912 (Red Hat 14.2.1-3) RHEL9 (ARM) Kernel: Depends on container host Compiler: gcc 11.5.0 20240719 (Red Hat 11.5.0-2) Fedora 41 (ARM Clang) Kernel: Depends on container host Compiler: clang 19.1.5 (Fedora 19.1.5-1.fc41) Debian 12 (arm) Kernel: Depends on container host Compiler: gcc (Debian 12.2.0-14) 12.2.0 Ubuntu 24.04 (ARM) Kernel: Depends on container host Compiler: gcc (Ubuntu 13.3.0-6ubuntu2~24.04) 13.3.0 Ubuntu 22.04 (ARM) Kernel: Depends on container host Compiler: gcc (Ubuntu 11.4.0-1ubuntu1~22.04) 11.4.0 Ubuntu 20.04 (ARM) Kernel: Depends on container host Compiler: gcc (Ubuntu 9.4.0-1ubuntu1~20.04.2) 9.4.0 Ubuntu 20.04 ARM SVE Kernel: Depends on container host Compiler: gcc (Ubuntu 10.5.0-1ubuntu1~20.04) 10.5.0 To view detailed results, visit: https://lab.dpdk.org/results/dashboard/patchsets/32488/ UNH-IOL DPDK Community Lab To manage your email subscriptions, visit: https://lab.dpdk.org/results/dashboard/preferences/subscriptions/