From mboxrd@z Thu Jan 1 00:00:00 1970 Return-Path: Received: from mails.dpdk.org (mails.dpdk.org [217.70.189.124]) by inbox.dpdk.org (Postfix) with ESMTP id 10F2A46193 for ; Wed, 5 Feb 2025 02:26:33 +0100 (CET) Received: from mails.dpdk.org (localhost [127.0.0.1]) by mails.dpdk.org (Postfix) with ESMTP id D2AB24021E; Wed, 5 Feb 2025 02:26:32 +0100 (CET) Received: from mail-io1-f97.google.com (mail-io1-f97.google.com [209.85.166.97]) by mails.dpdk.org (Postfix) with ESMTP id 99D5F400EF for ; Wed, 5 Feb 2025 02:26:31 +0100 (CET) Received: by mail-io1-f97.google.com with SMTP id ca18e2360f4ac-844e7bc6d84so14226439f.0 for ; Tue, 04 Feb 2025 17:26:31 -0800 (PST) DKIM-Signature: v=1; a=rsa-sha256; c=relaxed/relaxed; d=iol.unh.edu; s=unh-iol; t=1738718791; x=1739323591; darn=dpdk.org; h=references:in-reply-to:cc:to:from:subject:message-id:date:from:to :cc:subject:date:message-id:reply-to; bh=5Y0EZSyEmxSij1dXAcRtALtmfQWS/mfEtVHeE7sPs8A=; b=BBKLI2xrfILGD1n7b4mwFvsrUC9q7nt3LotRQb4c/mTS4iXO9DLpR/3KqQr1U0QxO4 PMJ1ZbUlcyvP/hz9v52Phei91MGp4QCoAYlVsehU/2661MnNK+xLqqdqzB9kn3C+0f2G MlKDGl94CToCzIfyQFUQaf+O/GPhGsYlv+Al0= X-Google-DKIM-Signature: v=1; a=rsa-sha256; c=relaxed/relaxed; d=1e100.net; s=20230601; t=1738718791; x=1739323591; h=references:in-reply-to:cc:to:from:subject:message-id:date :x-gm-message-state:from:to:cc:subject:date:message-id:reply-to; bh=5Y0EZSyEmxSij1dXAcRtALtmfQWS/mfEtVHeE7sPs8A=; b=A2kmFUtOMdhbh7grFfwHu4gjCdPVCAPRiGBjWkwymx8uot1geCSekO62te+t04sUN7 0kBeS//dkQK4/lN5fROSy02I1J5RUopTvaoxDceaq0mYQKQbHkPJqbJMgYhFEyHb9+o8 W+mtvRjpYYqd3skiyWxN0KWT4dqBCtO0fGJKy+I0oXvasCgqKd1PEirnT8Rcs2q57+aM r+n9IGtpkePrIA0r0nPzQGV1TZXaqTQquwPXnEoXAkHvoOjUHT+BnwS6QD432kMO2RbJ 38kp4xpH6+DRbICJctXkk3hhp1d44GVXOhRjriVGvvWKcC9C0xhrSvSfV9zg2G4N6WDL B5Fw== X-Gm-Message-State: AOJu0YwW+ZCKSts8mK9pYnEUyfN62hMuYeKorJdNwaeT7zHZKRYGD0Ln JLyvW8/IaLzvKVacR7jvR6q3noyi6GJrwTGGD+/P0jaSO3c8Ovu0rPVwZSxkFpGCg6DbeA03iTL 4WCrqRDB+OGuR9Y20UcGO+SPoNu++4ToSgHFzC3n0Y+1oAGtm0YXQaWkw X-Gm-Gg: ASbGncvcK3FdmzFN6T8WAXzRvdGur1v/kutOw0OipEaciTPxeuIKubbpI4Lk/Nt2jZf wdHffg6D/4NhJ0wzxqL8v99AKiu2AF7Q0RGBMph7umDQ47rSUofouGQ28Q4V7kAtL5kldyEMptq gcr6voXcJrwGoaUuDhCnPPRuxWt2E7FCXNGGvesMMjp3qAnAqvqysKBYzMybNZo8ea74KNMeGH3 8CV5ISrYyqDgBke2FNBFNi2XC0R8JIXMNtomsJ6e+gYDcTkgtVdqlohH6EDcQ5YdWXnuw80ZLo7 m26uHDqXRYiP3htQtf4LKINQUcI5By2nPKHPpLVodg== X-Google-Smtp-Source: AGHT+IG92gyEfySm+muL7vPx353Ut/JC+zoQEc5THHWavkPyRzcekVwvRcnjVFUZrlP29oCXgF8TnTUXCXW4 X-Received: by 2002:a05:6602:36c5:b0:84a:5ded:b7c6 with SMTP id ca18e2360f4ac-854ea932490mr96647539f.5.1738718790903; Tue, 04 Feb 2025 17:26:30 -0800 (PST) Received: from postal.iol.unh.edu (postal.iol.unh.edu. [2606:4100:3880:1234::84]) by smtp-relay.gmail.com with ESMTPS id ca18e2360f4ac-854a15b93dbsm73315439f.3.2025.02.04.17.26.30 (version=TLS1_2 cipher=ECDHE-ECDSA-AES128-GCM-SHA256 bits=128/128); Tue, 04 Feb 2025 17:26:30 -0800 (PST) X-Relaying-Domain: iol.unh.edu Date: Tue, 04 Feb 2025 17:26:30 -0800 (PST) Message-ID: <67a2be46.050a0220.3036d4.308cSMTPIN_ADDED_MISSING@mx.google.com> Received: from [172.21.0.5] (unknown [172.18.0.240]) by postal.iol.unh.edu (Postfix) with ESMTP id 611CF6052471; Tue, 4 Feb 2025 20:26:30 -0500 (EST) Subject: |WARNING| pw150798-150804 [PATCH] [RFC,7/7] dts: revamp runtime inte From: dpdklab@iol.unh.edu To: Test Report Cc: dpdk-test-reports@iol.unh.edu In-Reply-To: <20250203151613.2436570-8-luca.vizzarro@arm.com> References: <20250203151613.2436570-8-luca.vizzarro@arm.com> Content-Type: text/plain X-BeenThere: test-report@dpdk.org X-Mailman-Version: 2.1.29 Precedence: list List-Id: automatic DPDK test reports List-Unsubscribe: , List-Archive: List-Post: List-Help: List-Subscribe: , Errors-To: test-report-bounces@dpdk.org Test-Label: iol-compile-amd64-testing Test-Status: WARNING http://dpdk.org/patch/150804 _Testing issues_ Submitter: Luca Vizzarro Date: Monday, February 03 2025 15:16:12 DPDK git baseline: Repo:dpdk Branch: master CommitID:75fb46c7ade4a7efaaa02743c4aa450f75ba9468 150798-150804 --> testing issues Upstream job id: Windows-Compile-DPDK-Native#26312 Test environment and result as below: +---------------------+--------------------+------------------+-------------------+-------------------+----------------------+-------------------------+ | Environment | dpdk_meson_compile | dpdk_compile_ovs | dpdk_compile_spdk | dpdk_msvc_compile | dpdk_mingw64_compile | dpdk_llvm_clang_compile | +=====================+====================+==================+===================+===================+======================+=========================+ | CentOS Stream 9 | PASS | PASS | PASS | SKIPPED | SKIPPED | SKIPPED | +---------------------+--------------------+------------------+-------------------+-------------------+----------------------+-------------------------+ | Debian Bullseye | PASS | PASS | PASS | SKIPPED | SKIPPED | SKIPPED | +---------------------+--------------------+------------------+-------------------+-------------------+----------------------+-------------------------+ | Debian 12 | PASS | PASS | PASS | SKIPPED | SKIPPED | SKIPPED | +---------------------+--------------------+------------------+-------------------+-------------------+----------------------+-------------------------+ | Fedora 40 | PASS | PASS | PASS | SKIPPED | SKIPPED | SKIPPED | +---------------------+--------------------+------------------+-------------------+-------------------+----------------------+-------------------------+ | Fedora 41 (Clang) | PASS | PASS | PASS | SKIPPED | SKIPPED | SKIPPED | +---------------------+--------------------+------------------+-------------------+-------------------+----------------------+-------------------------+ | Fedora 40 (Clang) | PASS | PASS | PASS | SKIPPED | SKIPPED | SKIPPED | +---------------------+--------------------+------------------+-------------------+-------------------+----------------------+-------------------------+ | Fedora 41 | PASS | PASS | PASS | SKIPPED | SKIPPED | SKIPPED | +---------------------+--------------------+------------------+-------------------+-------------------+----------------------+-------------------------+ | RHEL8 | PASS | PASS | SKIPPED | SKIPPED | SKIPPED | SKIPPED | +---------------------+--------------------+------------------+-------------------+-------------------+----------------------+-------------------------+ | RHEL9 | PASS | PASS | SKIPPED | SKIPPED | SKIPPED | SKIPPED | +---------------------+--------------------+------------------+-------------------+-------------------+----------------------+-------------------------+ | openSUSE Leap 15 | PASS | SKIPPED | SKIPPED | SKIPPED | SKIPPED | SKIPPED | +---------------------+--------------------+------------------+-------------------+-------------------+----------------------+-------------------------+ | Ubuntu 20.04 | PASS | WARN | SKIPPED | SKIPPED | SKIPPED | SKIPPED | +---------------------+--------------------+------------------+-------------------+-------------------+----------------------+-------------------------+ | Ubuntu 22.04 | PASS | PASS | PASS | SKIPPED | SKIPPED | SKIPPED | +---------------------+--------------------+------------------+-------------------+-------------------+----------------------+-------------------------+ | Ubuntu 24.04 | PASS | PASS | PASS | SKIPPED | SKIPPED | SKIPPED | +---------------------+--------------------+------------------+-------------------+-------------------+----------------------+-------------------------+ | Alpine | PASS | PASS | SKIPPED | SKIPPED | SKIPPED | SKIPPED | +---------------------+--------------------+------------------+-------------------+-------------------+----------------------+-------------------------+ | FreeBSD 13.4 | PASS | SKIPPED | SKIPPED | SKIPPED | SKIPPED | SKIPPED | +---------------------+--------------------+------------------+-------------------+-------------------+----------------------+-------------------------+ | FreeBSD 14.2 | PASS | SKIPPED | SKIPPED | SKIPPED | SKIPPED | SKIPPED | +---------------------+--------------------+------------------+-------------------+-------------------+----------------------+-------------------------+ | Windows Server 2022 | SKIPPED | SKIPPED | SKIPPED | PASS | PASS | PASS | +---------------------+--------------------+------------------+-------------------+-------------------+----------------------+-------------------------+ ==== 20 line log output for Ubuntu 20.04 (dpdk_compile_ovs): ==== --- Failed to get log output --- ==== End log output ==== CentOS Stream 9 Kernel: Depends on container host Compiler: gcc 11.5.0 20240719 (Red Hat 11.5.0-2) Debian Bullseye Kernel: Depends on container host Compiler: gcc (Debian 10.2.1-6) 10.2.1 20210110 Debian 12 Kernel: Depends on container host Compiler: gcc (Debian 12.2.0-14) 12.2.0 Fedora 40 Kernel: Depends on container host Compiler: gcc 14.2.1 20240912 (Red Hat 14.2.1-3) Fedora 41 (Clang) Kernel: Depends on container host Compiler: clang 19.1.5 (Fedora 19.1.5-1.fc41) Fedora 40 (Clang) Kernel: Depends on container host Compiler: clang 18.1.8 (Fedora 18.1.8-1.fc40) Fedora 41 Kernel: Depends on container host Compiler: gcc 14.2.1 20240912 (Red Hat 14.2.1-3) RHEL8 Kernel: Depends on container host Compiler: gcc 8.5.0 20210514 (Red Hat 8.5.0-22) RHEL9 Kernel: Depends on container host Compiler: gcc 11.5.0 20240719 (Red Hat 11.5.0-2) openSUSE Leap 15 Kernel: Depends on container host Compiler: gcc (SUSE Linux) 7.5.0 Ubuntu 20.04 Kernel: Depends on container host Compiler: gcc (Ubuntu 9.4.0-1ubuntu1~20.04.2) 9.4.0 Ubuntu 22.04 Kernel: Depends on container host Compiler: gcc (Ubuntu 11.4.0-1ubuntu1~22.04) 11.4.0 Ubuntu 24.04 Kernel: Depends on container host Compiler: gcc (Ubuntu 13.3.0-6ubuntu2~24.04) 13.3.0 Alpine Kernel: Depends on container host Compiler: gcc (Alpine 14.2.0) 14.2.0 FreeBSD 13.4 Kernel: 13.4-RELEASE-p1 Compiler: clang 18.1.6 FreeBSD 14.2 Kernel: 14.2-RELEASE Compiler: clang 18.1.6 Windows Server 2022 Kernel: 10.0.20348.2031 Compiler: clang 15.0.7, gcc 14.1.0 (MinGW), and MSVC VS 19.39.33521 To view detailed results, visit: https://lab.dpdk.org/results/dashboard/patchsets/32482/ UNH-IOL DPDK Community Lab To manage your email subscriptions, visit: https://lab.dpdk.org/results/dashboard/preferences/subscriptions/