From mboxrd@z Thu Jan 1 00:00:00 1970 Return-Path: Received: from mails.dpdk.org (mails.dpdk.org [217.70.189.124]) by inbox.dpdk.org (Postfix) with ESMTP id A17BD46193 for ; Wed, 5 Feb 2025 02:32:01 +0100 (CET) Received: from mails.dpdk.org (localhost [127.0.0.1]) by mails.dpdk.org (Postfix) with ESMTP id 7C58F4021E; Wed, 5 Feb 2025 02:32:01 +0100 (CET) Received: from mail-qv1-f100.google.com (mail-qv1-f100.google.com [209.85.219.100]) by mails.dpdk.org (Postfix) with ESMTP id 0B279400EF for ; Wed, 5 Feb 2025 02:32:01 +0100 (CET) Received: by mail-qv1-f100.google.com with SMTP id 6a1803df08f44-6e429a885f6so17221636d6.0 for ; Tue, 04 Feb 2025 17:32:00 -0800 (PST) DKIM-Signature: v=1; a=rsa-sha256; c=relaxed/relaxed; d=iol.unh.edu; s=unh-iol; t=1738719120; x=1739323920; darn=dpdk.org; h=references:in-reply-to:cc:to:from:subject:message-id:date:from:to :cc:subject:date:message-id:reply-to; bh=CFHKAh/MrUF/TTq3zjPXtTJglQYaaSr+EbyAgWZQUYE=; b=WQoPXOImAxdifGoqxbk+Kq2ILqNcqYDhWQzvZvj1bWfXyznRswBEMZpvjojhbFwtJZ +rPHgEqj9LnRfyI9zPPu21BlkgISyivhVQI4XCFjIsulLDfUJUpUHY2Inrtr+aK2qyjC 7YXk3Ep+JzGya3sBwZjUkT11/5M2WmDw4p4Ws= X-Google-DKIM-Signature: v=1; a=rsa-sha256; c=relaxed/relaxed; d=1e100.net; s=20230601; t=1738719120; x=1739323920; h=references:in-reply-to:cc:to:from:subject:message-id:date :x-gm-message-state:from:to:cc:subject:date:message-id:reply-to; bh=CFHKAh/MrUF/TTq3zjPXtTJglQYaaSr+EbyAgWZQUYE=; b=NQwWKepDJD7kdI9hpd9is2xS+FJmbyY6Fnj8h180RbfVBybx/m4wulq+bb/EVr5GLu 7G4QXrtuv/Oc9S9MJ/gTX5VTaO38C6DlKdUKKLY+aAt/W8uLafic1efGoCGNCQtIikf6 ZJ8FfnnhDeAffSbQUyLcof4SjaA+cwsM/IIHOWm3jgtAfvDDvvs/UD+/eVuZRuDzcmDI OgLyDJf6L8cwuzXDObCx5EdHgwLtypnFBog09CwWSUSBNrkij5lPoEkYZ2ZoVpt4JA1F O7ew8DKlyNrnp82Q5ozce5o8jzX5/0hp5Xzk+40Ujui2dD5If4zsDciOOCxoXUzhrOC3 PlKQ== X-Gm-Message-State: AOJu0Yzjq4nE6n+3hzsxAFmA4TU3cxQ44+njKcLoBdhc0o2ZKhOP5p4r oisoYMZUxOFMmgVJpg07vpb8aZPGnDsNLGFyg7Mbbdyz3bI3SkA75OpQav8o/Lq78eOT7oCGIem kuwWeqyOzxRrv5mWoASrg1h/TA7ZTzaOV9VxyStqR X-Gm-Gg: ASbGncuTr1RJ5U5OzkqoTeYgMnylnx41xXPdCCOcCNli/qX2eZjzSOjLfc5WqjJ3gKT HzVyeJGxuVPLtxZFt9fDVlvY1vttGfaWEz1rjNsetE3Y2vfPmcFfabdisDSgApggEHYZxkouKx4 NzejsT6Jzk445lyewIqAb44MyGG5uj7YLzndfhf3vcxiL39pVTv6b/Q2XA8yhJopvNHLhJsLEMu 3laD5jvRyOSxj9/p7ItA82p0sqQiTlLQ6oygENiaZACEYRR0RPEIN2bcYTfH1yu0xplu0o5lwQi IgJ2skZrRd2oV43db993u05n/uFUiA== X-Google-Smtp-Source: AGHT+IFxlGN17eTIiNPRhtcKZYshItplgUUux5fbMXFLM+5ZTS6evTaERhdCfOX6moWPTZEitrdGXfsVDrX+ X-Received: by 2002:a05:6214:3f8b:b0:6e1:85d5:9723 with SMTP id 6a1803df08f44-6e42fc36c01mr22054366d6.31.1738719120420; Tue, 04 Feb 2025 17:32:00 -0800 (PST) Received: from postal.iol.unh.edu (postal.iol.unh.edu. [132.177.123.84]) by smtp-relay.gmail.com with ESMTPS id 6a1803df08f44-6e42d6e3720sm774476d6.34.2025.02.04.17.32.00 (version=TLS1_2 cipher=ECDHE-ECDSA-AES128-GCM-SHA256 bits=128/128); Tue, 04 Feb 2025 17:32:00 -0800 (PST) X-Relaying-Domain: iol.unh.edu Date: Tue, 04 Feb 2025 17:32:00 -0800 (PST) Message-ID: <67a2bf90.050a0220.261007.4289SMTPIN_ADDED_MISSING@mx.google.com> Received: from [172.21.0.5] (unknown [172.18.0.240]) by postal.iol.unh.edu (Postfix) with ESMTP id 1ED946052471; Tue, 4 Feb 2025 20:32:00 -0500 (EST) Subject: |WARNING| pw150796-150797 [PATCH] [v5,2/2] common/idpf: enable AVX2 From: dpdklab@iol.unh.edu To: Test Report Cc: dpdk-test-reports@iol.unh.edu In-Reply-To: <20250203075508.1304702-3-shaiq.wani@intel.com> References: <20250203075508.1304702-3-shaiq.wani@intel.com> Content-Type: text/plain X-BeenThere: test-report@dpdk.org X-Mailman-Version: 2.1.29 Precedence: list List-Id: automatic DPDK test reports List-Unsubscribe: , List-Archive: List-Post: List-Help: List-Subscribe: , Errors-To: test-report-bounces@dpdk.org Test-Label: iol-compile-amd64-testing Test-Status: WARNING http://dpdk.org/patch/150797 _Testing issues_ Submitter: Shaiq Wani Date: Monday, February 03 2025 07:55:08 DPDK git baseline: Repo:dpdk Branch: master CommitID:abf3b7b7b361f8aa8d75ae00d449b588a0cdcda3 150796-150797 --> testing issues Upstream job id: Windows-Compile-DPDK-Native#26313 Test environment and result as below: +---------------------+--------------------+------------------+-------------------+-------------------+----------------------+-------------------------+ | Environment | dpdk_meson_compile | dpdk_compile_ovs | dpdk_compile_spdk | dpdk_msvc_compile | dpdk_mingw64_compile | dpdk_llvm_clang_compile | +=====================+====================+==================+===================+===================+======================+=========================+ | CentOS Stream 9 | PASS | PASS | PASS | SKIPPED | SKIPPED | SKIPPED | +---------------------+--------------------+------------------+-------------------+-------------------+----------------------+-------------------------+ | Debian 12 | PASS | PASS | PASS | SKIPPED | SKIPPED | SKIPPED | +---------------------+--------------------+------------------+-------------------+-------------------+----------------------+-------------------------+ | Debian Bullseye | PASS | PASS | PASS | SKIPPED | SKIPPED | SKIPPED | +---------------------+--------------------+------------------+-------------------+-------------------+----------------------+-------------------------+ | Fedora 41 (Clang) | PASS | PASS | PASS | SKIPPED | SKIPPED | SKIPPED | +---------------------+--------------------+------------------+-------------------+-------------------+----------------------+-------------------------+ | Fedora 40 | PASS | PASS | PASS | SKIPPED | SKIPPED | SKIPPED | +---------------------+--------------------+------------------+-------------------+-------------------+----------------------+-------------------------+ | Fedora 40 (Clang) | PASS | PASS | PASS | SKIPPED | SKIPPED | SKIPPED | +---------------------+--------------------+------------------+-------------------+-------------------+----------------------+-------------------------+ | RHEL9 | PASS | PASS | SKIPPED | SKIPPED | SKIPPED | SKIPPED | +---------------------+--------------------+------------------+-------------------+-------------------+----------------------+-------------------------+ | RHEL8 | PASS | PASS | SKIPPED | SKIPPED | SKIPPED | SKIPPED | +---------------------+--------------------+------------------+-------------------+-------------------+----------------------+-------------------------+ | openSUSE Leap 15 | PASS | SKIPPED | SKIPPED | SKIPPED | SKIPPED | SKIPPED | +---------------------+--------------------+------------------+-------------------+-------------------+----------------------+-------------------------+ | Ubuntu 20.04 | PASS | WARN | SKIPPED | SKIPPED | SKIPPED | SKIPPED | +---------------------+--------------------+------------------+-------------------+-------------------+----------------------+-------------------------+ | Ubuntu 22.04 | PASS | PASS | PASS | SKIPPED | SKIPPED | SKIPPED | +---------------------+--------------------+------------------+-------------------+-------------------+----------------------+-------------------------+ | Ubuntu 24.04 | PASS | PASS | PASS | SKIPPED | SKIPPED | SKIPPED | +---------------------+--------------------+------------------+-------------------+-------------------+----------------------+-------------------------+ | Alpine | PASS | PASS | SKIPPED | SKIPPED | SKIPPED | SKIPPED | +---------------------+--------------------+------------------+-------------------+-------------------+----------------------+-------------------------+ | FreeBSD 13.4 | PASS | SKIPPED | SKIPPED | SKIPPED | SKIPPED | SKIPPED | +---------------------+--------------------+------------------+-------------------+-------------------+----------------------+-------------------------+ | FreeBSD 14.2 | PASS | SKIPPED | SKIPPED | SKIPPED | SKIPPED | SKIPPED | +---------------------+--------------------+------------------+-------------------+-------------------+----------------------+-------------------------+ | Fedora 41 | PASS | PASS | PASS | SKIPPED | SKIPPED | SKIPPED | +---------------------+--------------------+------------------+-------------------+-------------------+----------------------+-------------------------+ | Windows Server 2022 | SKIPPED | SKIPPED | SKIPPED | PASS | PASS | PASS | +---------------------+--------------------+------------------+-------------------+-------------------+----------------------+-------------------------+ ==== 20 line log output for Ubuntu 20.04 (dpdk_compile_ovs): ==== --- Failed to get log output --- ==== End log output ==== CentOS Stream 9 Kernel: Depends on container host Compiler: gcc 11.5.0 20240719 (Red Hat 11.5.0-2) Debian 12 Kernel: Depends on container host Compiler: gcc (Debian 12.2.0-14) 12.2.0 Debian Bullseye Kernel: Depends on container host Compiler: gcc (Debian 10.2.1-6) 10.2.1 20210110 Fedora 41 (Clang) Kernel: Depends on container host Compiler: clang 19.1.5 (Fedora 19.1.5-1.fc41) Fedora 40 Kernel: Depends on container host Compiler: gcc 14.2.1 20240912 (Red Hat 14.2.1-3) Fedora 40 (Clang) Kernel: Depends on container host Compiler: clang 18.1.8 (Fedora 18.1.8-1.fc40) RHEL9 Kernel: Depends on container host Compiler: gcc 11.5.0 20240719 (Red Hat 11.5.0-2) RHEL8 Kernel: Depends on container host Compiler: gcc 8.5.0 20210514 (Red Hat 8.5.0-22) openSUSE Leap 15 Kernel: Depends on container host Compiler: gcc (SUSE Linux) 7.5.0 Ubuntu 20.04 Kernel: Depends on container host Compiler: gcc (Ubuntu 9.4.0-1ubuntu1~20.04.2) 9.4.0 Ubuntu 22.04 Kernel: Depends on container host Compiler: gcc (Ubuntu 11.4.0-1ubuntu1~22.04) 11.4.0 Ubuntu 24.04 Kernel: Depends on container host Compiler: gcc (Ubuntu 13.3.0-6ubuntu2~24.04) 13.3.0 Alpine Kernel: Depends on container host Compiler: gcc (Alpine 14.2.0) 14.2.0 FreeBSD 13.4 Kernel: 13.4-RELEASE-p1 Compiler: clang 18.1.6 FreeBSD 14.2 Kernel: 14.2-RELEASE Compiler: clang 18.1.6 Fedora 41 Kernel: Depends on container host Compiler: gcc 14.2.1 20240912 (Red Hat 14.2.1-3) Windows Server 2022 Kernel: 10.0.20348.2031 Compiler: clang 15.0.7, gcc 14.1.0 (MinGW), and MSVC VS 19.39.33521 To view detailed results, visit: https://lab.dpdk.org/results/dashboard/patchsets/32481/ UNH-IOL DPDK Community Lab To manage your email subscriptions, visit: https://lab.dpdk.org/results/dashboard/preferences/subscriptions/