From mboxrd@z Thu Jan 1 00:00:00 1970 Return-Path: Received: from mails.dpdk.org (mails.dpdk.org [217.70.189.124]) by inbox.dpdk.org (Postfix) with ESMTP id F328546193 for ; Wed, 5 Feb 2025 03:14:51 +0100 (CET) Received: from mails.dpdk.org (localhost [127.0.0.1]) by mails.dpdk.org (Postfix) with ESMTP id D2A9D4021E; Wed, 5 Feb 2025 03:14:51 +0100 (CET) Received: from mail-yw1-f226.google.com (mail-yw1-f226.google.com [209.85.128.226]) by mails.dpdk.org (Postfix) with ESMTP id 62E14400EF for ; Wed, 5 Feb 2025 03:14:50 +0100 (CET) Received: by mail-yw1-f226.google.com with SMTP id 00721157ae682-6efc58fae20so44730627b3.0 for ; Tue, 04 Feb 2025 18:14:50 -0800 (PST) DKIM-Signature: v=1; a=rsa-sha256; c=relaxed/relaxed; d=iol.unh.edu; s=unh-iol; t=1738721689; x=1739326489; darn=dpdk.org; h=references:in-reply-to:cc:to:from:subject:message-id:date:from:to :cc:subject:date:message-id:reply-to; bh=W4bVuUztkmGoDjOW8Ov2fxZ4SxvEL+F+T7m7XjutzWU=; b=FudkUc6WEttGNAoeNDmOIa6zwisqhDkWLbQQ9heTgFl+TUffv+MP0uz+FYo6qR1sYu fbuUFSwkXFkHWY71XV36DlMx5nBpVpRkVXG5XOJQVYtkwgCipZsACSd4/cpfXsqYQHj1 qIlAh2REaW+gXRXshH1V/h/s3Y5tC5P5WEnBI= X-Google-DKIM-Signature: v=1; a=rsa-sha256; c=relaxed/relaxed; d=1e100.net; s=20230601; t=1738721689; x=1739326489; h=references:in-reply-to:cc:to:from:subject:message-id:date :x-gm-message-state:from:to:cc:subject:date:message-id:reply-to; bh=W4bVuUztkmGoDjOW8Ov2fxZ4SxvEL+F+T7m7XjutzWU=; b=XgB9bi+QLPgtcbi60jjHgOCJ3yrsVy5CHBJqM+BzeGrtpDETIk42nP9ro8DAMh3wgT 5+mlXwwXm76Yb+BjxkLDkHXu2fZmad6JrKHJEUL+HXYdDhcUOIx+EZd9SgWwGWb8j3qY mezV/jv+cc6y+K6cOwia/up4x0ZaC1Be3cY8Wiy3dyNPXoeFVir6iSAy6dd5jYQU3SE3 zopmZi7gh9hkdEmvdw3Xq88IqC4p9h5yg+2dl2B0h1f2qnPH1v350snBOgE/dBYj/50X 9IKpJgKC2CafjlFj6OKp85CoAjeeaDMU7qvWkZN8E0IosQKIp9S94ZVHtNp/ZErUS+WP /7Sw== X-Gm-Message-State: AOJu0YyIH5NnOnowh8Q+hgflyyMJPmh9EoisJC8E+grRa+NTyZwHqb+B vpABDQ3E8xOM+JiW7vvZzJ36jzMQ7Exnoa4PatdzdlH687Z6El6EsFCQnJBJSr2iajUaZW8Y0K2 OSYujo/4oIG6b1y0rqqjiB1ZSTRN5NmrsMN+R3Uh3 X-Gm-Gg: ASbGnctMRrqu26MP9unVkxAltJFhD2qPalMYivtl6l6wOenH+9XXUNY/Xszagd4IplG VrsYYlfAjdd21n1ssQfjFk1wMV9J8COSGsayzpmGRtCS3updNwb1hmArxrhUjh3D4ejLNNcxYba l5K2oAWCt3lDnFKGDueRQNs2S+pG+0nJEBCIPXsO/TREOyN7AM9YUNFaP+xgAmcNhkFuhEgrmj6 t2rN3S6u0Tvy4sGOkEZ0pUNjBWosznGiBQ7lQpRs7r8q0by3vS2a+4DvWoG3zsbij3TFr8LR7uE P64/5KTk24eXte/17aMfv8trX+jA3A== X-Google-Smtp-Source: AGHT+IHrM3EouqpvaemDG7YSnxBUV6d/zBy/rCp9byMD2wdj7pn6LT4DywPfDwIEzsMy10eCTy84zdIhHAHz X-Received: by 2002:a05:690c:4493:b0:6f6:ce1f:de8b with SMTP id 00721157ae682-6f989f819b4mr9241787b3.24.1738721689751; Tue, 04 Feb 2025 18:14:49 -0800 (PST) Received: from postal.iol.unh.edu (postal.iol.unh.edu. [132.177.123.84]) by smtp-relay.gmail.com with ESMTPS id 3f1490d57ef6-e5acb2bd0cbsm754422276.18.2025.02.04.18.14.49 (version=TLS1_2 cipher=ECDHE-ECDSA-AES128-GCM-SHA256 bits=128/128); Tue, 04 Feb 2025 18:14:49 -0800 (PST) X-Relaying-Domain: iol.unh.edu Date: Tue, 04 Feb 2025 18:14:49 -0800 (PST) Message-ID: <67a2c999.250a0220.3881f5.3e25SMTPIN_ADDED_MISSING@mx.google.com> Received: from [172.21.0.5] (unknown [172.18.0.240]) by postal.iol.unh.edu (Postfix) with ESMTP id 486EC6052471; Tue, 4 Feb 2025 21:14:49 -0500 (EST) Subject: |WARNING| pw150765-150766 [PATCH] [v7,2/2] net/af_xdp: Refactor af_x From: dpdklab@iol.unh.edu To: Test Report Cc: dpdk-test-reports@iol.unh.edu In-Reply-To: <20250201100300.2194018-3-ariel.otilibili@6wind.com> References: <20250201100300.2194018-3-ariel.otilibili@6wind.com> Content-Type: text/plain X-BeenThere: test-report@dpdk.org X-Mailman-Version: 2.1.29 Precedence: list List-Id: automatic DPDK test reports List-Unsubscribe: , List-Archive: List-Post: List-Help: List-Subscribe: , Errors-To: test-report-bounces@dpdk.org Test-Label: iol-compile-amd64-testing Test-Status: WARNING http://dpdk.org/patch/150766 _Testing issues_ Submitter: Ariel Otilibili Date: Saturday, February 01 2025 10:03:00 DPDK git baseline: Repo:dpdk Branch: master CommitID:e290f8c00e068f06a37fbea251dfff2c78cb2aae 150765-150766 --> testing issues Upstream job id: Windows-Compile-DPDK-Native#26321 Test environment and result as below: +---------------------+--------------------+------------------+-------------------+-------------------+----------------------+-------------------------+ | Environment | dpdk_meson_compile | dpdk_compile_ovs | dpdk_compile_spdk | dpdk_msvc_compile | dpdk_mingw64_compile | dpdk_llvm_clang_compile | +=====================+====================+==================+===================+===================+======================+=========================+ | CentOS Stream 9 | PASS | PASS | PASS | SKIPPED | SKIPPED | SKIPPED | +---------------------+--------------------+------------------+-------------------+-------------------+----------------------+-------------------------+ | Debian Bullseye | PASS | PASS | PASS | SKIPPED | SKIPPED | SKIPPED | +---------------------+--------------------+------------------+-------------------+-------------------+----------------------+-------------------------+ | Debian 12 | PASS | PASS | PASS | SKIPPED | SKIPPED | SKIPPED | +---------------------+--------------------+------------------+-------------------+-------------------+----------------------+-------------------------+ | Fedora 40 (Clang) | PASS | PASS | PASS | SKIPPED | SKIPPED | SKIPPED | +---------------------+--------------------+------------------+-------------------+-------------------+----------------------+-------------------------+ | openSUSE Leap 15 | PASS | SKIPPED | SKIPPED | SKIPPED | SKIPPED | SKIPPED | +---------------------+--------------------+------------------+-------------------+-------------------+----------------------+-------------------------+ | Fedora 41 | PASS | PASS | PASS | SKIPPED | SKIPPED | SKIPPED | +---------------------+--------------------+------------------+-------------------+-------------------+----------------------+-------------------------+ | Fedora 40 | PASS | PASS | PASS | SKIPPED | SKIPPED | SKIPPED | +---------------------+--------------------+------------------+-------------------+-------------------+----------------------+-------------------------+ | Fedora 41 (Clang) | PASS | PASS | PASS | SKIPPED | SKIPPED | SKIPPED | +---------------------+--------------------+------------------+-------------------+-------------------+----------------------+-------------------------+ | RHEL8 | PASS | PASS | SKIPPED | SKIPPED | SKIPPED | SKIPPED | +---------------------+--------------------+------------------+-------------------+-------------------+----------------------+-------------------------+ | RHEL9 | PASS | PASS | SKIPPED | SKIPPED | SKIPPED | SKIPPED | +---------------------+--------------------+------------------+-------------------+-------------------+----------------------+-------------------------+ | Ubuntu 20.04 | PASS | WARN | SKIPPED | SKIPPED | SKIPPED | SKIPPED | +---------------------+--------------------+------------------+-------------------+-------------------+----------------------+-------------------------+ | Ubuntu 22.04 | PASS | PASS | PASS | SKIPPED | SKIPPED | SKIPPED | +---------------------+--------------------+------------------+-------------------+-------------------+----------------------+-------------------------+ | Ubuntu 24.04 | PASS | PASS | PASS | SKIPPED | SKIPPED | SKIPPED | +---------------------+--------------------+------------------+-------------------+-------------------+----------------------+-------------------------+ | Alpine | PASS | PASS | SKIPPED | SKIPPED | SKIPPED | SKIPPED | +---------------------+--------------------+------------------+-------------------+-------------------+----------------------+-------------------------+ | FreeBSD 13.4 | PASS | SKIPPED | SKIPPED | SKIPPED | SKIPPED | SKIPPED | +---------------------+--------------------+------------------+-------------------+-------------------+----------------------+-------------------------+ | FreeBSD 14.2 | PASS | SKIPPED | SKIPPED | SKIPPED | SKIPPED | SKIPPED | +---------------------+--------------------+------------------+-------------------+-------------------+----------------------+-------------------------+ | Windows Server 2022 | SKIPPED | SKIPPED | SKIPPED | PASS | PASS | PASS | +---------------------+--------------------+------------------+-------------------+-------------------+----------------------+-------------------------+ ==== 20 line log output for Ubuntu 20.04 (dpdk_compile_ovs): ==== --- Failed to get log output --- ==== End log output ==== CentOS Stream 9 Kernel: Depends on container host Compiler: gcc 11.5.0 20240719 (Red Hat 11.5.0-2) Debian Bullseye Kernel: Depends on container host Compiler: gcc (Debian 10.2.1-6) 10.2.1 20210110 Debian 12 Kernel: Depends on container host Compiler: gcc (Debian 12.2.0-14) 12.2.0 Fedora 40 (Clang) Kernel: Depends on container host Compiler: clang 18.1.8 (Fedora 18.1.8-1.fc40) openSUSE Leap 15 Kernel: Depends on container host Compiler: gcc (SUSE Linux) 7.5.0 Fedora 41 Kernel: Depends on container host Compiler: gcc 14.2.1 20240912 (Red Hat 14.2.1-3) Fedora 40 Kernel: Depends on container host Compiler: gcc 14.2.1 20240912 (Red Hat 14.2.1-3) Fedora 41 (Clang) Kernel: Depends on container host Compiler: clang 19.1.5 (Fedora 19.1.5-1.fc41) RHEL8 Kernel: Depends on container host Compiler: gcc 8.5.0 20210514 (Red Hat 8.5.0-22) RHEL9 Kernel: Depends on container host Compiler: gcc 11.5.0 20240719 (Red Hat 11.5.0-2) Ubuntu 20.04 Kernel: Depends on container host Compiler: gcc (Ubuntu 9.4.0-1ubuntu1~20.04.2) 9.4.0 Ubuntu 22.04 Kernel: Depends on container host Compiler: gcc (Ubuntu 11.4.0-1ubuntu1~22.04) 11.4.0 Ubuntu 24.04 Kernel: Depends on container host Compiler: gcc (Ubuntu 13.3.0-6ubuntu2~24.04) 13.3.0 Alpine Kernel: Depends on container host Compiler: gcc (Alpine 14.2.0) 14.2.0 FreeBSD 13.4 Kernel: 13.4-RELEASE-p1 Compiler: clang 18.1.6 FreeBSD 14.2 Kernel: 14.2-RELEASE Compiler: clang 18.1.6 Windows Server 2022 Kernel: 10.0.20348.2031 Compiler: clang 15.0.7, gcc 14.1.0 (MinGW), and MSVC VS 19.39.33521 To view detailed results, visit: https://lab.dpdk.org/results/dashboard/patchsets/32478/ UNH-IOL DPDK Community Lab To manage your email subscriptions, visit: https://lab.dpdk.org/results/dashboard/preferences/subscriptions/