From mboxrd@z Thu Jan 1 00:00:00 1970 Return-Path: Received: from mails.dpdk.org (mails.dpdk.org [217.70.189.124]) by inbox.dpdk.org (Postfix) with ESMTP id 0F4B046193 for ; Wed, 5 Feb 2025 03:39:00 +0100 (CET) Received: from mails.dpdk.org (localhost [127.0.0.1]) by mails.dpdk.org (Postfix) with ESMTP id 09AF44021E; Wed, 5 Feb 2025 03:39:00 +0100 (CET) Received: from mail-pl1-f226.google.com (mail-pl1-f226.google.com [209.85.214.226]) by mails.dpdk.org (Postfix) with ESMTP id 419EC400EF for ; Wed, 5 Feb 2025 03:38:59 +0100 (CET) Received: by mail-pl1-f226.google.com with SMTP id d9443c01a7336-2163dc5155fso110690675ad.0 for ; Tue, 04 Feb 2025 18:38:59 -0800 (PST) DKIM-Signature: v=1; a=rsa-sha256; c=relaxed/relaxed; d=iol.unh.edu; s=unh-iol; t=1738723138; x=1739327938; darn=dpdk.org; h=references:in-reply-to:cc:to:from:subject:message-id:date:from:to :cc:subject:date:message-id:reply-to; bh=wvFuslzPLzxxYRzCJU1VLeFOl8P7ynhHrNCvaohe1C0=; b=KyR3985Be2bBUaBQjmrMyZG5ACoWGRX4QG6UdVqmtB8/cUSTv/Bjq4frNlIlqTf6WH /1akrfBZ+D94MvE9YGLICwOqVM12wBljzg4JR9rkm8n25xv/K9y2PAI2RTXZ+zwrjSjR OJg+bKW/UCUz6p4ZrwekpBP3sHCxis+xxiKds= X-Google-DKIM-Signature: v=1; a=rsa-sha256; c=relaxed/relaxed; d=1e100.net; s=20230601; t=1738723138; x=1739327938; h=references:in-reply-to:cc:to:from:subject:message-id:date :x-gm-message-state:from:to:cc:subject:date:message-id:reply-to; bh=wvFuslzPLzxxYRzCJU1VLeFOl8P7ynhHrNCvaohe1C0=; b=qcU1tJ3/TrOuJE0OqyxD5SO8w0xBqBhJI7p/Gcx8m6iygEKxFBkL98WF1Ixz2n0/Vd 78CR9l/q51O/3/Hb6durbQ0DZHxFlZ2RGEnXvwFfeIyO7Pdr9cYriUCTytC8GHo1JIMK S+07Z2eu4uFSWI6fyLT2hgM2uWKZPhtLPbX3yKrCitBn4V6JgZ1u/tqrDW6ePMI3OUCI TaIAAnICbLkr/mq5BcJuzeRv48BzYc4ix/qnOyICHnrJNDI2YZSNArpgnGNDDljWAEIZ I/iVsLliLknKcAIvhlWC/lHk/wuuBFEFa6mmVFgbSVoHAEob84fgQSElKtYTEDToANrY TLyg== X-Gm-Message-State: AOJu0YwMzUXy9fTbaDwSgVAL8bF1gFFx05L76hpDGVrQ1pL+zJH0Hl3V rVxZ43N6/FPQk0kCSYj7wwOL2FS2JRuzMvB9qgTmEw+rmSAgWluD9V6g6qMwxYNc7XNVy7hknaq uRL5iCV6VNhENkuA7eAh8x7qcszFYZUAc4LE7QQMo7qTz1KM2bj11r/yf X-Gm-Gg: ASbGncuoREhluoimEG9OAwM5y/mN9o5kTPNtn0nyN9AszFYSZE1gxfn7+loG/y1cV0n kvZ3XKWirQdMBHHeQkQJ9+1mMG11A9GaKjBOnlqkGj4bR/ysKVu38tOdhHN79uCqLkF7ANO6Rig XzPEBHDKfD+yfpR4CXnqGXbtnIl/C/Dwjrr15q80bgjlzXlgeo2oO/7St/TVGWnhVHt9AWIO81P XVDc1ddzAq9DgQuc8ZaSLwyUlgHtGvjOV4yAoHmkqZrBuAmCjRsolREks5C9ry7ETlbUe+yfdSv qV3SM8CaeuqE7GoEZKamimcILgQDh+ARtktJSVyORA== X-Google-Smtp-Source: AGHT+IFoXPzI2uxYQqzMAIzSrDR993tX8w2CJQO6B+3h+uQ3Off3KLIks8+4AJUZm2kTbNFBOHUIqhXCk/QM X-Received: by 2002:a17:902:cccd:b0:21f:33:ad2 with SMTP id d9443c01a7336-21f17eddb4fmr18631535ad.52.1738723137607; Tue, 04 Feb 2025 18:38:57 -0800 (PST) Received: from postal.iol.unh.edu (postal.iol.unh.edu. [2606:4100:3880:1234::84]) by smtp-relay.gmail.com with ESMTPS id d9443c01a7336-21de3344256sm6160075ad.99.2025.02.04.18.38.57 (version=TLS1_2 cipher=ECDHE-ECDSA-AES128-GCM-SHA256 bits=128/128); Tue, 04 Feb 2025 18:38:57 -0800 (PST) X-Relaying-Domain: iol.unh.edu Date: Tue, 04 Feb 2025 18:38:57 -0800 (PST) Message-ID: <67a2cf41.170a0220.67605.c2f2SMTPIN_ADDED_MISSING@mx.google.com> Received: from [172.21.0.6] (unknown [172.18.0.240]) by postal.iol.unh.edu (Postfix) with ESMTP id 0B6B36052471; Tue, 4 Feb 2025 21:38:57 -0500 (EST) Subject: |SUCCESS| pw150865 [PATCH] [RFC] ci: Add support for Cirrus-CI servi From: dpdklab@iol.unh.edu To: Test Report Cc: dpdk-test-reports@iol.unh.edu In-Reply-To: <20250204160739.1603197-1-aconole@redhat.com> References: <20250204160739.1603197-1-aconole@redhat.com> Content-Type: text/plain X-BeenThere: test-report@dpdk.org X-Mailman-Version: 2.1.29 Precedence: list List-Id: automatic DPDK test reports List-Unsubscribe: , List-Archive: List-Post: List-Help: List-Subscribe: , Errors-To: test-report-bounces@dpdk.org Test-Label: iol-unit-arm64-testing Test-Status: SUCCESS http://dpdk.org/patch/150865 _Testing PASS_ Submitter: Aaron Conole Date: Tuesday, February 04 2025 16:07:39 DPDK git baseline: Repo:dpdk Branch: master CommitID:dc4ce7c2538b713e16887eb598da309bc7b4d528 150865 --> testing pass Upstream job id: Generic-Unit-Test-DPDK#311562 Test environment and result as below: +--------------------------+----------------+------------------------------+---------------------------+--------------+ | Environment | dpdk_unit_test | cryptodev_sw_snow3g_autotest | cryptodev_sw_zuc_autotest | lpm_autotest | +==========================+================+==============================+===========================+==============+ | Debian 12 (arm) | PASS | PASS | PASS | SKIPPED | +--------------------------+----------------+------------------------------+---------------------------+--------------+ | CentOS Stream 9 (ARM) | PASS | SKIPPED | SKIPPED | SKIPPED | +--------------------------+----------------+------------------------------+---------------------------+--------------+ | Debian 11 (Buster) (ARM) | PASS | SKIPPED | SKIPPED | SKIPPED | +--------------------------+----------------+------------------------------+---------------------------+--------------+ | Fedora 41 (ARM Clang) | PASS | SKIPPED | SKIPPED | SKIPPED | +--------------------------+----------------+------------------------------+---------------------------+--------------+ | Fedora 41 (ARM) | PASS | SKIPPED | SKIPPED | SKIPPED | +--------------------------+----------------+------------------------------+---------------------------+--------------+ | RHEL9 (ARM) | PASS | SKIPPED | SKIPPED | SKIPPED | +--------------------------+----------------+------------------------------+---------------------------+--------------+ | Fedora 40 (ARM) | PASS | SKIPPED | SKIPPED | SKIPPED | +--------------------------+----------------+------------------------------+---------------------------+--------------+ | Ubuntu 24.04 (ARM) | PASS | SKIPPED | SKIPPED | SKIPPED | +--------------------------+----------------+------------------------------+---------------------------+--------------+ | Fedora 40 (ARM Clang) | PASS | SKIPPED | SKIPPED | SKIPPED | +--------------------------+----------------+------------------------------+---------------------------+--------------+ | Ubuntu 22.04 (ARM) | PASS | SKIPPED | SKIPPED | SKIPPED | +--------------------------+----------------+------------------------------+---------------------------+--------------+ | Ubuntu 20.04 (ARM) | PASS | SKIPPED | SKIPPED | SKIPPED | +--------------------------+----------------+------------------------------+---------------------------+--------------+ | Ubuntu 20.04 ARM SVE | SKIPPED | SKIPPED | SKIPPED | PASS | +--------------------------+----------------+------------------------------+---------------------------+--------------+ Debian 12 (arm) Kernel: Depends on container host Compiler: gcc (Debian 12.2.0-14) 12.2.0 CentOS Stream 9 (ARM) Kernel: Depends on container host Compiler: gcc 11.5.0 20240719 (Red Hat 11.5.0-2) Debian 11 (Buster) (ARM) Kernel: Depends on container host Compiler: gcc (Debian 10.2.1-6) 10.2.1 20210110 Fedora 41 (ARM Clang) Kernel: Depends on container host Compiler: clang 19.1.5 (Fedora 19.1.5-1.fc41) Fedora 41 (ARM) Kernel: Depends on container host Compiler: gcc 14.2.1 20240912 (Red Hat 14.2.1-3) RHEL9 (ARM) Kernel: Depends on container host Compiler: gcc 11.5.0 20240719 (Red Hat 11.5.0-2) Fedora 40 (ARM) Kernel: Depends on container host Compiler: gcc 14.2.1 20240912 (Red Hat 14.2.1-3) Ubuntu 24.04 (ARM) Kernel: Depends on container host Compiler: gcc (Ubuntu 13.3.0-6ubuntu2~24.04) 13.3.0 Fedora 40 (ARM Clang) Kernel: Depends on container host Compiler: clang 18.1.8 (Fedora 18.1.8-1.fc40) Ubuntu 22.04 (ARM) Kernel: Depends on container host Compiler: gcc (Ubuntu 11.4.0-1ubuntu1~22.04) 11.4.0 Ubuntu 20.04 (ARM) Kernel: Depends on container host Compiler: gcc (Ubuntu 9.4.0-1ubuntu1~20.04.2) 9.4.0 Ubuntu 20.04 ARM SVE Kernel: Depends on container host Compiler: gcc (Ubuntu 10.5.0-1ubuntu1~20.04) 10.5.0 To view detailed results, visit: https://lab.dpdk.org/results/dashboard/patchsets/32488/ UNH-IOL DPDK Community Lab To manage your email subscriptions, visit: https://lab.dpdk.org/results/dashboard/preferences/subscriptions/