From mboxrd@z Thu Jan 1 00:00:00 1970 Return-Path: Received: from mails.dpdk.org (mails.dpdk.org [217.70.189.124]) by inbox.dpdk.org (Postfix) with ESMTP id 9A97D46193 for ; Wed, 5 Feb 2025 03:43:29 +0100 (CET) Received: from mails.dpdk.org (localhost [127.0.0.1]) by mails.dpdk.org (Postfix) with ESMTP id 708974021E; Wed, 5 Feb 2025 03:43:29 +0100 (CET) Received: from mail-il1-f227.google.com (mail-il1-f227.google.com [209.85.166.227]) by mails.dpdk.org (Postfix) with ESMTP id 91B74400EF for ; Wed, 5 Feb 2025 03:43:28 +0100 (CET) Received: by mail-il1-f227.google.com with SMTP id e9e14a558f8ab-3cfc8772469so21653445ab.3 for ; Tue, 04 Feb 2025 18:43:28 -0800 (PST) DKIM-Signature: v=1; a=rsa-sha256; c=relaxed/relaxed; d=iol.unh.edu; s=unh-iol; t=1738723408; x=1739328208; darn=dpdk.org; h=references:in-reply-to:cc:to:from:subject:message-id:date:from:to :cc:subject:date:message-id:reply-to; bh=IDBy8HodN6Ec3T42a9HM+rhcAHppbeFt7HU7H6XQbD0=; b=fEzpf1Omk0RJRXPOPhTYCPXbsZIrPKJmDxMcgBpenANBJVR36JALRg+cr16Kuz8vxW kKndQRuODgyta/ljCPazF1qtitqzGdX1YoowrCh0WNkIcrKtUBEJC+LuWio/czJC81jI EOHZeVAw0dAx+bUjQgNUmkgtG0BDYSw/od+bc= X-Google-DKIM-Signature: v=1; a=rsa-sha256; c=relaxed/relaxed; d=1e100.net; s=20230601; t=1738723408; x=1739328208; h=references:in-reply-to:cc:to:from:subject:message-id:date :x-gm-message-state:from:to:cc:subject:date:message-id:reply-to; bh=IDBy8HodN6Ec3T42a9HM+rhcAHppbeFt7HU7H6XQbD0=; b=YFkyIqnfmlyiV85ZhNLu/gragEDm7o3rOUGM+nqqlSSqNfjloSaeRxdRSAI4RB1+/e JHtvWBxcmsLo+0Zh7gueoRLA6NtroQ/g7yufoiZjYa5kKgV51MzxHxyuLjT35piD0LAN IUEwsyEzuu2x/e3phyFcMBLwvPQQn+e99efHcf3StDZjcShptMpQfA+y9wGqyxC2nnvX a/GnZ/Z+dzXTGoTUdJHngPn66nuUBlCfNWFQ/Xnsmybx+tO4MDcmH3rCkSQYK6JgvFni 70Nk+WDeAoi19yaSOrNTT0Usf3cH7LRd47hmKVip5elHm2zBJebmDTnTcTr6BrChbPkJ yebw== X-Gm-Message-State: AOJu0Yz67B30PZlxcs8a+B9Yqa5xE8C2HmOlUYofZM29Xm2hAs2b5wCr zo6n316l1ARnmGjaM90p+VmInF0vKCgBOaFAdasAKUpVPdIzYt/pielkpBAEduPzZVHCifrmrHl ptVJq5/G8PnU6XXwlHF0yKz5F8mdIhVIIPF1kIXjQUm8TRbXKf7qwcq08 X-Gm-Gg: ASbGncuHzUPGuvFP85U//wlbPSQhAzbDo1Jab8Ko49uq48t0n8M/5ACQ7Oeg97WQwOP IrmdrWxSDioqWTHOzQSaaNmqxmyxLGov+dHRBcYMfI6OjlBCWYtSehBeC5KtLR/kQnUP0CDyWEN +sK8o1RQs54rb+H1WNpNtdESQKcFxghzLIbp5Q2XG25zMZ9bPaJLseR/TCFC+1Fp0VTnAC28xTH htKS+LmPrA4JXIrxIGjJvlTygkeQHexs4mKf9tYsvzOrVHa83DaW5Z71AmKskbvSGeWofRzB7VX RzHDxdfXbcCoVelTHAKPxKYMJuFTxwJsWgXtnJ9lbg== X-Google-Smtp-Source: AGHT+IEmHz0+jQKnct/mTI/WmD360JoVnuaBKiNyJ1meGk0KB3Lgs6rOBOJGgMQp2U3WAiZHUiSwOqfry2jM X-Received: by 2002:a05:6e02:1a26:b0:3cf:bc71:94f5 with SMTP id e9e14a558f8ab-3d04f95cc04mr11313515ab.22.1738723407789; Tue, 04 Feb 2025 18:43:27 -0800 (PST) Received: from postal.iol.unh.edu (postal.iol.unh.edu. [2606:4100:3880:1234::84]) by smtp-relay.gmail.com with ESMTPS id e9e14a558f8ab-3d010ab0f4bsm8173465ab.16.2025.02.04.18.43.27 (version=TLS1_2 cipher=ECDHE-ECDSA-AES128-GCM-SHA256 bits=128/128); Tue, 04 Feb 2025 18:43:27 -0800 (PST) X-Relaying-Domain: iol.unh.edu Date: Tue, 04 Feb 2025 18:43:27 -0800 (PST) Message-ID: <67a2d04f.050a0220.25d564.64dfSMTPIN_ADDED_MISSING@mx.google.com> Received: from [172.21.0.6] (unknown [172.18.0.240]) by postal.iol.unh.edu (Postfix) with ESMTP id 263606052471; Tue, 4 Feb 2025 21:43:27 -0500 (EST) Subject: |SUCCESS| pw150895-150900 [PATCH] [v4,7/7] mldev: eliminate dependen From: dpdklab@iol.unh.edu To: Test Report Cc: dpdk-test-reports@iol.unh.edu In-Reply-To: <1738695271-29948-8-git-send-email-andremue@linux.microsoft.com> References: <1738695271-29948-8-git-send-email-andremue@linux.microsoft.com> Content-Type: text/plain X-BeenThere: test-report@dpdk.org X-Mailman-Version: 2.1.29 Precedence: list List-Id: automatic DPDK test reports List-Unsubscribe: , List-Archive: List-Post: List-Help: List-Subscribe: , Errors-To: test-report-bounces@dpdk.org Test-Label: iol-compile-amd64-testing Test-Status: SUCCESS http://dpdk.org/patch/150900 _Testing PASS_ Submitter: Andre Muezerie Date: Tuesday, February 04 2025 18:54:31 DPDK git baseline: Repo:dpdk Branch: master CommitID:dc4ce7c2538b713e16887eb598da309bc7b4d528 150895-150900 --> testing pass Upstream job id: Generic-DPDK-Compile-Meson#357727 Test environment and result as below: +---------------------+-------------------+--------------------+-------------------------+----------------------+------------------+-------------------+ | Environment | dpdk_msvc_compile | dpdk_meson_compile | dpdk_llvm_clang_compile | dpdk_mingw64_compile | dpdk_compile_ovs | dpdk_compile_spdk | +=====================+===================+====================+=========================+======================+==================+===================+ | Windows Server 2022 | PASS | SKIPPED | PASS | PASS | SKIPPED | SKIPPED | +---------------------+-------------------+--------------------+-------------------------+----------------------+------------------+-------------------+ | FreeBSD 13.4 | SKIPPED | PASS | SKIPPED | SKIPPED | SKIPPED | SKIPPED | +---------------------+-------------------+--------------------+-------------------------+----------------------+------------------+-------------------+ | FreeBSD 14.2 | SKIPPED | PASS | SKIPPED | SKIPPED | SKIPPED | SKIPPED | +---------------------+-------------------+--------------------+-------------------------+----------------------+------------------+-------------------+ | CentOS Stream 9 | SKIPPED | PASS | SKIPPED | SKIPPED | PASS | PASS | +---------------------+-------------------+--------------------+-------------------------+----------------------+------------------+-------------------+ | Debian Bullseye | SKIPPED | PASS | SKIPPED | SKIPPED | PASS | PASS | +---------------------+-------------------+--------------------+-------------------------+----------------------+------------------+-------------------+ | Debian 12 | SKIPPED | PASS | SKIPPED | SKIPPED | PASS | PASS | +---------------------+-------------------+--------------------+-------------------------+----------------------+------------------+-------------------+ | Fedora 40 (Clang) | SKIPPED | PASS | SKIPPED | SKIPPED | PASS | PASS | +---------------------+-------------------+--------------------+-------------------------+----------------------+------------------+-------------------+ | Fedora 40 | SKIPPED | PASS | SKIPPED | SKIPPED | PASS | PASS | +---------------------+-------------------+--------------------+-------------------------+----------------------+------------------+-------------------+ | Fedora 41 (Clang) | SKIPPED | PASS | SKIPPED | SKIPPED | PASS | PASS | +---------------------+-------------------+--------------------+-------------------------+----------------------+------------------+-------------------+ | Fedora 41 | SKIPPED | PASS | SKIPPED | SKIPPED | PASS | PASS | +---------------------+-------------------+--------------------+-------------------------+----------------------+------------------+-------------------+ | openSUSE Leap 15 | SKIPPED | PASS | SKIPPED | SKIPPED | SKIPPED | SKIPPED | +---------------------+-------------------+--------------------+-------------------------+----------------------+------------------+-------------------+ | RHEL8 | SKIPPED | PASS | SKIPPED | SKIPPED | PASS | SKIPPED | +---------------------+-------------------+--------------------+-------------------------+----------------------+------------------+-------------------+ | RHEL9 | SKIPPED | PASS | SKIPPED | SKIPPED | PASS | SKIPPED | +---------------------+-------------------+--------------------+-------------------------+----------------------+------------------+-------------------+ | Ubuntu 20.04 | SKIPPED | PASS | SKIPPED | SKIPPED | SKIPPED | SKIPPED | +---------------------+-------------------+--------------------+-------------------------+----------------------+------------------+-------------------+ | Ubuntu 22.04 | SKIPPED | PASS | SKIPPED | SKIPPED | PASS | PASS | +---------------------+-------------------+--------------------+-------------------------+----------------------+------------------+-------------------+ | Ubuntu 24.04 | SKIPPED | PASS | SKIPPED | SKIPPED | PASS | PASS | +---------------------+-------------------+--------------------+-------------------------+----------------------+------------------+-------------------+ | Alpine | SKIPPED | PASS | SKIPPED | SKIPPED | PASS | SKIPPED | +---------------------+-------------------+--------------------+-------------------------+----------------------+------------------+-------------------+ Windows Server 2022 Kernel: 10.0.20348.2031 Compiler: clang 15.0.7, gcc 14.1.0 (MinGW), and MSVC VS 19.39.33521 FreeBSD 13.4 Kernel: 13.4-RELEASE-p1 Compiler: clang 18.1.6 FreeBSD 14.2 Kernel: 14.2-RELEASE Compiler: clang 18.1.6 CentOS Stream 9 Kernel: Depends on container host Compiler: gcc 11.5.0 20240719 (Red Hat 11.5.0-2) Debian Bullseye Kernel: Depends on container host Compiler: gcc (Debian 10.2.1-6) 10.2.1 20210110 Debian 12 Kernel: Depends on container host Compiler: gcc (Debian 12.2.0-14) 12.2.0 Fedora 40 (Clang) Kernel: Depends on container host Compiler: clang 18.1.8 (Fedora 18.1.8-1.fc40) Fedora 40 Kernel: Depends on container host Compiler: gcc 14.2.1 20240912 (Red Hat 14.2.1-3) Fedora 41 (Clang) Kernel: Depends on container host Compiler: clang 19.1.5 (Fedora 19.1.5-1.fc41) Fedora 41 Kernel: Depends on container host Compiler: gcc 14.2.1 20240912 (Red Hat 14.2.1-3) openSUSE Leap 15 Kernel: Depends on container host Compiler: gcc (SUSE Linux) 7.5.0 RHEL8 Kernel: Depends on container host Compiler: gcc 8.5.0 20210514 (Red Hat 8.5.0-22) RHEL9 Kernel: Depends on container host Compiler: gcc 11.5.0 20240719 (Red Hat 11.5.0-2) Ubuntu 20.04 Kernel: Depends on container host Compiler: gcc (Ubuntu 9.4.0-1ubuntu1~20.04.2) 9.4.0 Ubuntu 22.04 Kernel: Depends on container host Compiler: gcc (Ubuntu 11.4.0-1ubuntu1~22.04) 11.4.0 Ubuntu 24.04 Kernel: Depends on container host Compiler: gcc (Ubuntu 13.3.0-6ubuntu2~24.04) 13.3.0 Alpine Kernel: Depends on container host Compiler: gcc (Alpine 14.2.0) 14.2.0 To view detailed results, visit: https://lab.dpdk.org/results/dashboard/patchsets/32492/ UNH-IOL DPDK Community Lab To manage your email subscriptions, visit: https://lab.dpdk.org/results/dashboard/preferences/subscriptions/