automatic DPDK test reports
 help / color / mirror / Atom feed
* |SUCCESS| pw150905-150924 [PATCH v21 27/27] config: add -Wvla project-wide
       [not found] <1738702638-22363-28-git-send-email-andremue@linux.microsoft.com>
@ 2025-02-04 20:48 ` qemudev
  2025-02-04 20:53 ` qemudev
                   ` (17 subsequent siblings)
  18 siblings, 0 replies; 19+ messages in thread
From: qemudev @ 2025-02-04 20:48 UTC (permalink / raw)
  To: test-report

Test-Label: loongarch-compilation
Test-Status: SUCCESS
http://dpdk.org/patch/150924

_Compilation OK_

Submitter: Andre Muezerie <andremue@linux.microsoft.com>
Date: Tue,  4 Feb 2025 12:56:52 -0800
DPDK git baseline: Repo:dpdk
  Branch: main
  CommitID: dc4ce7c2538b713e16887eb598da309bc7b4d528

150905-150924 --> meson & ninja build successfully

Test environment and result as below:

+---------------------+----------------+
|     Environment     | compilation    |
+---------------------+----------------+
| Loongnix-Server 8.3 | PASS           |
+---------------------+----------------+

Loongnix-Server 8.3
    Kernel: 4.19.190+
    Compiler: gcc 8.3


^ permalink raw reply	[flat|nested] 19+ messages in thread

* |SUCCESS| pw150905-150924 [PATCH v21 27/27] config: add -Wvla project-wide
       [not found] <1738702638-22363-28-git-send-email-andremue@linux.microsoft.com>
  2025-02-04 20:48 ` |SUCCESS| pw150905-150924 [PATCH v21 27/27] config: add -Wvla project-wide qemudev
@ 2025-02-04 20:53 ` qemudev
  2025-02-04 20:58 ` |SUCCESS| pw150924 " checkpatch
                   ` (16 subsequent siblings)
  18 siblings, 0 replies; 19+ messages in thread
From: qemudev @ 2025-02-04 20:53 UTC (permalink / raw)
  To: test-report

Test-Label: loongarch-unit-testing
Test-Status: SUCCESS
http://dpdk.org/patch/150924

_Unit Testing PASS_

Submitter: Andre Muezerie <andremue@linux.microsoft.com>
Date: Tue,  4 Feb 2025 12:56:52 -0800
DPDK git baseline: Repo:dpdk
  Branch: main
  CommitID: dc4ce7c2538b713e16887eb598da309bc7b4d528

150905-150924 --> testing pass

Test environment and result as below:

+---------------------+----------------+
|     Environment     | dpdk_unit_test |
+---------------------+----------------+
| Loongnix-Server 8.3 | PASS           |
+---------------------+----------------+

Loongnix-Server 8.3
    Kernel: 4.19.190+
    Compiler: gcc 8.3


Test result details:
  1/119 DPDK:fast-tests / acl_autotest                            OK              3.34s
  2/119 DPDK:fast-tests / alarm_autotest                          OK              1.55s
  3/119 DPDK:fast-tests / argparse_autotest                       OK              0.53s
  4/119 DPDK:fast-tests / atomic_autotest                         OK              7.09s
  5/119 DPDK:fast-tests / bitcount_autotest                       OK              0.31s
  6/119 DPDK:fast-tests / bitmap_autotest                         OK              0.31s
  7/119 DPDK:fast-tests / bitops_autotest                         OK              1.81s
  8/119 DPDK:fast-tests / bitratestats_autotest                   OK              0.31s
  9/119 DPDK:fast-tests / bitset_autotest                         OK              2.98s
 10/119 DPDK:fast-tests / bpf_autotest                            OK              0.31s
 11/119 DPDK:fast-tests / bpf_convert_autotest                    OK              0.31s
 12/119 DPDK:fast-tests / byteorder_autotest                      OK              0.31s
 13/119 DPDK:fast-tests / cfgfile_autotest                        OK              0.31s
 14/119 DPDK:fast-tests / cksum_autotest                          OK              0.31s
 15/119 DPDK:fast-tests / cmdline_autotest                        OK              0.31s
 16/119 DPDK:fast-tests / common_autotest                         OK              1.19s
 17/119 DPDK:fast-tests / compressdev_autotest                    SKIP            0.06s   exit status 77
 18/119 DPDK:fast-tests / cpuflags_autotest                       OK              0.30s
 19/119 DPDK:fast-tests / crc_autotest                            OK              0.31s
 20/119 DPDK:fast-tests / user_delay_us                           OK              0.31s
 21/119 DPDK:fast-tests / debug_autotest                          OK             19.56s
 22/119 DPDK:fast-tests / devargs_autotest                        OK              0.30s
 23/119 DPDK:fast-tests / dispatcher_autotest                     OK              2.47s
 24/119 DPDK:fast-tests / distributor_autotest                    OK              1.19s
 25/119 DPDK:fast-tests / eal_flags_c_opt_autotest                OK              0.81s
 26/119 DPDK:fast-tests / eal_flags_main_opt_autotest             OK              0.22s
 27/119 DPDK:fast-tests / eal_flags_n_opt_autotest                OK              0.20s
 28/119 DPDK:fast-tests / eal_flags_hpet_autotest                 OK              0.13s
 29/119 DPDK:fast-tests / eal_flags_no_huge_autotest              OK              0.22s
 30/119 DPDK:fast-tests / eal_flags_a_opt_autotest                OK              0.30s
 31/119 DPDK:fast-tests / eal_flags_b_opt_autotest                OK              0.25s
 32/119 DPDK:fast-tests / eal_flags_vdev_opt_autotest             OK              0.20s
 33/119 DPDK:fast-tests / eal_flags_r_opt_autotest                OK              0.19s
 34/119 DPDK:fast-tests / eal_flags_mem_autotest                  OK              0.59s
 35/119 DPDK:fast-tests / eal_flags_file_prefix_autotest          OK             22.28s
 36/119 DPDK:fast-tests / eal_flags_misc_autotest                 OK              1.06s
 37/119 DPDK:fast-tests / eal_fs_autotest                         OK              0.39s
 38/119 DPDK:fast-tests / errno_autotest                          OK              0.40s
 39/119 DPDK:fast-tests / ethdev_link_status                      OK              0.40s
 40/119 DPDK:fast-tests / event_eth_tx_adapter_autotest           OK              1.68s
 41/119 DPDK:fast-tests / event_ring_autotest                     OK              0.40s
 42/119 DPDK:fast-tests / eventdev_common_autotest                OK              0.40s
 43/119 DPDK:fast-tests / eventdev_selftest_sw                    OK              7.22s
 44/119 DPDK:fast-tests / fbarray_autotest                        OK              0.38s
 45/119 DPDK:fast-tests / fib_autotest                            OK              1.31s
 46/119 DPDK:fast-tests / fib6_autotest                           OK              1.08s
 47/119 DPDK:fast-tests / func_reentrancy_autotest                OK              2.32s
 48/119 DPDK:fast-tests / graph_autotest                          OK              0.40s
 49/119 DPDK:fast-tests / node_list_dump                          OK              0.40s
 50/119 DPDK:fast-tests / hash_autotest                           OK              1.02s
 51/119 DPDK:fast-tests / hash_readwrite_func_autotest            OK              6.40s
 52/119 DPDK:fast-tests / interrupt_autotest                      OK              1.70s
 53/119 DPDK:fast-tests / ipfrag_autotest                         OK              0.07s
 54/119 DPDK:fast-tests / ipsec_autotest                          SKIP            0.40s   exit status 77
 55/119 DPDK:fast-tests / kvargs_autotest                         OK              0.40s
 56/119 DPDK:fast-tests / latencystats_autotest                   OK              0.40s
 57/119 DPDK:fast-tests / lcore_var_autotest                      OK              0.54s
 58/119 DPDK:fast-tests / lcores_autotest                         OK              5.21s
 59/119 DPDK:fast-tests / logs_autotest                           OK              0.40s
 60/119 DPDK:fast-tests / lpm_autotest                            OK              2.40s
 61/119 DPDK:fast-tests / lpm6_autotest                           OK              5.54s
 62/119 DPDK:fast-tests / malloc_autotest                         OK             60.82s
 63/119 DPDK:fast-tests / mbuf_autotest                           OK              5.27s
 64/119 DPDK:fast-tests / mcslock_autotest                        OK              2.63s
 65/119 DPDK:fast-tests / member_autotest                         OK              1.62s
 66/119 DPDK:fast-tests / memcpy_autotest                         OK              6.68s
 67/119 DPDK:fast-tests / memory_autotest                         OK              0.10s
 68/119 DPDK:fast-tests / mempool_autotest                        OK              0.44s
 69/119 DPDK:fast-tests / memzone_autotest                        OK              0.14s
 70/119 DPDK:fast-tests / meter_autotest                          OK              0.39s
 71/119 DPDK:fast-tests / metrics_autotest                        OK              0.39s
 72/119 DPDK:fast-tests / multiprocess_autotest                   OK              0.18s
 73/119 DPDK:fast-tests / net_ether_autotest                      OK              1.06s
 74/119 DPDK:fast-tests / net_ipv6_autotest                       OK              0.40s
 75/119 DPDK:fast-tests / pcapng_autotest                         OK              6.69s
 76/119 DPDK:fast-tests / pdcp_autotest                           SKIP            0.07s   exit status 77
 77/119 DPDK:fast-tests / pdump_autotest                          OK              0.51s
 78/119 DPDK:fast-tests / per_lcore_autotest                      OK              0.50s
 79/119 DPDK:fast-tests / pflock_autotest                         OK              1.20s
 80/119 DPDK:fast-tests / pie_autotest                            OK              0.40s
 81/119 DPDK:fast-tests / ring_pmd_autotest                       OK              0.40s
 82/119 DPDK:fast-tests / power_autotest                          OK              0.40s
 83/119 DPDK:fast-tests / power_cpufreq_autotest                  SKIP            0.07s   exit status 77
 84/119 DPDK:fast-tests / power_intel_uncore_autotest             SKIP            0.39s   exit status 77
 85/119 DPDK:fast-tests / power_kvm_vm_autotest                   SKIP            0.07s   exit status 77
 86/119 DPDK:fast-tests / prefetch_autotest                       OK              0.39s
 87/119 DPDK:fast-tests / ptr_compress_autotest                   OK              0.39s
 88/119 DPDK:fast-tests / rawdev_autotest                         OK              0.39s
 89/119 DPDK:fast-tests / rcu_qsbr_autotest                       OK              0.92s
 90/119 DPDK:fast-tests / reorder_autotest                        OK              0.45s
 91/119 DPDK:fast-tests / rib_autotest                            OK              9.05s
 92/119 DPDK:fast-tests / rib6_autotest                           OK              9.03s
 93/119 DPDK:fast-tests / ring_autotest                           OK              0.42s
 94/119 DPDK:fast-tests / rwlock_test1_autotest                   OK              1.14s
 95/119 DPDK:fast-tests / rwlock_rda_autotest                     OK              5.40s
 96/119 DPDK:fast-tests / rwlock_rds_wrm_autotest                 OK              5.40s
 97/119 DPDK:fast-tests / rwlock_rde_wro_autotest                 OK              5.40s
 98/119 DPDK:fast-tests / sched_autotest                          OK              0.40s
 99/119 DPDK:fast-tests / security_autotest                       OK              0.07s
100/119 DPDK:fast-tests / seqlock_autotest                        OK              2.39s
101/119 DPDK:fast-tests / service_autotest                        OK              3.10s
102/119 DPDK:fast-tests / soring_autotest                         OK              0.40s
103/119 DPDK:fast-tests / spinlock_autotest                       OK              0.47s
104/119 DPDK:fast-tests / stack_autotest                          OK              0.87s
105/119 DPDK:fast-tests / stack_lf_autotest                       SKIP            0.06s   exit status 77
106/119 DPDK:fast-tests / string_autotest                         OK              0.39s
107/119 DPDK:fast-tests / table_autotest                          OK              7.80s
108/119 DPDK:fast-tests / tailq_autotest                          OK              0.39s
109/119 DPDK:fast-tests / telemetry_data_autotest                 OK              0.40s
110/119 DPDK:fast-tests / telemetry_json_autotest                 OK              0.39s
111/119 DPDK:fast-tests / thash_autotest                          OK              0.41s
112/119 DPDK:fast-tests / threads_autotest                        OK              0.57s
113/119 DPDK:fast-tests / ticketlock_autotest                     OK              0.54s
114/119 DPDK:fast-tests / timer_autotest                          OK              3.89s
115/119 DPDK:fast-tests / trace_autotest                          OK              0.39s
116/119 DPDK:fast-tests / trace_autotest_with_traces              OK              0.40s
117/119 DPDK:fast-tests / vdev_autotest                           OK              0.39s
118/119 DPDK:fast-tests / version_autotest                        OK              0.39s
119/119 DPDK:fast-tests / telemetry_all                           OK              1.36s


Ok:                 112
Expected Fail:      0
Fail:               0
Unexpected Pass:    0
Skipped:            7
Timeout:            0


^ permalink raw reply	[flat|nested] 19+ messages in thread

* |SUCCESS| pw150924 [PATCH v21 27/27] config: add -Wvla project-wide
       [not found] <1738702638-22363-28-git-send-email-andremue@linux.microsoft.com>
  2025-02-04 20:48 ` |SUCCESS| pw150905-150924 [PATCH v21 27/27] config: add -Wvla project-wide qemudev
  2025-02-04 20:53 ` qemudev
@ 2025-02-04 20:58 ` checkpatch
  2025-02-04 21:57 ` |SUCCESS| pw150905-150924 [PATCH] [v21,27/27] config: add -Wvla proj dpdklab
                   ` (15 subsequent siblings)
  18 siblings, 0 replies; 19+ messages in thread
From: checkpatch @ 2025-02-04 20:58 UTC (permalink / raw)
  To: test-report

Test-Label: checkpatch
Test-Status: SUCCESS
http://dpdk.org/patch/150924

_coding style OK_



^ permalink raw reply	[flat|nested] 19+ messages in thread

* |SUCCESS| pw150905-150924 [PATCH] [v21,27/27] config: add -Wvla proj
       [not found] <1738702638-22363-28-git-send-email-andremue@linux.microsoft.com>
                   ` (2 preceding siblings ...)
  2025-02-04 20:58 ` |SUCCESS| pw150924 " checkpatch
@ 2025-02-04 21:57 ` dpdklab
  2025-02-04 22:21 ` dpdklab
                   ` (14 subsequent siblings)
  18 siblings, 0 replies; 19+ messages in thread
From: dpdklab @ 2025-02-04 21:57 UTC (permalink / raw)
  To: Test Report; +Cc: dpdk-test-reports

Test-Label: iol-sample-apps-testing
Test-Status: SUCCESS
http://dpdk.org/patch/150924

_Testing PASS_

Submitter: Andre Muezerie <andremue@linux.microsoft.com>
Date: Tuesday, February 04 2025 20:57:18 
DPDK git baseline: Repo:dpdk
  Branch: master
  CommitID:dc4ce7c2538b713e16887eb598da309bc7b4d528

150905-150924 --> testing pass

Upstream job id: Template-DTS-Pipeline#210586

Test environment and result as below:

+--------------------+----------------------+
|    Environment     | compressdev_zlib_pmd |
+====================+======================+
| Ubuntu 22.04 (ARM) | PASS                 |
+--------------------+----------------------+


Ubuntu 22.04 (ARM)
	Kernel: 5.15.0-97-generic
	Compiler: gcc gcc (Ubuntu 11.4.0-1ubuntu1~22.04) 11.4.0

To view detailed results, visit:
https://lab.dpdk.org/results/dashboard/patchsets/32494/

UNH-IOL DPDK Community Lab

To manage your email subscriptions, visit: 
https://lab.dpdk.org/results/dashboard/preferences/subscriptions/

^ permalink raw reply	[flat|nested] 19+ messages in thread

* |SUCCESS| pw150905-150924 [PATCH] [v21,27/27] config: add -Wvla proj
       [not found] <1738702638-22363-28-git-send-email-andremue@linux.microsoft.com>
                   ` (3 preceding siblings ...)
  2025-02-04 21:57 ` |SUCCESS| pw150905-150924 [PATCH] [v21,27/27] config: add -Wvla proj dpdklab
@ 2025-02-04 22:21 ` dpdklab
  2025-02-04 22:38 ` dpdklab
                   ` (13 subsequent siblings)
  18 siblings, 0 replies; 19+ messages in thread
From: dpdklab @ 2025-02-04 22:21 UTC (permalink / raw)
  To: Test Report; +Cc: dpdk-test-reports

Test-Label: iol-marvell-Functional
Test-Status: SUCCESS
http://dpdk.org/patch/150924

_Functional Testing PASS_

Submitter: Andre Muezerie <andremue@linux.microsoft.com>
Date: Tuesday, February 04 2025 20:57:18 
DPDK git baseline: Repo:dpdk
  Branch: master
  CommitID:dc4ce7c2538b713e16887eb598da309bc7b4d528

150905-150924 --> functional testing pass

Upstream job id: Template-DTS-Pipeline#210584

Test environment and result as below:

Ubuntu 20.04.6
Kernel: 5.4.105
Compiler: gcc 9.4
NIC: Marvell CN106XX 50000 Mbps
Target: arm64-native-linuxapp-gcc

Aggregate Results by Test Suite
+-----------------+--------+
|   Test Suite    | Result |
+=================+========+
| cmdline         |  PASS  |
+-----------------+--------+
| ipv4_reassembly |  PASS  |
+-----------------+--------+
| rxtx_callbacks  |  PASS  |
+-----------------+--------+
| tso             |  PASS  |
+-----------------+--------+


To view detailed results, visit:
https://lab.dpdk.org/results/dashboard/patchsets/32494/

UNH-IOL DPDK Community Lab

To manage your email subscriptions, visit: 
https://lab.dpdk.org/results/dashboard/preferences/subscriptions/

^ permalink raw reply	[flat|nested] 19+ messages in thread

* |SUCCESS| pw150905-150924 [PATCH] [v21,27/27] config: add -Wvla proj
       [not found] <1738702638-22363-28-git-send-email-andremue@linux.microsoft.com>
                   ` (4 preceding siblings ...)
  2025-02-04 22:21 ` dpdklab
@ 2025-02-04 22:38 ` dpdklab
  2025-02-04 22:56 ` |PENDING| " dpdklab
                   ` (12 subsequent siblings)
  18 siblings, 0 replies; 19+ messages in thread
From: dpdklab @ 2025-02-04 22:38 UTC (permalink / raw)
  To: Test Report; +Cc: dpdk-test-reports

Test-Label: iol-intel-Functional
Test-Status: SUCCESS
http://dpdk.org/patch/150924

_Functional Testing PASS_

Submitter: Andre Muezerie <andremue@linux.microsoft.com>
Date: Tuesday, February 04 2025 20:57:18 
DPDK git baseline: Repo:dpdk
  Branch: master
  CommitID:dc4ce7c2538b713e16887eb598da309bc7b4d528

150905-150924 --> functional testing pass

Upstream job id: Template-DTS-Pipeline#210581

Test environment and result as below:

Ubuntu 20.04
Kernel: 5.4.0-122-generic
Compiler: gcc 9.4.0
NIC: Intel Corporation Ethernet Converged Network Adapter 82599ES 10000 Mbps

Aggregate Results by Test Suite
+-----------------------------+--------+
|         Test Suite          | Result |
+=============================+========+
| unit_tests_mbuf             |  PASS  |
+-----------------------------+--------+
| vhost_virtio_user_interrupt |  PASS  |
+-----------------------------+--------+
| virtio_smoke                |  PASS  |
+-----------------------------+--------+


To view detailed results, visit:
https://lab.dpdk.org/results/dashboard/patchsets/32494/

UNH-IOL DPDK Community Lab

To manage your email subscriptions, visit: 
https://lab.dpdk.org/results/dashboard/preferences/subscriptions/

^ permalink raw reply	[flat|nested] 19+ messages in thread

* |PENDING| pw150905-150924 [PATCH] [v21,27/27] config: add -Wvla proj
       [not found] <1738702638-22363-28-git-send-email-andremue@linux.microsoft.com>
                   ` (5 preceding siblings ...)
  2025-02-04 22:38 ` dpdklab
@ 2025-02-04 22:56 ` dpdklab
  2025-02-04 23:01 ` |SUCCESS| " dpdklab
                   ` (11 subsequent siblings)
  18 siblings, 0 replies; 19+ messages in thread
From: dpdklab @ 2025-02-04 22:56 UTC (permalink / raw)
  To: Test Report; +Cc: dpdk-test-reports

Test-Label: iol-compile-amd64-testing
Test-Status: PENDING
http://dpdk.org/patch/150924

_Testing pending_

Submitter: Andre Muezerie <andremue@linux.microsoft.com>
Date: Tuesday, February 04 2025 20:57:18 
DPDK git baseline: Repo:dpdk
  Branch: master
  CommitID:dc4ce7c2538b713e16887eb598da309bc7b4d528

150905-150924 --> testing pending

Upstream job id: Generic-VM-DPDK-Compile-Meson#33039

Test environment and result as below:

+---------------------+-------------------+--------------------+
|     Environment     | dpdk_msvc_compile | dpdk_meson_compile |
+=====================+===================+====================+
| Windows Server 2022 | PEND              | SKIPPED            |
+---------------------+-------------------+--------------------+
| FreeBSD 13.4        | SKIPPED           | PASS               |
+---------------------+-------------------+--------------------+
| FreeBSD 14.2        | SKIPPED           | PEND               |
+---------------------+-------------------+--------------------+


Windows Server 2022
	Kernel: 10.0.20348.2031
	Compiler: clang 15.0.7, gcc 14.1.0 (MinGW), and MSVC VS 19.39.33521

FreeBSD 13.4
	Kernel: 13.4-RELEASE-p1
	Compiler: clang 18.1.6

FreeBSD 14.2
	Kernel: 14.2-RELEASE
	Compiler: clang 18.1.6

To view detailed results, visit:
https://lab.dpdk.org/results/dashboard/patchsets/32494/

UNH-IOL DPDK Community Lab

To manage your email subscriptions, visit: 
https://lab.dpdk.org/results/dashboard/preferences/subscriptions/

^ permalink raw reply	[flat|nested] 19+ messages in thread

* |SUCCESS| pw150905-150924 [PATCH] [v21,27/27] config: add -Wvla proj
       [not found] <1738702638-22363-28-git-send-email-andremue@linux.microsoft.com>
                   ` (6 preceding siblings ...)
  2025-02-04 22:56 ` |PENDING| " dpdklab
@ 2025-02-04 23:01 ` dpdklab
  2025-02-04 23:01 ` dpdklab
                   ` (10 subsequent siblings)
  18 siblings, 0 replies; 19+ messages in thread
From: dpdklab @ 2025-02-04 23:01 UTC (permalink / raw)
  To: Test Report; +Cc: dpdk-test-reports

Test-Label: iol-compile-amd64-testing
Test-Status: SUCCESS
http://dpdk.org/patch/150924

_Testing PASS_

Submitter: Andre Muezerie <andremue@linux.microsoft.com>
Date: Tuesday, February 04 2025 20:57:18 
DPDK git baseline: Repo:dpdk
  Branch: master
  CommitID:dc4ce7c2538b713e16887eb598da309bc7b4d528

150905-150924 --> testing pass

Upstream job id: Generic-VM-DPDK-Compile-Meson#33040

Test environment and result as below:

+---------------------+-------------------+--------------------+
|     Environment     | dpdk_msvc_compile | dpdk_meson_compile |
+=====================+===================+====================+
| Windows Server 2022 | PASS              | SKIPPED            |
+---------------------+-------------------+--------------------+
| FreeBSD 13.4        | SKIPPED           | PASS               |
+---------------------+-------------------+--------------------+
| FreeBSD 14.2        | SKIPPED           | PASS               |
+---------------------+-------------------+--------------------+


Windows Server 2022
	Kernel: 10.0.20348.2031
	Compiler: clang 15.0.7, gcc 14.1.0 (MinGW), and MSVC VS 19.39.33521

FreeBSD 13.4
	Kernel: 13.4-RELEASE-p1
	Compiler: clang 18.1.6

FreeBSD 14.2
	Kernel: 14.2-RELEASE
	Compiler: clang 18.1.6

To view detailed results, visit:
https://lab.dpdk.org/results/dashboard/patchsets/32494/

UNH-IOL DPDK Community Lab

To manage your email subscriptions, visit: 
https://lab.dpdk.org/results/dashboard/preferences/subscriptions/

^ permalink raw reply	[flat|nested] 19+ messages in thread

* |SUCCESS| pw150905-150924 [PATCH] [v21,27/27] config: add -Wvla proj
       [not found] <1738702638-22363-28-git-send-email-andremue@linux.microsoft.com>
                   ` (7 preceding siblings ...)
  2025-02-04 23:01 ` |SUCCESS| " dpdklab
@ 2025-02-04 23:01 ` dpdklab
  2025-02-04 23:09 ` |PENDING| " dpdklab
                   ` (9 subsequent siblings)
  18 siblings, 0 replies; 19+ messages in thread
From: dpdklab @ 2025-02-04 23:01 UTC (permalink / raw)
  To: Test Report; +Cc: dpdk-test-reports

Test-Label: iol-compile-amd64-testing
Test-Status: SUCCESS
http://dpdk.org/patch/150924

_Testing PASS_

Submitter: Andre Muezerie <andremue@linux.microsoft.com>
Date: Tuesday, February 04 2025 20:57:18 
DPDK git baseline: Repo:dpdk
  Branch: master
  CommitID:dc4ce7c2538b713e16887eb598da309bc7b4d528

150905-150924 --> testing pass

Upstream job id: Windows-Compile-DPDK-VS#4812

Test environment and result as below:

+---------------------+-------------------+--------------------+
|     Environment     | dpdk_msvc_compile | dpdk_meson_compile |
+=====================+===================+====================+
| Windows Server 2022 | PASS              | SKIPPED            |
+---------------------+-------------------+--------------------+
| FreeBSD 13.4        | SKIPPED           | PASS               |
+---------------------+-------------------+--------------------+
| FreeBSD 14.2        | SKIPPED           | PASS               |
+---------------------+-------------------+--------------------+


Windows Server 2022
	Kernel: 10.0.20348.2031
	Compiler: clang 15.0.7, gcc 14.1.0 (MinGW), and MSVC VS 19.39.33521

FreeBSD 13.4
	Kernel: 13.4-RELEASE-p1
	Compiler: clang 18.1.6

FreeBSD 14.2
	Kernel: 14.2-RELEASE
	Compiler: clang 18.1.6

To view detailed results, visit:
https://lab.dpdk.org/results/dashboard/patchsets/32494/

UNH-IOL DPDK Community Lab

To manage your email subscriptions, visit: 
https://lab.dpdk.org/results/dashboard/preferences/subscriptions/

^ permalink raw reply	[flat|nested] 19+ messages in thread

* |PENDING| pw150905-150924 [PATCH] [v21,27/27] config: add -Wvla proj
       [not found] <1738702638-22363-28-git-send-email-andremue@linux.microsoft.com>
                   ` (8 preceding siblings ...)
  2025-02-04 23:01 ` dpdklab
@ 2025-02-04 23:09 ` dpdklab
  2025-02-05  0:05 ` dpdklab
                   ` (8 subsequent siblings)
  18 siblings, 0 replies; 19+ messages in thread
From: dpdklab @ 2025-02-04 23:09 UTC (permalink / raw)
  To: Test Report; +Cc: dpdk-test-reports

Test-Label: iol-unit-amd64-testing
Test-Status: PENDING
http://dpdk.org/patch/150924

_Testing pending_

Submitter: Andre Muezerie <andremue@linux.microsoft.com>
Date: Tuesday, February 04 2025 20:57:18 
DPDK git baseline: Repo:dpdk
  Branch: master
  CommitID:dc4ce7c2538b713e16887eb598da309bc7b4d528

150905-150924 --> testing pending

Upstream job id: Generic-VM-Unit-Test-DPDK#27102

Test environment and result as below:

+---------------------+----------------+
|     Environment     | dpdk_unit_test |
+=====================+================+
| Debian Bullseye     | PEND           |
+---------------------+----------------+
| CentOS Stream 9     | PEND           |
+---------------------+----------------+
| Fedora 40           | PEND           |
+---------------------+----------------+
| Fedora 40 (Clang)   | PEND           |
+---------------------+----------------+
| Debian 12           | PEND           |
+---------------------+----------------+
| RHEL9               | PEND           |
+---------------------+----------------+
| Fedora 41 (Clang)   | PEND           |
+---------------------+----------------+
| Fedora 41           | PEND           |
+---------------------+----------------+
| RHEL8               | PEND           |
+---------------------+----------------+
| Ubuntu 22.04        | PEND           |
+---------------------+----------------+
| Ubuntu 20.04        | PEND           |
+---------------------+----------------+
| Ubuntu 24.04        | PEND           |
+---------------------+----------------+
| Windows Server 2022 | PASS           |
+---------------------+----------------+


Debian Bullseye
	Kernel: Depends on container host
	Compiler: gcc (Debian 10.2.1-6) 10.2.1 20210110

CentOS Stream 9
	Kernel: Depends on container host
	Compiler: gcc 11.5.0 20240719 (Red Hat 11.5.0-2)

Fedora 40
	Kernel: Depends on container host
	Compiler: gcc 14.2.1 20240912 (Red Hat 14.2.1-3)

Fedora 40 (Clang)
	Kernel: Depends on container host
	Compiler: clang 18.1.8 (Fedora 18.1.8-1.fc40)

Debian 12
	Kernel: Depends on container host
	Compiler: gcc (Debian 12.2.0-14) 12.2.0

RHEL9
	Kernel: Depends on container host
	Compiler: gcc 11.5.0 20240719 (Red Hat 11.5.0-2)

Fedora 41 (Clang)
	Kernel: Depends on container host
	Compiler: clang 19.1.5 (Fedora 19.1.5-1.fc41)

Fedora 41
	Kernel: Depends on container host
	Compiler: gcc 14.2.1 20240912 (Red Hat 14.2.1-3)

RHEL8
	Kernel: Depends on container host
	Compiler: gcc 8.5.0 20210514 (Red Hat 8.5.0-22)

Ubuntu 22.04
	Kernel: Depends on container host
	Compiler: gcc (Ubuntu 11.4.0-1ubuntu1~22.04) 11.4.0

Ubuntu 20.04
	Kernel: Depends on container host
	Compiler: gcc (Ubuntu 9.4.0-1ubuntu1~20.04.2) 9.4.0

Ubuntu 24.04
	Kernel: Depends on container host
	Compiler: gcc (Ubuntu 13.3.0-6ubuntu2~24.04) 13.3.0

Windows Server 2022
	Kernel: 10.0.20348.2031
	Compiler: clang 15.0.7, gcc 14.1.0 (MinGW), and MSVC VS 19.39.33521

To view detailed results, visit:
https://lab.dpdk.org/results/dashboard/patchsets/32494/

UNH-IOL DPDK Community Lab

To manage your email subscriptions, visit: 
https://lab.dpdk.org/results/dashboard/preferences/subscriptions/

^ permalink raw reply	[flat|nested] 19+ messages in thread

* |PENDING| pw150905-150924 [PATCH] [v21,27/27] config: add -Wvla proj
       [not found] <1738702638-22363-28-git-send-email-andremue@linux.microsoft.com>
                   ` (9 preceding siblings ...)
  2025-02-04 23:09 ` |PENDING| " dpdklab
@ 2025-02-05  0:05 ` dpdklab
  2025-02-05  0:24 ` |SUCCESS| pw150924 [PATCH v21 27/27] config: add -Wvla project-wide 0-day Robot
                   ` (7 subsequent siblings)
  18 siblings, 0 replies; 19+ messages in thread
From: dpdklab @ 2025-02-05  0:05 UTC (permalink / raw)
  To: Test Report; +Cc: dpdk-test-reports

Test-Label: iol-abi-testing
Test-Status: PENDING
http://dpdk.org/patch/150924

_Testing pending_

Submitter: Andre Muezerie <andremue@linux.microsoft.com>
Date: Tuesday, February 04 2025 20:57:18 
DPDK git baseline: Repo:dpdk
  Branch: master
  CommitID:dc4ce7c2538b713e16887eb598da309bc7b4d528

150905-150924 --> testing pending

Upstream job id: Generic-DPDK-Compile-ABI#114779

Test environment and result as below:

+-------------------+----------+
|    Environment    | abi_test |
+===================+==========+
| CentOS Stream 9   | PASS     |
+-------------------+----------+
| Debian Bullseye   | PEND     |
+-------------------+----------+
| Debian 12         | PEND     |
+-------------------+----------+
| Fedora 40         | PEND     |
+-------------------+----------+
| Fedora 40 (Clang) | PEND     |
+-------------------+----------+
| Fedora 41 (Clang) | PEND     |
+-------------------+----------+
| openSUSE Leap 15  | PEND     |
+-------------------+----------+
| RHEL8             | PEND     |
+-------------------+----------+
| Fedora 41         | PEND     |
+-------------------+----------+
| RHEL9             | PEND     |
+-------------------+----------+
| Ubuntu 22.04      | PEND     |
+-------------------+----------+
| Ubuntu 24.04      | PEND     |
+-------------------+----------+


CentOS Stream 9
	Kernel: Depends on container host
	Compiler: gcc 11.5.0 20240719 (Red Hat 11.5.0-2)

Debian Bullseye
	Kernel: Depends on container host
	Compiler: gcc (Debian 10.2.1-6) 10.2.1 20210110

Debian 12
	Kernel: Depends on container host
	Compiler: gcc (Debian 12.2.0-14) 12.2.0

Fedora 40
	Kernel: Depends on container host
	Compiler: gcc 14.2.1 20240912 (Red Hat 14.2.1-3)

Fedora 40 (Clang)
	Kernel: Depends on container host
	Compiler: clang 18.1.8 (Fedora 18.1.8-1.fc40)

Fedora 41 (Clang)
	Kernel: Depends on container host
	Compiler: clang 19.1.5 (Fedora 19.1.5-1.fc41)

openSUSE Leap 15
	Kernel: Depends on container host
	Compiler: gcc (SUSE Linux) 7.5.0

RHEL8
	Kernel: Depends on container host
	Compiler: gcc 8.5.0 20210514 (Red Hat 8.5.0-22)

Fedora 41
	Kernel: Depends on container host
	Compiler: gcc 14.2.1 20240912 (Red Hat 14.2.1-3)

RHEL9
	Kernel: Depends on container host
	Compiler: gcc 11.5.0 20240719 (Red Hat 11.5.0-2)

Ubuntu 22.04
	Kernel: Depends on container host
	Compiler: gcc (Ubuntu 11.4.0-1ubuntu1~22.04) 11.4.0

Ubuntu 24.04
	Kernel: Depends on container host
	Compiler: gcc (Ubuntu 13.3.0-6ubuntu2~24.04) 13.3.0

To view detailed results, visit:
https://lab.dpdk.org/results/dashboard/patchsets/32494/

UNH-IOL DPDK Community Lab

To manage your email subscriptions, visit: 
https://lab.dpdk.org/results/dashboard/preferences/subscriptions/

^ permalink raw reply	[flat|nested] 19+ messages in thread

* |SUCCESS| pw150924 [PATCH v21 27/27] config: add -Wvla project-wide
       [not found] <1738702638-22363-28-git-send-email-andremue@linux.microsoft.com>
                   ` (10 preceding siblings ...)
  2025-02-05  0:05 ` dpdklab
@ 2025-02-05  0:24 ` 0-day Robot
  2025-02-05  0:37 ` |SUCCESS| pw150905-150924 [PATCH] [v21,27/27] config: add -Wvla proj dpdklab
                   ` (6 subsequent siblings)
  18 siblings, 0 replies; 19+ messages in thread
From: 0-day Robot @ 2025-02-05  0:24 UTC (permalink / raw)
  To: test-report; +Cc: robot

From: robot@bytheb.org

Test-Label: github-robot: build
Test-Status: SUCCESS
http://patchwork.dpdk.org/patch/150924/

_github build: passed_
Build URL: https://github.com/ovsrobot/dpdk/actions/runs/13145145437

^ permalink raw reply	[flat|nested] 19+ messages in thread

* |SUCCESS| pw150905-150924 [PATCH] [v21,27/27] config: add -Wvla proj
       [not found] <1738702638-22363-28-git-send-email-andremue@linux.microsoft.com>
                   ` (11 preceding siblings ...)
  2025-02-05  0:24 ` |SUCCESS| pw150924 [PATCH v21 27/27] config: add -Wvla project-wide 0-day Robot
@ 2025-02-05  0:37 ` dpdklab
  2025-02-05  1:20 ` dpdklab
                   ` (5 subsequent siblings)
  18 siblings, 0 replies; 19+ messages in thread
From: dpdklab @ 2025-02-05  0:37 UTC (permalink / raw)
  To: Test Report; +Cc: dpdk-test-reports

Test-Label: iol-sample-apps-testing
Test-Status: SUCCESS
http://dpdk.org/patch/150924

_Testing PASS_

Submitter: Andre Muezerie <andremue@linux.microsoft.com>
Date: Tuesday, February 04 2025 20:57:18 
DPDK git baseline: Repo:dpdk
  Branch: master
  CommitID:dc4ce7c2538b713e16887eb598da309bc7b4d528

150905-150924 --> testing pass

Upstream job id: Template-DTS-Pipeline#210585

Test environment and result as below:

+--------------------+----------------------+
|    Environment     | compressdev_zlib_pmd |
+====================+======================+
| Ubuntu 22.04 (ARM) | PASS                 |
+--------------------+----------------------+
| Ubuntu 22.04       | PASS                 |
+--------------------+----------------------+


Ubuntu 22.04 (ARM)
	Kernel: 5.15.0-97-generic
	Compiler: gcc gcc (Ubuntu 11.4.0-1ubuntu1~22.04) 11.4.0

Ubuntu 22.04
	Kernel: 5.15.0-100-generic
	Compiler: gcc gcc (Ubuntu 11.4.0-1ubuntu1~22.04) 11.4.0

To view detailed results, visit:
https://lab.dpdk.org/results/dashboard/patchsets/32494/

UNH-IOL DPDK Community Lab

To manage your email subscriptions, visit: 
https://lab.dpdk.org/results/dashboard/preferences/subscriptions/

^ permalink raw reply	[flat|nested] 19+ messages in thread

* |SUCCESS| pw150905-150924 [PATCH] [v21,27/27] config: add -Wvla proj
       [not found] <1738702638-22363-28-git-send-email-andremue@linux.microsoft.com>
                   ` (12 preceding siblings ...)
  2025-02-05  0:37 ` |SUCCESS| pw150905-150924 [PATCH] [v21,27/27] config: add -Wvla proj dpdklab
@ 2025-02-05  1:20 ` dpdklab
  2025-02-05  1:20 ` dpdklab
                   ` (4 subsequent siblings)
  18 siblings, 0 replies; 19+ messages in thread
From: dpdklab @ 2025-02-05  1:20 UTC (permalink / raw)
  To: Test Report; +Cc: dpdk-test-reports

Test-Label: iol-abi-testing
Test-Status: SUCCESS
http://dpdk.org/patch/150924

_Testing PASS_

Submitter: Andre Muezerie <andremue@linux.microsoft.com>
Date: Tuesday, February 04 2025 20:57:18 
DPDK git baseline: Repo:dpdk
  Branch: master
  CommitID:dc4ce7c2538b713e16887eb598da309bc7b4d528

150905-150924 --> testing pass

Upstream job id: Generic-DPDK-Compile-ABI#114780

Test environment and result as below:

+-------------------+----------+
|    Environment    | abi_test |
+===================+==========+
| CentOS Stream 9   | PASS     |
+-------------------+----------+
| Debian Bullseye   | PASS     |
+-------------------+----------+
| Debian 12         | PASS     |
+-------------------+----------+
| Fedora 40         | PASS     |
+-------------------+----------+
| Fedora 40 (Clang) | PASS     |
+-------------------+----------+
| Fedora 41 (Clang) | PASS     |
+-------------------+----------+
| openSUSE Leap 15  | PASS     |
+-------------------+----------+
| RHEL8             | PASS     |
+-------------------+----------+
| Fedora 41         | PASS     |
+-------------------+----------+
| RHEL9             | PASS     |
+-------------------+----------+
| Ubuntu 22.04      | PASS     |
+-------------------+----------+
| Ubuntu 24.04      | PASS     |
+-------------------+----------+


CentOS Stream 9
	Kernel: Depends on container host
	Compiler: gcc 11.5.0 20240719 (Red Hat 11.5.0-2)

Debian Bullseye
	Kernel: Depends on container host
	Compiler: gcc (Debian 10.2.1-6) 10.2.1 20210110

Debian 12
	Kernel: Depends on container host
	Compiler: gcc (Debian 12.2.0-14) 12.2.0

Fedora 40
	Kernel: Depends on container host
	Compiler: gcc 14.2.1 20240912 (Red Hat 14.2.1-3)

Fedora 40 (Clang)
	Kernel: Depends on container host
	Compiler: clang 18.1.8 (Fedora 18.1.8-1.fc40)

Fedora 41 (Clang)
	Kernel: Depends on container host
	Compiler: clang 19.1.5 (Fedora 19.1.5-1.fc41)

openSUSE Leap 15
	Kernel: Depends on container host
	Compiler: gcc (SUSE Linux) 7.5.0

RHEL8
	Kernel: Depends on container host
	Compiler: gcc 8.5.0 20210514 (Red Hat 8.5.0-22)

Fedora 41
	Kernel: Depends on container host
	Compiler: gcc 14.2.1 20240912 (Red Hat 14.2.1-3)

RHEL9
	Kernel: Depends on container host
	Compiler: gcc 11.5.0 20240719 (Red Hat 11.5.0-2)

Ubuntu 22.04
	Kernel: Depends on container host
	Compiler: gcc (Ubuntu 11.4.0-1ubuntu1~22.04) 11.4.0

Ubuntu 24.04
	Kernel: Depends on container host
	Compiler: gcc (Ubuntu 13.3.0-6ubuntu2~24.04) 13.3.0

To view detailed results, visit:
https://lab.dpdk.org/results/dashboard/patchsets/32494/

UNH-IOL DPDK Community Lab

To manage your email subscriptions, visit: 
https://lab.dpdk.org/results/dashboard/preferences/subscriptions/

^ permalink raw reply	[flat|nested] 19+ messages in thread

* |SUCCESS| pw150905-150924 [PATCH] [v21,27/27] config: add -Wvla proj
       [not found] <1738702638-22363-28-git-send-email-andremue@linux.microsoft.com>
                   ` (13 preceding siblings ...)
  2025-02-05  1:20 ` dpdklab
@ 2025-02-05  1:20 ` dpdklab
  2025-02-05  2:56 ` |PENDING| " dpdklab
                   ` (3 subsequent siblings)
  18 siblings, 0 replies; 19+ messages in thread
From: dpdklab @ 2025-02-05  1:20 UTC (permalink / raw)
  To: Test Report; +Cc: dpdk-test-reports

Test-Label: iol-abi-testing
Test-Status: SUCCESS
http://dpdk.org/patch/150924

_Testing PASS_

Submitter: Andre Muezerie <andremue@linux.microsoft.com>
Date: Tuesday, February 04 2025 20:57:18 
DPDK git baseline: Repo:dpdk
  Branch: master
  CommitID:dc4ce7c2538b713e16887eb598da309bc7b4d528

150905-150924 --> testing pass

Upstream job id: Generic-DPDK-Compile-ABI#114782

Test environment and result as below:

+-------------------+----------+
|    Environment    | abi_test |
+===================+==========+
| CentOS Stream 9   | PASS     |
+-------------------+----------+
| Debian Bullseye   | PASS     |
+-------------------+----------+
| Debian 12         | PASS     |
+-------------------+----------+
| Fedora 40         | PASS     |
+-------------------+----------+
| Fedora 40 (Clang) | PASS     |
+-------------------+----------+
| Fedora 41 (Clang) | PASS     |
+-------------------+----------+
| openSUSE Leap 15  | PASS     |
+-------------------+----------+
| RHEL8             | PASS     |
+-------------------+----------+
| Fedora 41         | PASS     |
+-------------------+----------+
| RHEL9             | PASS     |
+-------------------+----------+
| Ubuntu 22.04      | PASS     |
+-------------------+----------+
| Ubuntu 24.04      | PASS     |
+-------------------+----------+


CentOS Stream 9
	Kernel: Depends on container host
	Compiler: gcc 11.5.0 20240719 (Red Hat 11.5.0-2)

Debian Bullseye
	Kernel: Depends on container host
	Compiler: gcc (Debian 10.2.1-6) 10.2.1 20210110

Debian 12
	Kernel: Depends on container host
	Compiler: gcc (Debian 12.2.0-14) 12.2.0

Fedora 40
	Kernel: Depends on container host
	Compiler: gcc 14.2.1 20240912 (Red Hat 14.2.1-3)

Fedora 40 (Clang)
	Kernel: Depends on container host
	Compiler: clang 18.1.8 (Fedora 18.1.8-1.fc40)

Fedora 41 (Clang)
	Kernel: Depends on container host
	Compiler: clang 19.1.5 (Fedora 19.1.5-1.fc41)

openSUSE Leap 15
	Kernel: Depends on container host
	Compiler: gcc (SUSE Linux) 7.5.0

RHEL8
	Kernel: Depends on container host
	Compiler: gcc 8.5.0 20210514 (Red Hat 8.5.0-22)

Fedora 41
	Kernel: Depends on container host
	Compiler: gcc 14.2.1 20240912 (Red Hat 14.2.1-3)

RHEL9
	Kernel: Depends on container host
	Compiler: gcc 11.5.0 20240719 (Red Hat 11.5.0-2)

Ubuntu 22.04
	Kernel: Depends on container host
	Compiler: gcc (Ubuntu 11.4.0-1ubuntu1~22.04) 11.4.0

Ubuntu 24.04
	Kernel: Depends on container host
	Compiler: gcc (Ubuntu 13.3.0-6ubuntu2~24.04) 13.3.0

To view detailed results, visit:
https://lab.dpdk.org/results/dashboard/patchsets/32494/

UNH-IOL DPDK Community Lab

To manage your email subscriptions, visit: 
https://lab.dpdk.org/results/dashboard/preferences/subscriptions/

^ permalink raw reply	[flat|nested] 19+ messages in thread

* |PENDING| pw150905-150924 [PATCH] [v21,27/27] config: add -Wvla proj
       [not found] <1738702638-22363-28-git-send-email-andremue@linux.microsoft.com>
                   ` (14 preceding siblings ...)
  2025-02-05  1:20 ` dpdklab
@ 2025-02-05  2:56 ` dpdklab
  2025-02-05  3:42 ` |SUCCESS| " dpdklab
                   ` (2 subsequent siblings)
  18 siblings, 0 replies; 19+ messages in thread
From: dpdklab @ 2025-02-05  2:56 UTC (permalink / raw)
  To: Test Report; +Cc: dpdk-test-reports

Test-Label: iol-unit-arm64-testing
Test-Status: PENDING
http://dpdk.org/patch/150924

_Testing pending_

Submitter: Andre Muezerie <andremue@linux.microsoft.com>
Date: Tuesday, February 04 2025 20:57:18 
DPDK git baseline: Repo:dpdk
  Branch: master
  CommitID:dc4ce7c2538b713e16887eb598da309bc7b4d528

150905-150924 --> testing pending

Upstream job id: Generic-Unit-Test-DPDK#311645

Test environment and result as below:

+--------------------------+------------------------------+--------------+---------------------------+----------------+
|       Environment        | cryptodev_sw_snow3g_autotest | lpm_autotest | cryptodev_sw_zuc_autotest | dpdk_unit_test |
+==========================+==============================+==============+===========================+================+
| Debian 12 (arm)          | PEND                         | SKIPPED      | PEND                      | PEND           |
+--------------------------+------------------------------+--------------+---------------------------+----------------+
| Ubuntu 20.04 ARM SVE     | SKIPPED                      | PASS         | SKIPPED                   | SKIPPED        |
+--------------------------+------------------------------+--------------+---------------------------+----------------+
| CentOS Stream 9 (ARM)    | SKIPPED                      | SKIPPED      | SKIPPED                   | PEND           |
+--------------------------+------------------------------+--------------+---------------------------+----------------+
| Debian 11 (Buster) (ARM) | SKIPPED                      | SKIPPED      | SKIPPED                   | PEND           |
+--------------------------+------------------------------+--------------+---------------------------+----------------+
| Fedora 40 (ARM)          | SKIPPED                      | SKIPPED      | SKIPPED                   | PEND           |
+--------------------------+------------------------------+--------------+---------------------------+----------------+
| Fedora 41 (ARM)          | SKIPPED                      | SKIPPED      | SKIPPED                   | PEND           |
+--------------------------+------------------------------+--------------+---------------------------+----------------+
| Fedora 40 (ARM Clang)    | SKIPPED                      | SKIPPED      | SKIPPED                   | PEND           |
+--------------------------+------------------------------+--------------+---------------------------+----------------+
| Fedora 41 (ARM Clang)    | SKIPPED                      | SKIPPED      | SKIPPED                   | PEND           |
+--------------------------+------------------------------+--------------+---------------------------+----------------+
| RHEL9 (ARM)              | SKIPPED                      | SKIPPED      | SKIPPED                   | PEND           |
+--------------------------+------------------------------+--------------+---------------------------+----------------+
| Ubuntu 20.04 (ARM)       | SKIPPED                      | SKIPPED      | SKIPPED                   | PEND           |
+--------------------------+------------------------------+--------------+---------------------------+----------------+
| Ubuntu 22.04 (ARM)       | SKIPPED                      | SKIPPED      | SKIPPED                   | PEND           |
+--------------------------+------------------------------+--------------+---------------------------+----------------+
| Ubuntu 24.04 (ARM)       | SKIPPED                      | SKIPPED      | SKIPPED                   | PEND           |
+--------------------------+------------------------------+--------------+---------------------------+----------------+


Debian 12 (arm)
	Kernel: Depends on container host
	Compiler: gcc (Debian 12.2.0-14) 12.2.0

Ubuntu 20.04 ARM SVE
	Kernel: Depends on container host
	Compiler: gcc (Ubuntu 10.5.0-1ubuntu1~20.04) 10.5.0

CentOS Stream 9 (ARM)
	Kernel: Depends on container host
	Compiler: gcc 11.5.0 20240719 (Red Hat 11.5.0-2)

Debian 11 (Buster) (ARM)
	Kernel: Depends on container host
	Compiler: gcc (Debian 10.2.1-6) 10.2.1 20210110

Fedora 40 (ARM)
	Kernel: Depends on container host
	Compiler: gcc 14.2.1 20240912 (Red Hat 14.2.1-3)

Fedora 41 (ARM)
	Kernel: Depends on container host
	Compiler: gcc 14.2.1 20240912 (Red Hat 14.2.1-3)

Fedora 40 (ARM Clang)
	Kernel: Depends on container host
	Compiler: clang 18.1.8 (Fedora 18.1.8-1.fc40)

Fedora 41 (ARM Clang)
	Kernel: Depends on container host
	Compiler: clang 19.1.5 (Fedora 19.1.5-1.fc41)

RHEL9 (ARM)
	Kernel: Depends on container host
	Compiler: gcc 11.5.0 20240719 (Red Hat 11.5.0-2)

Ubuntu 20.04 (ARM)
	Kernel: Depends on container host
	Compiler: gcc (Ubuntu 9.4.0-1ubuntu1~20.04.2) 9.4.0

Ubuntu 22.04 (ARM)
	Kernel: Depends on container host
	Compiler: gcc (Ubuntu 11.4.0-1ubuntu1~22.04) 11.4.0

Ubuntu 24.04 (ARM)
	Kernel: Depends on container host
	Compiler: gcc (Ubuntu 13.3.0-6ubuntu2~24.04) 13.3.0

To view detailed results, visit:
https://lab.dpdk.org/results/dashboard/patchsets/32494/

UNH-IOL DPDK Community Lab

To manage your email subscriptions, visit: 
https://lab.dpdk.org/results/dashboard/preferences/subscriptions/

^ permalink raw reply	[flat|nested] 19+ messages in thread

* |SUCCESS| pw150905-150924 [PATCH] [v21,27/27] config: add -Wvla proj
       [not found] <1738702638-22363-28-git-send-email-andremue@linux.microsoft.com>
                   ` (15 preceding siblings ...)
  2025-02-05  2:56 ` |PENDING| " dpdklab
@ 2025-02-05  3:42 ` dpdklab
  2025-02-05  5:02 ` dpdklab
  2025-02-05  5:37 ` |PENDING| " dpdklab
  18 siblings, 0 replies; 19+ messages in thread
From: dpdklab @ 2025-02-05  3:42 UTC (permalink / raw)
  To: Test Report; +Cc: dpdk-test-reports

Test-Label: iol-unit-amd64-testing
Test-Status: SUCCESS
http://dpdk.org/patch/150924

_Testing PASS_

Submitter: Andre Muezerie <andremue@linux.microsoft.com>
Date: Tuesday, February 04 2025 20:57:18 
DPDK git baseline: Repo:dpdk
  Branch: master
  CommitID:dc4ce7c2538b713e16887eb598da309bc7b4d528

150905-150924 --> testing pass

Upstream job id: Generic-Unit-Test-DPDK#311669

Test environment and result as below:

+---------------------+----------------+
|     Environment     | dpdk_unit_test |
+=====================+================+
| Debian Bullseye     | PASS           |
+---------------------+----------------+
| CentOS Stream 9     | PASS           |
+---------------------+----------------+
| Fedora 40           | PASS           |
+---------------------+----------------+
| Fedora 40 (Clang)   | PASS           |
+---------------------+----------------+
| Debian 12           | PASS           |
+---------------------+----------------+
| RHEL9               | PASS           |
+---------------------+----------------+
| Fedora 41 (Clang)   | PASS           |
+---------------------+----------------+
| Fedora 41           | PASS           |
+---------------------+----------------+
| RHEL8               | PASS           |
+---------------------+----------------+
| Ubuntu 22.04        | PASS           |
+---------------------+----------------+
| Ubuntu 20.04        | PASS           |
+---------------------+----------------+
| Ubuntu 24.04        | PASS           |
+---------------------+----------------+
| Windows Server 2022 | PASS           |
+---------------------+----------------+


Debian Bullseye
	Kernel: Depends on container host
	Compiler: gcc (Debian 10.2.1-6) 10.2.1 20210110

CentOS Stream 9
	Kernel: Depends on container host
	Compiler: gcc 11.5.0 20240719 (Red Hat 11.5.0-2)

Fedora 40
	Kernel: Depends on container host
	Compiler: gcc 14.2.1 20240912 (Red Hat 14.2.1-3)

Fedora 40 (Clang)
	Kernel: Depends on container host
	Compiler: clang 18.1.8 (Fedora 18.1.8-1.fc40)

Debian 12
	Kernel: Depends on container host
	Compiler: gcc (Debian 12.2.0-14) 12.2.0

RHEL9
	Kernel: Depends on container host
	Compiler: gcc 11.5.0 20240719 (Red Hat 11.5.0-2)

Fedora 41 (Clang)
	Kernel: Depends on container host
	Compiler: clang 19.1.5 (Fedora 19.1.5-1.fc41)

Fedora 41
	Kernel: Depends on container host
	Compiler: gcc 14.2.1 20240912 (Red Hat 14.2.1-3)

RHEL8
	Kernel: Depends on container host
	Compiler: gcc 8.5.0 20210514 (Red Hat 8.5.0-22)

Ubuntu 22.04
	Kernel: Depends on container host
	Compiler: gcc (Ubuntu 11.4.0-1ubuntu1~22.04) 11.4.0

Ubuntu 20.04
	Kernel: Depends on container host
	Compiler: gcc (Ubuntu 9.4.0-1ubuntu1~20.04.2) 9.4.0

Ubuntu 24.04
	Kernel: Depends on container host
	Compiler: gcc (Ubuntu 13.3.0-6ubuntu2~24.04) 13.3.0

Windows Server 2022
	Kernel: 10.0.20348.2031
	Compiler: clang 15.0.7, gcc 14.1.0 (MinGW), and MSVC VS 19.39.33521

To view detailed results, visit:
https://lab.dpdk.org/results/dashboard/patchsets/32494/

UNH-IOL DPDK Community Lab

To manage your email subscriptions, visit: 
https://lab.dpdk.org/results/dashboard/preferences/subscriptions/

^ permalink raw reply	[flat|nested] 19+ messages in thread

* |SUCCESS| pw150905-150924 [PATCH] [v21,27/27] config: add -Wvla proj
       [not found] <1738702638-22363-28-git-send-email-andremue@linux.microsoft.com>
                   ` (16 preceding siblings ...)
  2025-02-05  3:42 ` |SUCCESS| " dpdklab
@ 2025-02-05  5:02 ` dpdklab
  2025-02-05  5:37 ` |PENDING| " dpdklab
  18 siblings, 0 replies; 19+ messages in thread
From: dpdklab @ 2025-02-05  5:02 UTC (permalink / raw)
  To: Test Report; +Cc: dpdk-test-reports

Test-Label: iol-compile-amd64-testing
Test-Status: SUCCESS
http://dpdk.org/patch/150924

_Testing PASS_

Submitter: Andre Muezerie <andremue@linux.microsoft.com>
Date: Tuesday, February 04 2025 20:57:18 
DPDK git baseline: Repo:dpdk
  Branch: master
  CommitID:dc4ce7c2538b713e16887eb598da309bc7b4d528

150905-150924 --> testing pass

Upstream job id: Generic-DPDK-Compile-Meson#357810

Test environment and result as below:

+---------------------+-------------------+--------------------+------------------+-------------------+
|     Environment     | dpdk_msvc_compile | dpdk_meson_compile | dpdk_compile_ovs | dpdk_compile_spdk |
+=====================+===================+====================+==================+===================+
| Windows Server 2022 | PASS              | SKIPPED            | SKIPPED          | SKIPPED           |
+---------------------+-------------------+--------------------+------------------+-------------------+
| FreeBSD 13.4        | SKIPPED           | PASS               | SKIPPED          | SKIPPED           |
+---------------------+-------------------+--------------------+------------------+-------------------+
| FreeBSD 14.2        | SKIPPED           | PASS               | SKIPPED          | SKIPPED           |
+---------------------+-------------------+--------------------+------------------+-------------------+
| CentOS Stream 9     | SKIPPED           | PASS               | PASS             | PASS              |
+---------------------+-------------------+--------------------+------------------+-------------------+
| Debian Bullseye     | SKIPPED           | PASS               | PASS             | PASS              |
+---------------------+-------------------+--------------------+------------------+-------------------+
| Debian 12           | SKIPPED           | PASS               | PASS             | PASS              |
+---------------------+-------------------+--------------------+------------------+-------------------+
| Fedora 40 (Clang)   | SKIPPED           | PASS               | PASS             | PASS              |
+---------------------+-------------------+--------------------+------------------+-------------------+
| Fedora 40           | SKIPPED           | PASS               | PASS             | PASS              |
+---------------------+-------------------+--------------------+------------------+-------------------+
| Fedora 41 (Clang)   | SKIPPED           | PASS               | PASS             | PASS              |
+---------------------+-------------------+--------------------+------------------+-------------------+
| Fedora 41           | SKIPPED           | PASS               | PASS             | PASS              |
+---------------------+-------------------+--------------------+------------------+-------------------+
| openSUSE Leap 15    | SKIPPED           | PASS               | SKIPPED          | SKIPPED           |
+---------------------+-------------------+--------------------+------------------+-------------------+
| RHEL8               | SKIPPED           | PASS               | PASS             | SKIPPED           |
+---------------------+-------------------+--------------------+------------------+-------------------+
| RHEL9               | SKIPPED           | PASS               | PASS             | SKIPPED           |
+---------------------+-------------------+--------------------+------------------+-------------------+
| Ubuntu 20.04        | SKIPPED           | PASS               | SKIPPED          | SKIPPED           |
+---------------------+-------------------+--------------------+------------------+-------------------+
| Ubuntu 22.04        | SKIPPED           | PASS               | PASS             | PASS              |
+---------------------+-------------------+--------------------+------------------+-------------------+
| Ubuntu 24.04        | SKIPPED           | PASS               | PASS             | PASS              |
+---------------------+-------------------+--------------------+------------------+-------------------+
| Alpine              | SKIPPED           | PASS               | PASS             | SKIPPED           |
+---------------------+-------------------+--------------------+------------------+-------------------+


Windows Server 2022
	Kernel: 10.0.20348.2031
	Compiler: clang 15.0.7, gcc 14.1.0 (MinGW), and MSVC VS 19.39.33521

FreeBSD 13.4
	Kernel: 13.4-RELEASE-p1
	Compiler: clang 18.1.6

FreeBSD 14.2
	Kernel: 14.2-RELEASE
	Compiler: clang 18.1.6

CentOS Stream 9
	Kernel: Depends on container host
	Compiler: gcc 11.5.0 20240719 (Red Hat 11.5.0-2)

Debian Bullseye
	Kernel: Depends on container host
	Compiler: gcc (Debian 10.2.1-6) 10.2.1 20210110

Debian 12
	Kernel: Depends on container host
	Compiler: gcc (Debian 12.2.0-14) 12.2.0

Fedora 40 (Clang)
	Kernel: Depends on container host
	Compiler: clang 18.1.8 (Fedora 18.1.8-1.fc40)

Fedora 40
	Kernel: Depends on container host
	Compiler: gcc 14.2.1 20240912 (Red Hat 14.2.1-3)

Fedora 41 (Clang)
	Kernel: Depends on container host
	Compiler: clang 19.1.5 (Fedora 19.1.5-1.fc41)

Fedora 41
	Kernel: Depends on container host
	Compiler: gcc 14.2.1 20240912 (Red Hat 14.2.1-3)

openSUSE Leap 15
	Kernel: Depends on container host
	Compiler: gcc (SUSE Linux) 7.5.0

RHEL8
	Kernel: Depends on container host
	Compiler: gcc 8.5.0 20210514 (Red Hat 8.5.0-22)

RHEL9
	Kernel: Depends on container host
	Compiler: gcc 11.5.0 20240719 (Red Hat 11.5.0-2)

Ubuntu 20.04
	Kernel: Depends on container host
	Compiler: gcc (Ubuntu 9.4.0-1ubuntu1~20.04.2) 9.4.0

Ubuntu 22.04
	Kernel: Depends on container host
	Compiler: gcc (Ubuntu 11.4.0-1ubuntu1~22.04) 11.4.0

Ubuntu 24.04
	Kernel: Depends on container host
	Compiler: gcc (Ubuntu 13.3.0-6ubuntu2~24.04) 13.3.0

Alpine
	Kernel: Depends on container host
	Compiler: gcc (Alpine 14.2.0) 14.2.0

To view detailed results, visit:
https://lab.dpdk.org/results/dashboard/patchsets/32494/

UNH-IOL DPDK Community Lab

To manage your email subscriptions, visit: 
https://lab.dpdk.org/results/dashboard/preferences/subscriptions/

^ permalink raw reply	[flat|nested] 19+ messages in thread

* |PENDING| pw150905-150924 [PATCH] [v21,27/27] config: add -Wvla proj
       [not found] <1738702638-22363-28-git-send-email-andremue@linux.microsoft.com>
                   ` (17 preceding siblings ...)
  2025-02-05  5:02 ` dpdklab
@ 2025-02-05  5:37 ` dpdklab
  18 siblings, 0 replies; 19+ messages in thread
From: dpdklab @ 2025-02-05  5:37 UTC (permalink / raw)
  To: Test Report; +Cc: dpdk-test-reports

Test-Label: iol-compile-arm64-testing
Test-Status: PENDING
http://dpdk.org/patch/150924

_Testing pending_

Submitter: Andre Muezerie <andremue@linux.microsoft.com>
Date: Tuesday, February 04 2025 20:57:18 
DPDK git baseline: Repo:dpdk
  Branch: master
  CommitID:dc4ce7c2538b713e16887eb598da309bc7b4d528

150905-150924 --> testing pending

Upstream job id: Generic-DPDK-Compile-Meson#357832

Test environment and result as below:

+--------------------------------------+--------------------+
|             Environment              | dpdk_meson_compile |
+======================================+====================+
| RHEL9 (ARM)                          | PEND               |
+--------------------------------------+--------------------+
| Ubuntu 20.04 ARM GCC Cross Compile   | PEND               |
+--------------------------------------+--------------------+
| Ubuntu 20.04 ARM SVE                 | PEND               |
+--------------------------------------+--------------------+
| Debian 12 with MUSDK                 | PEND               |
+--------------------------------------+--------------------+
| Fedora 40 (ARM)                      | PEND               |
+--------------------------------------+--------------------+
| Fedora 40 (ARM Clang)                | PEND               |
+--------------------------------------+--------------------+
| Fedora 41 (ARM)                      | PEND               |
+--------------------------------------+--------------------+
| Fedora 41 (ARM Clang)                | PEND               |
+--------------------------------------+--------------------+
| Ubuntu 20.04 (ARM)                   | PEND               |
+--------------------------------------+--------------------+
| Ubuntu 22.04 (ARM)                   | PEND               |
+--------------------------------------+--------------------+
| Ubuntu 24.04 (ARM)                   | PEND               |
+--------------------------------------+--------------------+
| CentOS Stream 9 (ARM)                | PEND               |
+--------------------------------------+--------------------+
| Debian 11 (Buster) (ARM)             | PEND               |
+--------------------------------------+--------------------+
| Debian 12 (arm)                      | PEND               |
+--------------------------------------+--------------------+
| Ubuntu 20.04 ARM Clang Cross Compile | PASS               |
+--------------------------------------+--------------------+


RHEL9 (ARM)
	Kernel: Depends on container host
	Compiler: gcc 11.5.0 20240719 (Red Hat 11.5.0-2)

Ubuntu 20.04 ARM GCC Cross Compile
	Kernel: Depends on container host
	Compiler: aarch64-linux-gnu-gcc (Ubuntu 9.4.0-1ubuntu1~20.04.2) 9.4.0

Ubuntu 20.04 ARM SVE
	Kernel: Depends on container host
	Compiler: gcc (Ubuntu 10.5.0-1ubuntu1~20.04) 10.5.0

Debian 12 with MUSDK
	Kernel: Depends on container host
	Compiler: gcc (Debian 12.2.0-14) 12.2.0

Fedora 40 (ARM)
	Kernel: Depends on container host
	Compiler: gcc 14.2.1 20240912 (Red Hat 14.2.1-3)

Fedora 40 (ARM Clang)
	Kernel: Depends on container host
	Compiler: clang 18.1.8 (Fedora 18.1.8-1.fc40)

Fedora 41 (ARM)
	Kernel: Depends on container host
	Compiler: gcc 14.2.1 20240912 (Red Hat 14.2.1-3)

Fedora 41 (ARM Clang)
	Kernel: Depends on container host
	Compiler: clang 19.1.5 (Fedora 19.1.5-1.fc41)

Ubuntu 20.04 (ARM)
	Kernel: Depends on container host
	Compiler: gcc (Ubuntu 9.4.0-1ubuntu1~20.04.2) 9.4.0

Ubuntu 22.04 (ARM)
	Kernel: Depends on container host
	Compiler: gcc (Ubuntu 11.4.0-1ubuntu1~22.04) 11.4.0

Ubuntu 24.04 (ARM)
	Kernel: Depends on container host
	Compiler: gcc (Ubuntu 13.3.0-6ubuntu2~24.04) 13.3.0

CentOS Stream 9 (ARM)
	Kernel: Depends on container host
	Compiler: gcc 11.5.0 20240719 (Red Hat 11.5.0-2)

Debian 11 (Buster) (ARM)
	Kernel: Depends on container host
	Compiler: gcc (Debian 10.2.1-6) 10.2.1 20210110

Debian 12 (arm)
	Kernel: Depends on container host
	Compiler: gcc (Debian 12.2.0-14) 12.2.0

Ubuntu 20.04 ARM Clang Cross Compile
	Kernel: Depends on container host
	Compiler: clang 10.0.0-4ubuntu1

To view detailed results, visit:
https://lab.dpdk.org/results/dashboard/patchsets/32494/

UNH-IOL DPDK Community Lab

To manage your email subscriptions, visit: 
https://lab.dpdk.org/results/dashboard/preferences/subscriptions/

^ permalink raw reply	[flat|nested] 19+ messages in thread

end of thread, other threads:[~2025-02-05  5:37 UTC | newest]

Thread overview: 19+ messages (download: mbox.gz / follow: Atom feed)
-- links below jump to the message on this page --
     [not found] <1738702638-22363-28-git-send-email-andremue@linux.microsoft.com>
2025-02-04 20:48 ` |SUCCESS| pw150905-150924 [PATCH v21 27/27] config: add -Wvla project-wide qemudev
2025-02-04 20:53 ` qemudev
2025-02-04 20:58 ` |SUCCESS| pw150924 " checkpatch
2025-02-04 21:57 ` |SUCCESS| pw150905-150924 [PATCH] [v21,27/27] config: add -Wvla proj dpdklab
2025-02-04 22:21 ` dpdklab
2025-02-04 22:38 ` dpdklab
2025-02-04 22:56 ` |PENDING| " dpdklab
2025-02-04 23:01 ` |SUCCESS| " dpdklab
2025-02-04 23:01 ` dpdklab
2025-02-04 23:09 ` |PENDING| " dpdklab
2025-02-05  0:05 ` dpdklab
2025-02-05  0:24 ` |SUCCESS| pw150924 [PATCH v21 27/27] config: add -Wvla project-wide 0-day Robot
2025-02-05  0:37 ` |SUCCESS| pw150905-150924 [PATCH] [v21,27/27] config: add -Wvla proj dpdklab
2025-02-05  1:20 ` dpdklab
2025-02-05  1:20 ` dpdklab
2025-02-05  2:56 ` |PENDING| " dpdklab
2025-02-05  3:42 ` |SUCCESS| " dpdklab
2025-02-05  5:02 ` dpdklab
2025-02-05  5:37 ` |PENDING| " dpdklab

This is a public inbox, see mirroring instructions
for how to clone and mirror all data and code used for this inbox;
as well as URLs for NNTP newsgroup(s).