From mboxrd@z Thu Jan 1 00:00:00 1970 Return-Path: Received: from mails.dpdk.org (mails.dpdk.org [217.70.189.124]) by inbox.dpdk.org (Postfix) with ESMTP id 2AAEF46193 for ; Wed, 5 Feb 2025 03:59:00 +0100 (CET) Received: from mails.dpdk.org (localhost [127.0.0.1]) by mails.dpdk.org (Postfix) with ESMTP id 04DD74021E; Wed, 5 Feb 2025 03:59:00 +0100 (CET) Received: from mail-pl1-f226.google.com (mail-pl1-f226.google.com [209.85.214.226]) by mails.dpdk.org (Postfix) with ESMTP id 81162400EF for ; Wed, 5 Feb 2025 03:58:58 +0100 (CET) Received: by mail-pl1-f226.google.com with SMTP id d9443c01a7336-21f169e9595so5751765ad.2 for ; Tue, 04 Feb 2025 18:58:58 -0800 (PST) DKIM-Signature: v=1; a=rsa-sha256; c=relaxed/relaxed; d=iol.unh.edu; s=unh-iol; t=1738724337; x=1739329137; darn=dpdk.org; h=references:in-reply-to:cc:to:from:subject:message-id:date:from:to :cc:subject:date:message-id:reply-to; bh=yxBDBSb9aDPhdMjvrPGRlCbVQOjrqzXC78XXpZMddA8=; b=jMfXuGYkwvCqHAvyPw4vKIisxYpjvcnB9YowNXrQP8L6aw4F3J3RPX/53vRKYZgyGY 6BdKs8wxTn74O9hNEepNR5g4XHQG+pqaYueoz68RuUwaEzzBxULNC1bn0HpHQYqm/b9q 3S5Iq1ITqgsY0zxb3qxTUnRp7P4xCKqMXmvJk= X-Google-DKIM-Signature: v=1; a=rsa-sha256; c=relaxed/relaxed; d=1e100.net; s=20230601; t=1738724337; x=1739329137; h=references:in-reply-to:cc:to:from:subject:message-id:date :x-gm-message-state:from:to:cc:subject:date:message-id:reply-to; bh=yxBDBSb9aDPhdMjvrPGRlCbVQOjrqzXC78XXpZMddA8=; b=Jb6B+o/KZlygVjsUf4dN8jC4gRhqJqEwhoDt7H/x9pbIVHqxrXZ8BftIQO2gKUftjs dfWK8NWeobNA5fCbD7CTqVV9V5ACxFMAEqv39aVV4rGlcU5HsFSPFzBfPtmvpXZrUWlJ X8XpfG6uPqOltJDxnpiTN6Sb2l0/xczvawt1x8QoDaMZR9TeprFs38wkmqUylfO+5TFC KfWH3i8woGuxpr8avrWLfX9duFPbapY/+Q/H0vVnhZky0HvSdpr1WTiIgnedDQhXluM1 ZV4Iv7b0Vl9ZB7YXYMvkeKErDGkPT43SGie6frMrx3pyTvjuP5fOGQNwE1su93Z2dO8b FTEw== X-Gm-Message-State: AOJu0YzqbEOklmPIjg7MxmizJOMvnhNIq2ft3PYVZYQUkmKlF6tpdKrq iHUP+22kefyksaXQJiQOY601J/tjyLt4gqxygpz+3b8mGWDRntCfDs0xrfoNPhKgmiOICOCLaWh rYeDEndGgOmyenjc7gRB8SePyk0zngCV62SId5owpS8bNx45P++FBEnKf X-Gm-Gg: ASbGncsJK4OBR5H2rE68Z8aIdI+Ca0J+WhqQHxZJrl3FJyv9Ih+PO4HIM3OJspOJ0ZT cGevSg0s6FSgsBDi38bz5KI1C+R3VZ3oPPN/5Gc8gPsStx4Xs7VI38fQfJyUpC1gxA9RZBlhDdv haeOc35/SvKGmZpAcVpn+ZE7RQ0bQBmIMlDXB6RNKC3Wvd71dfpR5wT4GDXfVjEZPwvGSisPgZx UHnXcO1krJdD4auWo0QiAz7IUKoiz/d8v9zEs3Te5Gbw4h5IxQS8yrOiv6ESQADS3uVe/k/mSUr gMlt4OcJLu1LK5sGt/uhWMcNEywdZzWso/aAB78z6Q== X-Google-Smtp-Source: AGHT+IH0UfXOFfAA+EwpL/5t6kEMuxMpSKkl6lz5zOxguq3r4AyGtZslm4Y42CD/eawL9KA9INBiXOD8MEMZ X-Received: by 2002:a17:902:e84f:b0:215:7421:27c with SMTP id d9443c01a7336-21f17e7151amr18869295ad.29.1738724337608; Tue, 04 Feb 2025 18:58:57 -0800 (PST) Received: from postal.iol.unh.edu (postal.iol.unh.edu. [2606:4100:3880:1234::84]) by smtp-relay.gmail.com with ESMTPS id d9443c01a7336-21de33466ecsm6225975ad.110.2025.02.04.18.58.57 (version=TLS1_2 cipher=ECDHE-ECDSA-AES128-GCM-SHA256 bits=128/128); Tue, 04 Feb 2025 18:58:57 -0800 (PST) X-Relaying-Domain: iol.unh.edu Date: Tue, 04 Feb 2025 18:58:57 -0800 (PST) Message-ID: <67a2d3f1.170a0220.3143f4.e49aSMTPIN_ADDED_MISSING@mx.google.com> Received: from [172.21.0.5] (unknown [172.18.0.240]) by postal.iol.unh.edu (Postfix) with ESMTP id BC3316052471; Tue, 4 Feb 2025 21:58:56 -0500 (EST) Subject: |WARNING| pw150756-150757 [PATCH] [v5,2/2] net/af_xdp: Refactor af_x From: dpdklab@iol.unh.edu To: Test Report Cc: dpdk-test-reports@iol.unh.edu In-Reply-To: <20250131183439.909831-3-ariel.otilibili@6wind.com> References: <20250131183439.909831-3-ariel.otilibili@6wind.com> Content-Type: text/plain X-BeenThere: test-report@dpdk.org X-Mailman-Version: 2.1.29 Precedence: list List-Id: automatic DPDK test reports List-Unsubscribe: , List-Archive: List-Post: List-Help: List-Subscribe: , Errors-To: test-report-bounces@dpdk.org Test-Label: iol-compile-amd64-testing Test-Status: WARNING http://dpdk.org/patch/150757 _Testing issues_ Submitter: Ariel Otilibili Date: Friday, January 31 2025 18:34:39 DPDK git baseline: Repo:dpdk Branch: master CommitID:4a377fd5d560cfdece42b0d87b31c87efb7938d2 150756-150757 --> testing issues Upstream job id: Windows-Compile-DPDK-Native#26328 Test environment and result as below: +---------------------+--------------------+------------------+-------------------+-------------------+----------------------+-------------------------+ | Environment | dpdk_meson_compile | dpdk_compile_ovs | dpdk_compile_spdk | dpdk_msvc_compile | dpdk_mingw64_compile | dpdk_llvm_clang_compile | +=====================+====================+==================+===================+===================+======================+=========================+ | CentOS Stream 9 | PASS | PASS | PASS | SKIPPED | SKIPPED | SKIPPED | +---------------------+--------------------+------------------+-------------------+-------------------+----------------------+-------------------------+ | Debian 12 | PASS | PASS | PASS | SKIPPED | SKIPPED | SKIPPED | +---------------------+--------------------+------------------+-------------------+-------------------+----------------------+-------------------------+ | Fedora 40 | PASS | PASS | PASS | SKIPPED | SKIPPED | SKIPPED | +---------------------+--------------------+------------------+-------------------+-------------------+----------------------+-------------------------+ | Fedora 41 (Clang) | PASS | PASS | PASS | SKIPPED | SKIPPED | SKIPPED | +---------------------+--------------------+------------------+-------------------+-------------------+----------------------+-------------------------+ | Fedora 40 (Clang) | PASS | PASS | PASS | SKIPPED | SKIPPED | SKIPPED | +---------------------+--------------------+------------------+-------------------+-------------------+----------------------+-------------------------+ | Fedora 41 | PASS | PASS | PASS | SKIPPED | SKIPPED | SKIPPED | +---------------------+--------------------+------------------+-------------------+-------------------+----------------------+-------------------------+ | RHEL8 | PASS | PASS | SKIPPED | SKIPPED | SKIPPED | SKIPPED | +---------------------+--------------------+------------------+-------------------+-------------------+----------------------+-------------------------+ | openSUSE Leap 15 | PASS | SKIPPED | SKIPPED | SKIPPED | SKIPPED | SKIPPED | +---------------------+--------------------+------------------+-------------------+-------------------+----------------------+-------------------------+ | RHEL9 | PASS | PASS | SKIPPED | SKIPPED | SKIPPED | SKIPPED | +---------------------+--------------------+------------------+-------------------+-------------------+----------------------+-------------------------+ | Ubuntu 20.04 | PASS | WARN | SKIPPED | SKIPPED | SKIPPED | SKIPPED | +---------------------+--------------------+------------------+-------------------+-------------------+----------------------+-------------------------+ | Ubuntu 22.04 | PASS | PASS | PASS | SKIPPED | SKIPPED | SKIPPED | +---------------------+--------------------+------------------+-------------------+-------------------+----------------------+-------------------------+ | Ubuntu 24.04 | PASS | PASS | PASS | SKIPPED | SKIPPED | SKIPPED | +---------------------+--------------------+------------------+-------------------+-------------------+----------------------+-------------------------+ | Alpine | PASS | PASS | SKIPPED | SKIPPED | SKIPPED | SKIPPED | +---------------------+--------------------+------------------+-------------------+-------------------+----------------------+-------------------------+ | FreeBSD 13.4 | PASS | SKIPPED | SKIPPED | SKIPPED | SKIPPED | SKIPPED | +---------------------+--------------------+------------------+-------------------+-------------------+----------------------+-------------------------+ | FreeBSD 14.2 | PASS | SKIPPED | SKIPPED | SKIPPED | SKIPPED | SKIPPED | +---------------------+--------------------+------------------+-------------------+-------------------+----------------------+-------------------------+ | Debian Bullseye | PASS | PASS | PASS | SKIPPED | SKIPPED | SKIPPED | +---------------------+--------------------+------------------+-------------------+-------------------+----------------------+-------------------------+ | Windows Server 2022 | SKIPPED | SKIPPED | SKIPPED | PASS | PASS | PASS | +---------------------+--------------------+------------------+-------------------+-------------------+----------------------+-------------------------+ ==== 20 line log output for Ubuntu 20.04 (dpdk_compile_ovs): ==== --- Failed to get log output --- ==== End log output ==== CentOS Stream 9 Kernel: Depends on container host Compiler: gcc 11.5.0 20240719 (Red Hat 11.5.0-2) Debian 12 Kernel: Depends on container host Compiler: gcc (Debian 12.2.0-14) 12.2.0 Fedora 40 Kernel: Depends on container host Compiler: gcc 14.2.1 20240912 (Red Hat 14.2.1-3) Fedora 41 (Clang) Kernel: Depends on container host Compiler: clang 19.1.5 (Fedora 19.1.5-1.fc41) Fedora 40 (Clang) Kernel: Depends on container host Compiler: clang 18.1.8 (Fedora 18.1.8-1.fc40) Fedora 41 Kernel: Depends on container host Compiler: gcc 14.2.1 20240912 (Red Hat 14.2.1-3) RHEL8 Kernel: Depends on container host Compiler: gcc 8.5.0 20210514 (Red Hat 8.5.0-22) openSUSE Leap 15 Kernel: Depends on container host Compiler: gcc (SUSE Linux) 7.5.0 RHEL9 Kernel: Depends on container host Compiler: gcc 11.5.0 20240719 (Red Hat 11.5.0-2) Ubuntu 20.04 Kernel: Depends on container host Compiler: gcc (Ubuntu 9.4.0-1ubuntu1~20.04.2) 9.4.0 Ubuntu 22.04 Kernel: Depends on container host Compiler: gcc (Ubuntu 11.4.0-1ubuntu1~22.04) 11.4.0 Ubuntu 24.04 Kernel: Depends on container host Compiler: gcc (Ubuntu 13.3.0-6ubuntu2~24.04) 13.3.0 Alpine Kernel: Depends on container host Compiler: gcc (Alpine 14.2.0) 14.2.0 FreeBSD 13.4 Kernel: 13.4-RELEASE-p1 Compiler: clang 18.1.6 FreeBSD 14.2 Kernel: 14.2-RELEASE Compiler: clang 18.1.6 Debian Bullseye Kernel: Depends on container host Compiler: gcc (Debian 10.2.1-6) 10.2.1 20210110 Windows Server 2022 Kernel: 10.0.20348.2031 Compiler: clang 15.0.7, gcc 14.1.0 (MinGW), and MSVC VS 19.39.33521 To view detailed results, visit: https://lab.dpdk.org/results/dashboard/patchsets/32473/ UNH-IOL DPDK Community Lab To manage your email subscriptions, visit: https://lab.dpdk.org/results/dashboard/preferences/subscriptions/