From mboxrd@z Thu Jan 1 00:00:00 1970 Return-Path: Received: from mails.dpdk.org (mails.dpdk.org [217.70.189.124]) by inbox.dpdk.org (Postfix) with ESMTP id 3B90F46195 for ; Wed, 5 Feb 2025 04:05:16 +0100 (CET) Received: from mails.dpdk.org (localhost [127.0.0.1]) by mails.dpdk.org (Postfix) with ESMTP id 3244140289; Wed, 5 Feb 2025 04:05:16 +0100 (CET) Received: from mail-pl1-f228.google.com (mail-pl1-f228.google.com [209.85.214.228]) by mails.dpdk.org (Postfix) with ESMTP id B59F440270 for ; Wed, 5 Feb 2025 04:05:14 +0100 (CET) Received: by mail-pl1-f228.google.com with SMTP id d9443c01a7336-2163dc5155fso110914775ad.0 for ; Tue, 04 Feb 2025 19:05:14 -0800 (PST) DKIM-Signature: v=1; a=rsa-sha256; c=relaxed/relaxed; d=iol.unh.edu; s=unh-iol; t=1738724714; x=1739329514; darn=dpdk.org; h=references:in-reply-to:cc:to:from:subject:message-id:date:from:to :cc:subject:date:message-id:reply-to; bh=8e+eJufDB6WtUzE5Zso6lO3nNpByX6c9CJs0UcL8e0w=; b=Jkd2NJIY8YmHkrSpPV/kGtuvMP3gGVB/97AfUrDEUbWZepRSw+Z8Ms9ijv0GM7DL9+ 76zUib5JnzH/RCqzY4/4ZIz2DRFQRUEOh1NlrrCGl2TYWYYdUmxTsNmxDRYNPpvfh61E DuyiX2NIn7ppNDPeD/dpdgPuJVxubErSfFOIY= X-Google-DKIM-Signature: v=1; a=rsa-sha256; c=relaxed/relaxed; d=1e100.net; s=20230601; t=1738724714; x=1739329514; h=references:in-reply-to:cc:to:from:subject:message-id:date :x-gm-message-state:from:to:cc:subject:date:message-id:reply-to; bh=8e+eJufDB6WtUzE5Zso6lO3nNpByX6c9CJs0UcL8e0w=; b=aDmunBBoN3cW26Ox/1oaN48stLinanqXslbqBw3UmFpM8YAqDEbIatjR3eqczO21o3 C9AbD/AhFOd1zVfCVebKMs+ndQXjOMcn4nsmLXbpSiNo8A4g0l8pSsUWH94X0cWnn2AU kq45eDxx1IiFysElzuFWUVYmfpVoZAa9SOew0LqUI4lUZe5cYedDojKqpfSe226xznR2 EK6h7mdyJZi99xBCWMVpWGrK48kXMVM82GFMRFhDOdZDS46cViqCHfuHN/mQUrKWcVpp cQumRt/0OEB9oIl8ek8KBejGQK5zVQpgXqAbj/vH4gU/xFh7LwBl7mvRdrpifaPEa8eh Ba6g== X-Gm-Message-State: AOJu0YymIC/4YmwOJhz6qrzBd9ExcrXMsqcX5562SyFcidHAw0k7uEPc 6u6zAoT9jSp7kIgnWWYJM5Jw3ywbYB0MN1DtM8zjoaUdYTp/pUkGYTS3CWryb/pBNxOQPIJjq9l KqgLq9YgjKoiSUMjH6VRw5VT09QBVmmz5zjdtbAF+xtSz65EkhXcX07FG X-Gm-Gg: ASbGncvrrfeTL2Jvka/2+sbffJjwlYUnQ89C55UwHAX2dN6UUAdAg9rNiUgjF0Td9TL JrA9wRBdv7NnhTosttfDDlkpkms8v6k3LiDs4NL76MsS+6p/OUxzI6KlA6yC4KD9ggt3uQLQpPh fpPy8SmFqs9HqKNlM6bLKH1VrsHOjTsiyEukqzJydt2RaLoM4GSzMFH7gbzMvT8T/6R09c2notF EmpxmMnqnMUnd4rAdvwjbSrjV2pCxEUxXtASFoGdVkgU0GHqgxbpm3XpNh+lckuBQ+XHvUZ2DKS KOcb2VVO9zizXZdaXyjTvkkXNMDjTr25pl0/avXw0w== X-Google-Smtp-Source: AGHT+IHjbsNpKVtjga4lbWSNhiQNrY6znTAgg4hk8WzrXmQdqTObqozuKlTUcYAduCFbXfmxJDTi9sBaZPAJ X-Received: by 2002:a17:902:ce86:b0:212:1ebf:9a03 with SMTP id d9443c01a7336-21f17dd684cmr21825225ad.2.1738724712376; Tue, 04 Feb 2025 19:05:12 -0800 (PST) Received: from postal.iol.unh.edu (postal.iol.unh.edu. [2606:4100:3880:1234::84]) by smtp-relay.gmail.com with ESMTPS id d9443c01a7336-21de324a40bsm6040415ad.34.2025.02.04.19.05.12 (version=TLS1_2 cipher=ECDHE-ECDSA-AES128-GCM-SHA256 bits=128/128); Tue, 04 Feb 2025 19:05:12 -0800 (PST) X-Relaying-Domain: iol.unh.edu Date: Tue, 04 Feb 2025 19:05:12 -0800 (PST) Message-ID: <67a2d568.170a0220.252d58.b624SMTPIN_ADDED_MISSING@mx.google.com> Received: from [172.21.0.5] (unknown [172.18.0.240]) by postal.iol.unh.edu (Postfix) with ESMTP id 805216052471; Tue, 4 Feb 2025 22:05:11 -0500 (EST) Subject: |WARNING| pw150754 [PATCH] vhost: fix VDUSE devices registration From: dpdklab@iol.unh.edu To: Test Report Cc: dpdk-test-reports@iol.unh.edu In-Reply-To: <20250131130957.293562-1-maxime.coquelin@redhat.com> References: <20250131130957.293562-1-maxime.coquelin@redhat.com> Content-Type: text/plain X-BeenThere: test-report@dpdk.org X-Mailman-Version: 2.1.29 Precedence: list List-Id: automatic DPDK test reports List-Unsubscribe: , List-Archive: List-Post: List-Help: List-Subscribe: , Errors-To: test-report-bounces@dpdk.org Test-Label: iol-compile-amd64-testing Test-Status: WARNING http://dpdk.org/patch/150754 _Testing issues_ Submitter: Maxime Coquelin Date: Friday, January 31 2025 13:09:57 DPDK git baseline: Repo:dpdk Branch: master CommitID:8c565bbebb8f72decbc4af6a69cb76f07bffc472 150754 --> testing issues Upstream job id: Windows-Compile-DPDK-Native#26329 Test environment and result as below: +---------------------+--------------------+------------------+-------------------+-------------------+----------------------+-------------------------+ | Environment | dpdk_meson_compile | dpdk_compile_ovs | dpdk_compile_spdk | dpdk_msvc_compile | dpdk_mingw64_compile | dpdk_llvm_clang_compile | +=====================+====================+==================+===================+===================+======================+=========================+ | CentOS Stream 9 | PASS | PASS | PASS | SKIPPED | SKIPPED | SKIPPED | +---------------------+--------------------+------------------+-------------------+-------------------+----------------------+-------------------------+ | Debian Bullseye | PASS | PASS | PASS | SKIPPED | SKIPPED | SKIPPED | +---------------------+--------------------+------------------+-------------------+-------------------+----------------------+-------------------------+ | Debian 12 | PASS | PASS | PASS | SKIPPED | SKIPPED | SKIPPED | +---------------------+--------------------+------------------+-------------------+-------------------+----------------------+-------------------------+ | Fedora 41 (Clang) | PASS | PASS | PASS | SKIPPED | SKIPPED | SKIPPED | +---------------------+--------------------+------------------+-------------------+-------------------+----------------------+-------------------------+ | Fedora 40 | PASS | PASS | PASS | SKIPPED | SKIPPED | SKIPPED | +---------------------+--------------------+------------------+-------------------+-------------------+----------------------+-------------------------+ | Fedora 40 (Clang) | PASS | PASS | PASS | SKIPPED | SKIPPED | SKIPPED | +---------------------+--------------------+------------------+-------------------+-------------------+----------------------+-------------------------+ | Fedora 41 | PASS | PASS | PASS | SKIPPED | SKIPPED | SKIPPED | +---------------------+--------------------+------------------+-------------------+-------------------+----------------------+-------------------------+ | RHEL9 | PASS | PASS | SKIPPED | SKIPPED | SKIPPED | SKIPPED | +---------------------+--------------------+------------------+-------------------+-------------------+----------------------+-------------------------+ | RHEL8 | PASS | PASS | SKIPPED | SKIPPED | SKIPPED | SKIPPED | +---------------------+--------------------+------------------+-------------------+-------------------+----------------------+-------------------------+ | Ubuntu 22.04 | PASS | PASS | PASS | SKIPPED | SKIPPED | SKIPPED | +---------------------+--------------------+------------------+-------------------+-------------------+----------------------+-------------------------+ | Ubuntu 20.04 | PASS | WARN | SKIPPED | SKIPPED | SKIPPED | SKIPPED | +---------------------+--------------------+------------------+-------------------+-------------------+----------------------+-------------------------+ | Ubuntu 24.04 | PASS | PASS | PASS | SKIPPED | SKIPPED | SKIPPED | +---------------------+--------------------+------------------+-------------------+-------------------+----------------------+-------------------------+ | Alpine | PASS | PASS | SKIPPED | SKIPPED | SKIPPED | SKIPPED | +---------------------+--------------------+------------------+-------------------+-------------------+----------------------+-------------------------+ | FreeBSD 13.4 | PASS | SKIPPED | SKIPPED | SKIPPED | SKIPPED | SKIPPED | +---------------------+--------------------+------------------+-------------------+-------------------+----------------------+-------------------------+ | FreeBSD 14.2 | PASS | SKIPPED | SKIPPED | SKIPPED | SKIPPED | SKIPPED | +---------------------+--------------------+------------------+-------------------+-------------------+----------------------+-------------------------+ | openSUSE Leap 15 | PASS | SKIPPED | SKIPPED | SKIPPED | SKIPPED | SKIPPED | +---------------------+--------------------+------------------+-------------------+-------------------+----------------------+-------------------------+ | Windows Server 2022 | SKIPPED | SKIPPED | SKIPPED | PASS | PASS | PASS | +---------------------+--------------------+------------------+-------------------+-------------------+----------------------+-------------------------+ ==== 20 line log output for Ubuntu 20.04 (dpdk_compile_ovs): ==== --- Failed to get log output --- ==== End log output ==== CentOS Stream 9 Kernel: Depends on container host Compiler: gcc 11.5.0 20240719 (Red Hat 11.5.0-2) Debian Bullseye Kernel: Depends on container host Compiler: gcc (Debian 10.2.1-6) 10.2.1 20210110 Debian 12 Kernel: Depends on container host Compiler: gcc (Debian 12.2.0-14) 12.2.0 Fedora 41 (Clang) Kernel: Depends on container host Compiler: clang 19.1.5 (Fedora 19.1.5-1.fc41) Fedora 40 Kernel: Depends on container host Compiler: gcc 14.2.1 20240912 (Red Hat 14.2.1-3) Fedora 40 (Clang) Kernel: Depends on container host Compiler: clang 18.1.8 (Fedora 18.1.8-1.fc40) Fedora 41 Kernel: Depends on container host Compiler: gcc 14.2.1 20240912 (Red Hat 14.2.1-3) RHEL9 Kernel: Depends on container host Compiler: gcc 11.5.0 20240719 (Red Hat 11.5.0-2) RHEL8 Kernel: Depends on container host Compiler: gcc 8.5.0 20210514 (Red Hat 8.5.0-22) Ubuntu 22.04 Kernel: Depends on container host Compiler: gcc (Ubuntu 11.4.0-1ubuntu1~22.04) 11.4.0 Ubuntu 20.04 Kernel: Depends on container host Compiler: gcc (Ubuntu 9.4.0-1ubuntu1~20.04.2) 9.4.0 Ubuntu 24.04 Kernel: Depends on container host Compiler: gcc (Ubuntu 13.3.0-6ubuntu2~24.04) 13.3.0 Alpine Kernel: Depends on container host Compiler: gcc (Alpine 14.2.0) 14.2.0 FreeBSD 13.4 Kernel: 13.4-RELEASE-p1 Compiler: clang 18.1.6 FreeBSD 14.2 Kernel: 14.2-RELEASE Compiler: clang 18.1.6 openSUSE Leap 15 Kernel: Depends on container host Compiler: gcc (SUSE Linux) 7.5.0 Windows Server 2022 Kernel: 10.0.20348.2031 Compiler: clang 15.0.7, gcc 14.1.0 (MinGW), and MSVC VS 19.39.33521 To view detailed results, visit: https://lab.dpdk.org/results/dashboard/patchsets/32471/ UNH-IOL DPDK Community Lab To manage your email subscriptions, visit: https://lab.dpdk.org/results/dashboard/preferences/subscriptions/