From mboxrd@z Thu Jan 1 00:00:00 1970 Return-Path: Received: from mails.dpdk.org (mails.dpdk.org [217.70.189.124]) by inbox.dpdk.org (Postfix) with ESMTP id 0F21746195 for ; Wed, 5 Feb 2025 04:11:37 +0100 (CET) Received: from mails.dpdk.org (localhost [127.0.0.1]) by mails.dpdk.org (Postfix) with ESMTP id D7FFF40289; Wed, 5 Feb 2025 04:11:36 +0100 (CET) Received: from mail-yw1-f228.google.com (mail-yw1-f228.google.com [209.85.128.228]) by mails.dpdk.org (Postfix) with ESMTP id 3C1E040270 for ; Wed, 5 Feb 2025 04:11:36 +0100 (CET) Received: by mail-yw1-f228.google.com with SMTP id 00721157ae682-6f9625c0fccso25703007b3.1 for ; Tue, 04 Feb 2025 19:11:36 -0800 (PST) DKIM-Signature: v=1; a=rsa-sha256; c=relaxed/relaxed; d=iol.unh.edu; s=unh-iol; t=1738725095; x=1739329895; darn=dpdk.org; h=references:in-reply-to:cc:to:from:subject:message-id:date:from:to :cc:subject:date:message-id:reply-to; bh=GnsSw4SJgQAl0+hWVs5uSn8Hsvhg1LM1EyRFesKidLU=; b=R2rF3CjYTX/REvLLxTRaAa8Wu78IuwvdClrDfuUtb1hS8rLbSrSNSVYw04IJ8go0AR M/poJ7O9x9xPdHOxg3EqOEWF/iWXd5ggRVwYt3MowiK8N1mVFgs83MUMS37r1ujipDp7 Xx+tl8gnur1H09Sedq5cSfw9FenxMIfCCgXmg= X-Google-DKIM-Signature: v=1; a=rsa-sha256; c=relaxed/relaxed; d=1e100.net; s=20230601; t=1738725095; x=1739329895; h=references:in-reply-to:cc:to:from:subject:message-id:date :x-gm-message-state:from:to:cc:subject:date:message-id:reply-to; bh=GnsSw4SJgQAl0+hWVs5uSn8Hsvhg1LM1EyRFesKidLU=; b=e2DZUtZojCPcg5HtNckW/uYTj3YGdJzFmAJ54U8PQWi9vQWhXUSD9a72qv+06DO8Qq NdUZKA7SSXnpSPWoVEv+uyObNcklaKSDTlzMg3HfrUnEqnQzudGgHVs8wB2GGzH+xvlI KyeVSn6iTFLHmWr1RjblCaAnLijR/e9zQNm9PzEsvRWPQT4c8lVvpZJEMqyp7jBt+gzW d2/25JoaoaMU1LRZjz0MibWZpVD5cgpmmXgvjigIY5KkeQoXcbyw9Yty9PtUQL0rY9CH rpjhpJqKDqHnnEYKdFAYtncbnttBNUdKa9AtOlmUyF6z2z4NSyjUJOvHXP3Tneyy5tY9 E//A== X-Gm-Message-State: AOJu0YyTp+0I+DM/3f5R7NbZdcclNUsA721IdqaGWT6QEroXpkV9e8CR g14/HYaVW1L/JjgbN5sh5d5ov1SUGPPDdM/eu7VweVzvu0tLAO3C2/URXP4f+BBDE/UsLcXf0X/ PsE75Vz0Ogm8vfLT5jIq+IJ1kazSBDyU0j2sog4GZ X-Gm-Gg: ASbGncuP+ZzopON1MR2oxqLF/+41k/dYzJOMAqIACNC5335sA5UqoV0i7PAlQjC47Gv Oj1HqAE8UnD+7FBUJ//KyzZcIrgtPU5Ncyhq34blzbLKiJxZ2vNq3D/wZxo2/X1X/Cy7mtBHUVB Qhufpqu4ISpIsIS05OSPOcYqyXZPR919/St2jmvAh7mfDK4e4TcLxj+jA8ibA0t3rLkYO0+J4F+ BuH4vYgxqxVPPAJpeO8BOBLVQjCyOqSW1Mpy2Y3LBKN2KybnPxlJDpEuHg4Veu61a/xChOCeKDo PeJrKHhBZ7SvZ6jB2Mr3KWvR4DvutQ== X-Google-Smtp-Source: AGHT+IHrnGM2uzXpjkvpoizmm7SH7cq4mrbvZV1ZYh/8RPVM+jTb/2GC1LutfpGr0trvqnKwEsC7y3kY2QOZ X-Received: by 2002:a05:690c:a85:b0:6f9:7ec7:3879 with SMTP id 00721157ae682-6f989ee6c35mr10877727b3.18.1738725095557; Tue, 04 Feb 2025 19:11:35 -0800 (PST) Received: from postal.iol.unh.edu (postal.iol.unh.edu. [132.177.123.84]) by smtp-relay.gmail.com with ESMTPS id 00721157ae682-6f8c4885489sm6090997b3.51.2025.02.04.19.11.35 (version=TLS1_2 cipher=ECDHE-ECDSA-AES128-GCM-SHA256 bits=128/128); Tue, 04 Feb 2025 19:11:35 -0800 (PST) X-Relaying-Domain: iol.unh.edu Date: Tue, 04 Feb 2025 19:11:35 -0800 (PST) Message-ID: <67a2d6e7.050a0220.29442f.b2f0SMTPIN_ADDED_MISSING@mx.google.com> Received: from [172.21.0.5] (unknown [172.18.0.240]) by postal.iol.unh.edu (Postfix) with ESMTP id 265D36052471; Tue, 4 Feb 2025 22:11:35 -0500 (EST) Subject: |SUCCESS| pw150865 [PATCH] [RFC] ci: Add support for Cirrus-CI servi From: dpdklab@iol.unh.edu To: Test Report Cc: dpdk-test-reports@iol.unh.edu In-Reply-To: <20250204160739.1603197-1-aconole@redhat.com> References: <20250204160739.1603197-1-aconole@redhat.com> Content-Type: text/plain X-BeenThere: test-report@dpdk.org X-Mailman-Version: 2.1.29 Precedence: list List-Id: automatic DPDK test reports List-Unsubscribe: , List-Archive: List-Post: List-Help: List-Subscribe: , Errors-To: test-report-bounces@dpdk.org Test-Label: iol-sample-apps-testing Test-Status: SUCCESS http://dpdk.org/patch/150865 _Testing PASS_ Submitter: Aaron Conole Date: Tuesday, February 04 2025 16:07:39 DPDK git baseline: Repo:dpdk Branch: master CommitID:dc4ce7c2538b713e16887eb598da309bc7b4d528 150865 --> testing pass Upstream job id: ACVP-FIPS-testing#8778 Test environment and result as below: +--------------------+----------------------+----------------------+ | Environment | compressdev_zlib_pmd | dpdk_fips_validation | +====================+======================+======================+ | Ubuntu 22.04 (ARM) | PASS | SKIPPED | +--------------------+----------------------+----------------------+ | Ubuntu 22.04 | PASS | SKIPPED | +--------------------+----------------------+----------------------+ | Ubuntu 20.04 | SKIPPED | PASS | +--------------------+----------------------+----------------------+ Ubuntu 22.04 (ARM) Kernel: 5.15.0-97-generic Compiler: gcc gcc (Ubuntu 11.4.0-1ubuntu1~22.04) 11.4.0 Ubuntu 22.04 Kernel: 5.15.0-100-generic Compiler: gcc gcc (Ubuntu 11.4.0-1ubuntu1~22.04) 11.4.0 Ubuntu 20.04 Kernel: Depends on container host Compiler: gcc (Ubuntu 9.4.0-1ubuntu1~20.04.2) 9.4.0 To view detailed results, visit: https://lab.dpdk.org/results/dashboard/patchsets/32488/ UNH-IOL DPDK Community Lab To manage your email subscriptions, visit: https://lab.dpdk.org/results/dashboard/preferences/subscriptions/