From mboxrd@z Thu Jan  1 00:00:00 1970
Return-Path: <test-report-bounces@dpdk.org>
Received: from mails.dpdk.org (mails.dpdk.org [217.70.189.124])
	by inbox.dpdk.org (Postfix) with ESMTP id 9E31F46195
	for <public@inbox.dpdk.org>; Wed,  5 Feb 2025 04:26:47 +0100 (CET)
Received: from mails.dpdk.org (localhost [127.0.0.1])
	by mails.dpdk.org (Postfix) with ESMTP id 6931A40289;
	Wed,  5 Feb 2025 04:26:47 +0100 (CET)
Received: from mail-il1-f227.google.com (mail-il1-f227.google.com
 [209.85.166.227])
 by mails.dpdk.org (Postfix) with ESMTP id E7C6140270
 for <test-report@dpdk.org>; Wed,  5 Feb 2025 04:26:45 +0100 (CET)
Received: by mail-il1-f227.google.com with SMTP id
 e9e14a558f8ab-3cf82bd380bso48670095ab.0
 for <test-report@dpdk.org>; Tue, 04 Feb 2025 19:26:45 -0800 (PST)
DKIM-Signature: v=1; a=rsa-sha256; c=relaxed/relaxed;
 d=iol.unh.edu; s=unh-iol; t=1738726005; x=1739330805; darn=dpdk.org;
 h=references:in-reply-to:cc:to:from:subject:message-id:date:from:to
 :cc:subject:date:message-id:reply-to;
 bh=3PmX1DcE6JtUTdarorBlhzC2J8SNiUkSLpZsSRC3XPQ=;
 b=Dq9UIOPSr474Ayov1GsF9OMXALQMIc2ejz+rWE2TqYw4iZscNTxW6NZfaHc2UtD/yN
 NlAWlzzPIyBibGlCNqI5mAVABFXY0h93+WRy7z+3SrZ/CR83JBLX5Da3/ZhJNBcOo93J
 HEurAYzMO47sZa8DypErs0t+gPLsC5Z7sIgMw=
X-Google-DKIM-Signature: v=1; a=rsa-sha256; c=relaxed/relaxed;
 d=1e100.net; s=20230601; t=1738726005; x=1739330805;
 h=references:in-reply-to:cc:to:from:subject:message-id:date
 :x-gm-message-state:from:to:cc:subject:date:message-id:reply-to;
 bh=3PmX1DcE6JtUTdarorBlhzC2J8SNiUkSLpZsSRC3XPQ=;
 b=FqETXEG9XdO865wr+mdw9/SAOG9BWv/JBO2iJoYILJQ+itdsT9I0hxSLTFrDv2rkpu
 rK86F/o0VUmGs6YRwPToRQmjTd3f3Omi+VxbQyo5rcQ1UjIQ/Hz+wh8ek3nvOyg9XE9Y
 Oq9m+2HnmeFyVYHTP88l6+1ZfHOCSj4u8TAgjSg2Y0D4Ka2kbTOfM31eV2iRrCuHrFos
 SlVkoNvPls06NSZT/5LBpDq8PfxVsvVc8CnkWSOZpy6C7Dgj00fFq9tQXNrZv9g0BFpQ
 UGI0a+34nMfJOnxhd4PfNqC8Aj5fsFSim9zbV6axd1RKETKU7n4HCu3iK7zd56K10ygQ
 lWbw==
X-Gm-Message-State: AOJu0Yy+MvUvmlfm0qMXLANl1pKGi3agUXsJ3glkOt+ePajylKSYhU4Z
 VUR45V5iGEEFFp+iHGwePvH+smoUwrrkcsCL8k98vGF33SVHgTjFqjVhu6lnRjnzQnaOynkwEnH
 iVlWVYeZRCyaKPI0/qsOeNw3qAhCBeUBZGKDeJEET
X-Gm-Gg: ASbGncvjq6lTxt1vrdtx+qGvmGC6EdfFv10Ij3hhMnM5rhm2ExRPOVl7i9XqsZQ1cj5
 sgpLHQFQ7wThjOps1jVf924qhdHk1YevSwlhHK+Idzocn9DcFJgu/PzFXrpIV4kW4X/hbtvX7lM
 pqW8yuKcWg89s7AE7YK2N43EFD+s4WRJ8kjacQcNOGApgF1xv8jy3N3twtA0PEyTzwOe5OEE+8u
 kYIX4Pr8RG0nU7bRb6HVLX15XTENkH6iuhW7w+JE2TQ+kYfvSNwCE06z0UNRuoZKAIv5czJnDNS
 4SAHa2b0wm/IqF1TI48c3Co1Iu67dQ==
X-Google-Smtp-Source: AGHT+IEWcn+UUr5HfjMmr1MfNuaJ4s32/Etxd1OVKXg/+5WiLpT/0I9CyIxiJiPGsUKHpLZRk75ukmiyiWT4
X-Received: by 2002:a05:6e02:1a29:b0:3d0:4a82:3f43 with SMTP id
 e9e14a558f8ab-3d04f3fd6c1mr13097465ab.5.1738726005113; 
 Tue, 04 Feb 2025 19:26:45 -0800 (PST)
Received: from postal.iol.unh.edu (postal.iol.unh.edu. [132.177.123.84])
 by smtp-relay.gmail.com with ESMTPS id
 e9e14a558f8ab-3d00a4f7e3asm8991605ab.12.2025.02.04.19.26.45
 (version=TLS1_2 cipher=ECDHE-ECDSA-AES128-GCM-SHA256 bits=128/128);
 Tue, 04 Feb 2025 19:26:45 -0800 (PST)
X-Relaying-Domain: iol.unh.edu
Date: Tue, 04 Feb 2025 19:26:45 -0800 (PST)
Message-ID: <67a2da75.050a0220.18270f.a737SMTPIN_ADDED_MISSING@mx.google.com>
Received: from [172.21.0.5] (unknown [172.18.0.240])
 by postal.iol.unh.edu (Postfix) with ESMTP id 8F3146052471;
 Tue,  4 Feb 2025 22:26:44 -0500 (EST)
Subject: |WARNING| pw150676-150677 [PATCH] [v4,2/2] net/af_xdp: Refactor af_x
From: dpdklab@iol.unh.edu
To: Test Report <test-report@dpdk.org>
Cc: dpdk-test-reports@iol.unh.edu
In-Reply-To: <20250130221853.789366-3-ariel.otilibili@6wind.com>
References: <20250130221853.789366-3-ariel.otilibili@6wind.com>
Content-Type: text/plain
X-BeenThere: test-report@dpdk.org
X-Mailman-Version: 2.1.29
Precedence: list
List-Id: automatic DPDK test reports <test-report.dpdk.org>
List-Unsubscribe: <https://mails.dpdk.org/options/test-report>,
 <mailto:test-report-request@dpdk.org?subject=unsubscribe>
List-Archive: <http://mails.dpdk.org/archives/test-report/>
List-Post: <mailto:test-report@dpdk.org>
List-Help: <mailto:test-report-request@dpdk.org?subject=help>
List-Subscribe: <https://mails.dpdk.org/listinfo/test-report>,
 <mailto:test-report-request@dpdk.org?subject=subscribe>
Errors-To: test-report-bounces@dpdk.org

Test-Label: iol-compile-amd64-testing
Test-Status: WARNING
http://dpdk.org/patch/150677

_Testing issues_

Submitter: Ariel Otilibili <ariel.otilibili@6wind.com>
Date: Thursday, January 30 2025 22:18:53 
DPDK git baseline: Repo:dpdk
  Branch: master
  CommitID:4a377fd5d560cfdece42b0d87b31c87efb7938d2

150676-150677 --> testing issues

Upstream job id: Windows-Compile-DPDK-Native#26332

Test environment and result as below:

+---------------------+--------------------+------------------+-------------------+-------------------+----------------------+-------------------------+
|     Environment     | dpdk_meson_compile | dpdk_compile_ovs | dpdk_compile_spdk | dpdk_msvc_compile | dpdk_mingw64_compile | dpdk_llvm_clang_compile |
+=====================+====================+==================+===================+===================+======================+=========================+
| CentOS Stream 9     | PASS               | PASS             | PASS              | SKIPPED           | SKIPPED              | SKIPPED                 |
+---------------------+--------------------+------------------+-------------------+-------------------+----------------------+-------------------------+
| Debian Bullseye     | PASS               | PASS             | PASS              | SKIPPED           | SKIPPED              | SKIPPED                 |
+---------------------+--------------------+------------------+-------------------+-------------------+----------------------+-------------------------+
| Fedora 40 (Clang)   | PASS               | PASS             | PASS              | SKIPPED           | SKIPPED              | SKIPPED                 |
+---------------------+--------------------+------------------+-------------------+-------------------+----------------------+-------------------------+
| Debian 12           | PASS               | PASS             | PASS              | SKIPPED           | SKIPPED              | SKIPPED                 |
+---------------------+--------------------+------------------+-------------------+-------------------+----------------------+-------------------------+
| Fedora 40           | PASS               | PASS             | PASS              | SKIPPED           | SKIPPED              | SKIPPED                 |
+---------------------+--------------------+------------------+-------------------+-------------------+----------------------+-------------------------+
| Fedora 41           | PASS               | PASS             | PASS              | SKIPPED           | SKIPPED              | SKIPPED                 |
+---------------------+--------------------+------------------+-------------------+-------------------+----------------------+-------------------------+
| Fedora 41 (Clang)   | PASS               | PASS             | PASS              | SKIPPED           | SKIPPED              | SKIPPED                 |
+---------------------+--------------------+------------------+-------------------+-------------------+----------------------+-------------------------+
| RHEL8               | PASS               | PASS             | SKIPPED           | SKIPPED           | SKIPPED              | SKIPPED                 |
+---------------------+--------------------+------------------+-------------------+-------------------+----------------------+-------------------------+
| openSUSE Leap 15    | PASS               | SKIPPED          | SKIPPED           | SKIPPED           | SKIPPED              | SKIPPED                 |
+---------------------+--------------------+------------------+-------------------+-------------------+----------------------+-------------------------+
| RHEL9               | PASS               | PASS             | SKIPPED           | SKIPPED           | SKIPPED              | SKIPPED                 |
+---------------------+--------------------+------------------+-------------------+-------------------+----------------------+-------------------------+
| Ubuntu 20.04        | PASS               | WARN             | SKIPPED           | SKIPPED           | SKIPPED              | SKIPPED                 |
+---------------------+--------------------+------------------+-------------------+-------------------+----------------------+-------------------------+
| Ubuntu 22.04        | PASS               | PASS             | PASS              | SKIPPED           | SKIPPED              | SKIPPED                 |
+---------------------+--------------------+------------------+-------------------+-------------------+----------------------+-------------------------+
| Alpine              | PASS               | PASS             | SKIPPED           | SKIPPED           | SKIPPED              | SKIPPED                 |
+---------------------+--------------------+------------------+-------------------+-------------------+----------------------+-------------------------+
| FreeBSD 13.4        | PASS               | SKIPPED          | SKIPPED           | SKIPPED           | SKIPPED              | SKIPPED                 |
+---------------------+--------------------+------------------+-------------------+-------------------+----------------------+-------------------------+
| FreeBSD 14.2        | PASS               | SKIPPED          | SKIPPED           | SKIPPED           | SKIPPED              | SKIPPED                 |
+---------------------+--------------------+------------------+-------------------+-------------------+----------------------+-------------------------+
| Ubuntu 24.04        | PASS               | PASS             | PASS              | SKIPPED           | SKIPPED              | SKIPPED                 |
+---------------------+--------------------+------------------+-------------------+-------------------+----------------------+-------------------------+
| Windows Server 2022 | SKIPPED            | SKIPPED          | SKIPPED           | PASS              | PASS                 | PASS                    |
+---------------------+--------------------+------------------+-------------------+-------------------+----------------------+-------------------------+

==== 20 line log output for Ubuntu 20.04 (dpdk_compile_ovs): ====
 --- Failed to get log output --- 
==== End log output ====

CentOS Stream 9
	Kernel: Depends on container host
	Compiler: gcc 11.5.0 20240719 (Red Hat 11.5.0-2)

Debian Bullseye
	Kernel: Depends on container host
	Compiler: gcc (Debian 10.2.1-6) 10.2.1 20210110

Fedora 40 (Clang)
	Kernel: Depends on container host
	Compiler: clang 18.1.8 (Fedora 18.1.8-1.fc40)

Debian 12
	Kernel: Depends on container host
	Compiler: gcc (Debian 12.2.0-14) 12.2.0

Fedora 40
	Kernel: Depends on container host
	Compiler: gcc 14.2.1 20240912 (Red Hat 14.2.1-3)

Fedora 41
	Kernel: Depends on container host
	Compiler: gcc 14.2.1 20240912 (Red Hat 14.2.1-3)

Fedora 41 (Clang)
	Kernel: Depends on container host
	Compiler: clang 19.1.5 (Fedora 19.1.5-1.fc41)

RHEL8
	Kernel: Depends on container host
	Compiler: gcc 8.5.0 20210514 (Red Hat 8.5.0-22)

openSUSE Leap 15
	Kernel: Depends on container host
	Compiler: gcc (SUSE Linux) 7.5.0

RHEL9
	Kernel: Depends on container host
	Compiler: gcc 11.5.0 20240719 (Red Hat 11.5.0-2)

Ubuntu 20.04
	Kernel: Depends on container host
	Compiler: gcc (Ubuntu 9.4.0-1ubuntu1~20.04.2) 9.4.0

Ubuntu 22.04
	Kernel: Depends on container host
	Compiler: gcc (Ubuntu 11.4.0-1ubuntu1~22.04) 11.4.0

Alpine
	Kernel: Depends on container host
	Compiler: gcc (Alpine 14.2.0) 14.2.0

FreeBSD 13.4
	Kernel: 13.4-RELEASE-p1
	Compiler: clang 18.1.6

FreeBSD 14.2
	Kernel: 14.2-RELEASE
	Compiler: clang 18.1.6

Ubuntu 24.04
	Kernel: Depends on container host
	Compiler: gcc (Ubuntu 13.3.0-6ubuntu2~24.04) 13.3.0

Windows Server 2022
	Kernel: 10.0.20348.2031
	Compiler: clang 15.0.7, gcc 14.1.0 (MinGW), and MSVC VS 19.39.33521

To view detailed results, visit:
https://lab.dpdk.org/results/dashboard/patchsets/32468/

UNH-IOL DPDK Community Lab

To manage your email subscriptions, visit: 
https://lab.dpdk.org/results/dashboard/preferences/subscriptions/