From mboxrd@z Thu Jan 1 00:00:00 1970 Return-Path: Received: from mails.dpdk.org (mails.dpdk.org [217.70.189.124]) by inbox.dpdk.org (Postfix) with ESMTP id 8CD4646195 for ; Wed, 5 Feb 2025 04:27:31 +0100 (CET) Received: from mails.dpdk.org (localhost [127.0.0.1]) by mails.dpdk.org (Postfix) with ESMTP id 89CD740289; Wed, 5 Feb 2025 04:27:31 +0100 (CET) Received: from mail-oo1-f100.google.com (mail-oo1-f100.google.com [209.85.161.100]) by mails.dpdk.org (Postfix) with ESMTP id E261E40270 for ; Wed, 5 Feb 2025 04:27:29 +0100 (CET) Received: by mail-oo1-f100.google.com with SMTP id 006d021491bc7-5f2dee7d218so2794577eaf.2 for ; Tue, 04 Feb 2025 19:27:29 -0800 (PST) DKIM-Signature: v=1; a=rsa-sha256; c=relaxed/relaxed; d=iol.unh.edu; s=unh-iol; t=1738726049; x=1739330849; darn=dpdk.org; h=references:in-reply-to:cc:to:from:subject:message-id:date:from:to :cc:subject:date:message-id:reply-to; bh=QlahYJJ9k43eSo/bAE4S3Wy6l2HUlGyV6H1kOIPCk8U=; b=PSfuezUg5Td4ViOwljqvHrcOM59U89G59xSs0gVC1VOnoDtoUyE3lT0O3XQwTh8J/M krmhYjq8pt5NysYxZm4eV6k19DIZHjZRvJr5Xzffn964oLM7klM7eRm5aHJTjuEbiwKm Yfow6PoCQYARc/W5FTSfbe0IQiEdbq3XmEBiQ= X-Google-DKIM-Signature: v=1; a=rsa-sha256; c=relaxed/relaxed; d=1e100.net; s=20230601; t=1738726049; x=1739330849; h=references:in-reply-to:cc:to:from:subject:message-id:date :x-gm-message-state:from:to:cc:subject:date:message-id:reply-to; bh=QlahYJJ9k43eSo/bAE4S3Wy6l2HUlGyV6H1kOIPCk8U=; b=Q/gBgTWoSLgbZdSRNV3BY26n00fhrlztf27PxxxOKBCgbo9KFD1rQvfnoJa5aJQ6vw KV69oik+HtyyXE5UbOfKfaQXzttXjin23h3GfPEGsbcxgfOb80Hczf33X0UgFoLO0XHW gErQ84VEGGaNM/UFjNvLAUOQvokHDxySU5kNetYTF4ChxokhQHDTU7bweTmrUc4CNlgM jnnlWLC5RueCN6Lug6gQQoKP/OS6FNAwFYHDL96R4kf+JHFLqniptLkJcTjGIIAFT1b5 /DU2jWfwMxIiy3V+NBT/T94Kfl5DLkNZDbIxaRan5G6ztpP0sOloB+xVGc027uW0FTNN skGw== X-Gm-Message-State: AOJu0Yxda8anEE7mP03pN6NnnMvTWr1lNE3e5bxJ5+UM+4cEEjjmtnr7 Q3TNOvGnRYdmY1SVEP9uFCPMPu77DFMKd2xFs8fTVL2Rq6Ryj6jFLF1qFb1auJWQ5pyzwsDnQsN Pg2Uww4+6tn6C5xd2eVkMrl1VyggrMDgQ4ij0/+2a X-Gm-Gg: ASbGncu6gMbR80sDgaENggPwSydRbokW38AN6zWDloCptwRNF+3DZUB5ykml2/02Yux pt3iVasQqTryLN3Yq/OnLDyHyiS3MtWqY4fZxYxjsLGOXNN5L47aVoFnthviiAUB3135+U4GvLp 5rRpr960tA53Yr5DQK3x/NmVjcneAQ44nI1ssKwpD1A/zz2nm5MlXSK8QmnAsfJ1h+jr1yOAmMV zMK/pSPqn20TtK4BM1gEk+Debg5CFiZOvRNX4B9b4RZTaX9h/suh3dhdle1QWX6aYxu5QAbZ7Dh 97Zp+5KyW5loNJnTQ5g3hcFMZfFr5w== X-Google-Smtp-Source: AGHT+IErBCga4IfIIO/2x69tr250PYArkVxEHJc3C5/4sHipY6JZP9tmse58gqr2UJrsv0CBqDMl7CxmUcSJ X-Received: by 2002:a05:6870:96a1:b0:29e:34dc:b0 with SMTP id 586e51a60fabf-2b805146263mr847626fac.25.1738726048776; Tue, 04 Feb 2025 19:27:28 -0800 (PST) Received: from postal.iol.unh.edu (postal.iol.unh.edu. [132.177.123.84]) by smtp-relay.gmail.com with ESMTPS id 586e51a60fabf-2b3565ad4d1sm898900fac.32.2025.02.04.19.27.28 (version=TLS1_2 cipher=ECDHE-ECDSA-AES128-GCM-SHA256 bits=128/128); Tue, 04 Feb 2025 19:27:28 -0800 (PST) X-Relaying-Domain: iol.unh.edu Date: Tue, 04 Feb 2025 19:27:28 -0800 (PST) Message-ID: <67a2daa0.050a0220.1d71cf.b1ceSMTPIN_ADDED_MISSING@mx.google.com> Received: from [172.21.0.5] (unknown [172.18.0.240]) by postal.iol.unh.edu (Postfix) with ESMTP id E68236052471; Tue, 4 Feb 2025 22:27:27 -0500 (EST) Subject: |SUCCESS| pw150865 [PATCH] [RFC] ci: Add support for Cirrus-CI servi From: dpdklab@iol.unh.edu To: Test Report Cc: dpdk-test-reports@iol.unh.edu In-Reply-To: <20250204160739.1603197-1-aconole@redhat.com> References: <20250204160739.1603197-1-aconole@redhat.com> Content-Type: text/plain X-BeenThere: test-report@dpdk.org X-Mailman-Version: 2.1.29 Precedence: list List-Id: automatic DPDK test reports List-Unsubscribe: , List-Archive: List-Post: List-Help: List-Subscribe: , Errors-To: test-report-bounces@dpdk.org Test-Label: iol-compile-arm64-testing Test-Status: SUCCESS http://dpdk.org/patch/150865 _Testing PASS_ Submitter: Aaron Conole Date: Tuesday, February 04 2025 16:07:39 DPDK git baseline: Repo:dpdk Branch: master CommitID:dc4ce7c2538b713e16887eb598da309bc7b4d528 150865 --> testing pass Upstream job id: Generic-DPDK-Compile-Meson#357705 Test environment and result as below: +----------------------------------------+--------------------+ | Environment | dpdk_meson_compile | +========================================+====================+ | RHEL9 (ARM) | PASS | +----------------------------------------+--------------------+ | Ubuntu 20.04 ARM GCC Cross Compile | PASS | +----------------------------------------+--------------------+ | Ubuntu 20.04 ARM SVE | PASS | +----------------------------------------+--------------------+ | Debian 12 with MUSDK | PASS | +----------------------------------------+--------------------+ | Fedora 40 (ARM) | PASS | +----------------------------------------+--------------------+ | Fedora 40 (ARM Clang) | PASS | +----------------------------------------+--------------------+ | Fedora 41 (ARM) | PASS | +----------------------------------------+--------------------+ | Fedora 41 (ARM Clang) | PASS | +----------------------------------------+--------------------+ | Ubuntu 20.04 (ARM) | PASS | +----------------------------------------+--------------------+ | Ubuntu 22.04 (ARM) | PASS | +----------------------------------------+--------------------+ | Ubuntu 24.04 (ARM) | PASS | +----------------------------------------+--------------------+ | CentOS Stream 9 (ARM) | PASS | +----------------------------------------+--------------------+ | Debian 11 (Buster) (ARM) | PASS | +----------------------------------------+--------------------+ | Debian 12 (arm) | PASS | +----------------------------------------+--------------------+ | Ubuntu 20.04 ARM Clang Cross Compile | PASS | +----------------------------------------+--------------------+ | Ubuntu 20.04 aarch32 GCC Cross Compile | PASS | +----------------------------------------+--------------------+ RHEL9 (ARM) Kernel: Depends on container host Compiler: gcc 11.5.0 20240719 (Red Hat 11.5.0-2) Ubuntu 20.04 ARM GCC Cross Compile Kernel: Depends on container host Compiler: aarch64-linux-gnu-gcc (Ubuntu 9.4.0-1ubuntu1~20.04.2) 9.4.0 Ubuntu 20.04 ARM SVE Kernel: Depends on container host Compiler: gcc (Ubuntu 10.5.0-1ubuntu1~20.04) 10.5.0 Debian 12 with MUSDK Kernel: Depends on container host Compiler: gcc (Debian 12.2.0-14) 12.2.0 Fedora 40 (ARM) Kernel: Depends on container host Compiler: gcc 14.2.1 20240912 (Red Hat 14.2.1-3) Fedora 40 (ARM Clang) Kernel: Depends on container host Compiler: clang 18.1.8 (Fedora 18.1.8-1.fc40) Fedora 41 (ARM) Kernel: Depends on container host Compiler: gcc 14.2.1 20240912 (Red Hat 14.2.1-3) Fedora 41 (ARM Clang) Kernel: Depends on container host Compiler: clang 19.1.5 (Fedora 19.1.5-1.fc41) Ubuntu 20.04 (ARM) Kernel: Depends on container host Compiler: gcc (Ubuntu 9.4.0-1ubuntu1~20.04.2) 9.4.0 Ubuntu 22.04 (ARM) Kernel: Depends on container host Compiler: gcc (Ubuntu 11.4.0-1ubuntu1~22.04) 11.4.0 Ubuntu 24.04 (ARM) Kernel: Depends on container host Compiler: gcc (Ubuntu 13.3.0-6ubuntu2~24.04) 13.3.0 CentOS Stream 9 (ARM) Kernel: Depends on container host Compiler: gcc 11.5.0 20240719 (Red Hat 11.5.0-2) Debian 11 (Buster) (ARM) Kernel: Depends on container host Compiler: gcc (Debian 10.2.1-6) 10.2.1 20210110 Debian 12 (arm) Kernel: Depends on container host Compiler: gcc (Debian 12.2.0-14) 12.2.0 Ubuntu 20.04 ARM Clang Cross Compile Kernel: Depends on container host Compiler: clang 10.0.0-4ubuntu1 Ubuntu 20.04 aarch32 GCC Cross Compile Kernel: Depends on container host Compiler: gcc 9.4.0 To view detailed results, visit: https://lab.dpdk.org/results/dashboard/patchsets/32488/ UNH-IOL DPDK Community Lab To manage your email subscriptions, visit: https://lab.dpdk.org/results/dashboard/preferences/subscriptions/