From mboxrd@z Thu Jan 1 00:00:00 1970 Return-Path: Received: from mails.dpdk.org (mails.dpdk.org [217.70.189.124]) by inbox.dpdk.org (Postfix) with ESMTP id 9021D46195 for ; Wed, 5 Feb 2025 04:42:54 +0100 (CET) Received: from mails.dpdk.org (localhost [127.0.0.1]) by mails.dpdk.org (Postfix) with ESMTP id 6C39B40289; Wed, 5 Feb 2025 04:42:54 +0100 (CET) Received: from mail-io1-f97.google.com (mail-io1-f97.google.com [209.85.166.97]) by mails.dpdk.org (Postfix) with ESMTP id CB37E40270 for ; Wed, 5 Feb 2025 04:42:52 +0100 (CET) Received: by mail-io1-f97.google.com with SMTP id ca18e2360f4ac-84a012f7232so13353539f.0 for ; Tue, 04 Feb 2025 19:42:52 -0800 (PST) DKIM-Signature: v=1; a=rsa-sha256; c=relaxed/relaxed; d=iol.unh.edu; s=unh-iol; t=1738726972; x=1739331772; darn=dpdk.org; h=references:in-reply-to:cc:to:from:subject:message-id:date:from:to :cc:subject:date:message-id:reply-to; bh=w2pwrEKKJ6MjIBuCTsf4HmD18RjNPD+gYw2CEMnDpto=; b=EzjCjlPDiu+97jJg2EwYqjYGmT6Eu/WKgiJNnA8TDQ7Mq5jb0+myx0WNizFxJGLiPK bOPQUZWitd6VrFB/eZypUClx0S7vFPAHx+gB0J8JdmlS2JvD8A7rpuCG0YlVL4Yt8BM8 0QyhcrTHnfWdJqcZgjK4mDlVoLisXh/Re0tAg= X-Google-DKIM-Signature: v=1; a=rsa-sha256; c=relaxed/relaxed; d=1e100.net; s=20230601; t=1738726972; x=1739331772; h=references:in-reply-to:cc:to:from:subject:message-id:date :x-gm-message-state:from:to:cc:subject:date:message-id:reply-to; bh=w2pwrEKKJ6MjIBuCTsf4HmD18RjNPD+gYw2CEMnDpto=; b=OBpj7KSF11tLNJljmdMt2kASSyIf70w2s7s4LhIGBxNARfrXCgOr41qOe9llwHS6Ha rYPMSFE4kOJrknnj4Il5Sz3t2vG8+xccjO+ze5wofyYdF51AxCzjElOMlu9Fq8txw33E ikz5VIpBX8Bk8oPgsx+IZlImemWiw1lOmendTyo6+egHd1seEd/ksjuTkILstjezpGCr iczp2yXgVGcOddbsn4+qxGlPFSWe9jEszrdeJyadi1I9Bc+sFcoaK4p3AUTh7hldQ2do /zE+XvqxFcMz0j14iALSxe3TK14SeaUQ5foIFs2bFgtuEpCjsZOOvFJhveB4j/qJ56dO bl/A== X-Gm-Message-State: AOJu0YzOHrYy38IHQZ3O9YcwQX28jZeJ0b+vo7YH33jfiN32LrTk5gGT sUmqx1/rEzhLKnl3W+iPK5CULZgWq9y3Ak9yeQgFkJnX+zanQrpARPHQzKLJyoCVSMbjtNiXCFG fW2KWX5IpxzaHJPCtbH7+dVR3Miq65p6zNWQ6FC0q X-Gm-Gg: ASbGnctT0cfGNLyfSRxW1h1xZ2CWYtuJh25kotY+pC1uaa1ZTzT4AW/f4nG8M2Lb5i/ tgziUgnKXIBDUyK+qOAorrkW/k1PPvBcktKQE6gSjPFc67pG9EKC6zt4Q5gT1L8EDe9vFxA8O2U iLAyeVGsV/M68BtPIDMCiCYwoNAgdwgKnYOl/LoF3zR9s56qVY686Vo+B02YGo8GVhgzNo96wmR jdgnJ469tP10MiwxWE5C+harQDrZeOuEe2nefIc7Zjc4xXGfDBMiWL30biF0yMr5QxZbu1txb68 O0L7a2pl4d+Z02KjslrEuL9ruHPu8w== X-Google-Smtp-Source: AGHT+IFWIb60fIkF9+Ayx2tOROkDe5Bz73CON9gbdy81InMmEU+pg+0u1/mUL+Nj8Ru5tu87xYh8jIrKDDHr X-Received: by 2002:a05:6e02:20ca:b0:3ce:3565:629 with SMTP id e9e14a558f8ab-3d04f41b2ecmr11352235ab.1.1738726972063; Tue, 04 Feb 2025 19:42:52 -0800 (PST) Received: from postal.iol.unh.edu (postal.iol.unh.edu. [132.177.123.84]) by smtp-relay.gmail.com with ESMTPS id e9e14a558f8ab-3d00a5ec285sm9262475ab.46.2025.02.04.19.42.51 (version=TLS1_2 cipher=ECDHE-ECDSA-AES128-GCM-SHA256 bits=128/128); Tue, 04 Feb 2025 19:42:52 -0800 (PST) X-Relaying-Domain: iol.unh.edu Date: Tue, 04 Feb 2025 19:42:52 -0800 (PST) Message-ID: <67a2de3c.050a0220.33ac59.b8ceSMTPIN_ADDED_MISSING@mx.google.com> Received: from [172.21.0.5] (unknown [172.18.0.240]) by postal.iol.unh.edu (Postfix) with ESMTP id 3236C6052471; Tue, 4 Feb 2025 22:42:51 -0500 (EST) Subject: |SUCCESS| pw150905-150924 [PATCH] [v21,27/27] config: add -Wvla proj From: dpdklab@iol.unh.edu To: Test Report Cc: dpdk-test-reports@iol.unh.edu In-Reply-To: <1738702638-22363-28-git-send-email-andremue@linux.microsoft.com> References: <1738702638-22363-28-git-send-email-andremue@linux.microsoft.com> Content-Type: text/plain X-BeenThere: test-report@dpdk.org X-Mailman-Version: 2.1.29 Precedence: list List-Id: automatic DPDK test reports List-Unsubscribe: , List-Archive: List-Post: List-Help: List-Subscribe: , Errors-To: test-report-bounces@dpdk.org Test-Label: iol-unit-amd64-testing Test-Status: SUCCESS http://dpdk.org/patch/150924 _Testing PASS_ Submitter: Andre Muezerie Date: Tuesday, February 04 2025 20:57:18 DPDK git baseline: Repo:dpdk Branch: master CommitID:dc4ce7c2538b713e16887eb598da309bc7b4d528 150905-150924 --> testing pass Upstream job id: Generic-Unit-Test-DPDK#311669 Test environment and result as below: +---------------------+----------------+ | Environment | dpdk_unit_test | +=====================+================+ | Debian Bullseye | PASS | +---------------------+----------------+ | CentOS Stream 9 | PASS | +---------------------+----------------+ | Fedora 40 | PASS | +---------------------+----------------+ | Fedora 40 (Clang) | PASS | +---------------------+----------------+ | Debian 12 | PASS | +---------------------+----------------+ | RHEL9 | PASS | +---------------------+----------------+ | Fedora 41 (Clang) | PASS | +---------------------+----------------+ | Fedora 41 | PASS | +---------------------+----------------+ | RHEL8 | PASS | +---------------------+----------------+ | Ubuntu 22.04 | PASS | +---------------------+----------------+ | Ubuntu 20.04 | PASS | +---------------------+----------------+ | Ubuntu 24.04 | PASS | +---------------------+----------------+ | Windows Server 2022 | PASS | +---------------------+----------------+ Debian Bullseye Kernel: Depends on container host Compiler: gcc (Debian 10.2.1-6) 10.2.1 20210110 CentOS Stream 9 Kernel: Depends on container host Compiler: gcc 11.5.0 20240719 (Red Hat 11.5.0-2) Fedora 40 Kernel: Depends on container host Compiler: gcc 14.2.1 20240912 (Red Hat 14.2.1-3) Fedora 40 (Clang) Kernel: Depends on container host Compiler: clang 18.1.8 (Fedora 18.1.8-1.fc40) Debian 12 Kernel: Depends on container host Compiler: gcc (Debian 12.2.0-14) 12.2.0 RHEL9 Kernel: Depends on container host Compiler: gcc 11.5.0 20240719 (Red Hat 11.5.0-2) Fedora 41 (Clang) Kernel: Depends on container host Compiler: clang 19.1.5 (Fedora 19.1.5-1.fc41) Fedora 41 Kernel: Depends on container host Compiler: gcc 14.2.1 20240912 (Red Hat 14.2.1-3) RHEL8 Kernel: Depends on container host Compiler: gcc 8.5.0 20210514 (Red Hat 8.5.0-22) Ubuntu 22.04 Kernel: Depends on container host Compiler: gcc (Ubuntu 11.4.0-1ubuntu1~22.04) 11.4.0 Ubuntu 20.04 Kernel: Depends on container host Compiler: gcc (Ubuntu 9.4.0-1ubuntu1~20.04.2) 9.4.0 Ubuntu 24.04 Kernel: Depends on container host Compiler: gcc (Ubuntu 13.3.0-6ubuntu2~24.04) 13.3.0 Windows Server 2022 Kernel: 10.0.20348.2031 Compiler: clang 15.0.7, gcc 14.1.0 (MinGW), and MSVC VS 19.39.33521 To view detailed results, visit: https://lab.dpdk.org/results/dashboard/patchsets/32494/ UNH-IOL DPDK Community Lab To manage your email subscriptions, visit: https://lab.dpdk.org/results/dashboard/preferences/subscriptions/