From mboxrd@z Thu Jan 1 00:00:00 1970 Return-Path: Received: from mails.dpdk.org (mails.dpdk.org [217.70.189.124]) by inbox.dpdk.org (Postfix) with ESMTP id 832C746195 for ; Wed, 5 Feb 2025 04:42:58 +0100 (CET) Received: from mails.dpdk.org (localhost [127.0.0.1]) by mails.dpdk.org (Postfix) with ESMTP id 7F9FF40289; Wed, 5 Feb 2025 04:42:58 +0100 (CET) Received: from mail-qv1-f97.google.com (mail-qv1-f97.google.com [209.85.219.97]) by mails.dpdk.org (Postfix) with ESMTP id 9B71740270 for ; Wed, 5 Feb 2025 04:42:57 +0100 (CET) Received: by mail-qv1-f97.google.com with SMTP id 6a1803df08f44-6e2362ea655so48399676d6.3 for ; Tue, 04 Feb 2025 19:42:57 -0800 (PST) DKIM-Signature: v=1; a=rsa-sha256; c=relaxed/relaxed; d=iol.unh.edu; s=unh-iol; t=1738726977; x=1739331777; darn=dpdk.org; h=references:in-reply-to:cc:to:from:subject:message-id:date:from:to :cc:subject:date:message-id:reply-to; bh=zXUWvNF22epSuIk9pxIAT+oBR1H7jkwbCCOGVMP+tD0=; b=L2k550qDzty3O0Pd+KuG/G0E76PlBNdoQGmK6pb5GxCddbLRfqjE8pSBxQb+EjKSD1 2Z883ZJwg0jMUdeETGbo8dn5lSwisJkLfj6YP/TvGsL7DY7ZkIkYI6SKvhuAJg/tUa7A mRlIkF7nA/wGdomGKdTcBOR8/ChaSqyd64BlE= X-Google-DKIM-Signature: v=1; a=rsa-sha256; c=relaxed/relaxed; d=1e100.net; s=20230601; t=1738726977; x=1739331777; h=references:in-reply-to:cc:to:from:subject:message-id:date :x-gm-message-state:from:to:cc:subject:date:message-id:reply-to; bh=zXUWvNF22epSuIk9pxIAT+oBR1H7jkwbCCOGVMP+tD0=; b=UlTIlZCq/Gcf/wwLyph30P7n9LGFRIGTohjHvsdmjV9pXuXbj/4QP5kMyVj5t4aiIA ICq4hNe9OxqhlBEdy8SiDI2HAb8K8bXwKyV84gCpiHDDyMjjFeK3qUbS4sgB4Tn66QyX HEUTTFmp1UHs/2SAKT2rVc8jaaS95Pk01ikuO5vxTo9dbPbaNYn5N/RXmOHBTaw3s/3l YjsL/Do5+Wl3E+2uVoxpPu0wIP1jR9VAQwhJybdNYoIhWbBeZlKDeZfaX1y1gyiO+4kX 8PZ9UjcvFIyPv6Tyh2OmgCWrWSWDA+wiS5/w+a+8/cyMijcd58+m2Z28C58XOqeBDkJH lJlw== X-Gm-Message-State: AOJu0YzX7BLOMrN81c70y9Y2+t9LNmKKekixOC9Cl+S0B/bKIqYLKNci 7BFL/ITxQ29xKDDhbNZhK8H1EpnZuCFKmhqlBzby4mCr5fgECoGF7YLuqQhiR0mXE5EJW8SMmnK F5nZ/DkN3OIQ5NNxFYdU5Z0qNUkNRgxonqeWSCMiGW6z+6MbvlgTPpViC X-Gm-Gg: ASbGnctSwYNZ9i7HlDNbPmW+s3aNQdBpsDJn2kzSIs5rWfm6yXKFHNbBWtpJJQrP/pU q/5WzBw7vDQMx1yY75SluE8D1riUeOyNqadmohzJz/USL4fGvBY34kB4VHhNTSUhcrQysCuVEMv 6K/q3jHGwFnP8CVl/Ae2pAW02aKL+Z5SzBOqmDKGFtj5N0dOuK4M8xPqll7Jg/gX3wBeyPi1Phw U+mkWf7IuiOn7YZUE8d87TxVnosz6IrQEKkPoLp1mPs/JyECgp1SfCxZLlPgH+zRZkv897CfxCM sSA6J3RXtFvvqWmRaUq/9rXRvVIoTXZmdGHgsj/tHw== X-Google-Smtp-Source: AGHT+IEiTprl8pXVuC80VpGMPfZzbihWu9sKPRUQJzRPhHzVPPMVYKGOXVtGNSqqPL3gEhGLHE2nYhezoXMM X-Received: by 2002:a05:6214:4349:b0:6e4:2bb6:275c with SMTP id 6a1803df08f44-6e42fbb72femr25264876d6.19.1738726977049; Tue, 04 Feb 2025 19:42:57 -0800 (PST) Received: from postal.iol.unh.edu (postal.iol.unh.edu. [2606:4100:3880:1234::84]) by smtp-relay.gmail.com with ESMTPS id 6a1803df08f44-6e2549502f2sm9209896d6.57.2025.02.04.19.42.56 (version=TLS1_2 cipher=ECDHE-ECDSA-AES128-GCM-SHA256 bits=128/128); Tue, 04 Feb 2025 19:42:57 -0800 (PST) X-Relaying-Domain: iol.unh.edu Date: Tue, 04 Feb 2025 19:42:57 -0800 (PST) Message-ID: <67a2de41.050a0220.3d8f0b.aaccSMTPIN_ADDED_MISSING@mx.google.com> Received: from [172.21.0.6] (unknown [172.18.0.240]) by postal.iol.unh.edu (Postfix) with ESMTP id C02706052471; Tue, 4 Feb 2025 22:42:56 -0500 (EST) Subject: |SUCCESS| pw150893 [PATCH] net/af_packet: fix socket close on device From: dpdklab@iol.unh.edu To: Test Report Cc: dpdk-test-reports@iol.unh.edu In-Reply-To: <20250204164508.864080-1-tudor.cornea@gmail.com> References: <20250204164508.864080-1-tudor.cornea@gmail.com> Content-Type: text/plain X-BeenThere: test-report@dpdk.org X-Mailman-Version: 2.1.29 Precedence: list List-Id: automatic DPDK test reports List-Unsubscribe: , List-Archive: List-Post: List-Help: List-Subscribe: , Errors-To: test-report-bounces@dpdk.org Test-Label: iol-compile-amd64-testing Test-Status: SUCCESS http://dpdk.org/patch/150893 _Testing PASS_ Submitter: Tudor Cornea Date: Tuesday, February 04 2025 16:45:08 DPDK git baseline: Repo:dpdk Branch: master CommitID:595535be66b103f7ce3ba61939b8013032987404 150893 --> testing pass Upstream job id: Generic-DPDK-Compile-Meson#357763 Test environment and result as below: +---------------------+-------------------+--------------------+------------------+-------------------+ | Environment | dpdk_msvc_compile | dpdk_meson_compile | dpdk_compile_ovs | dpdk_compile_spdk | +=====================+===================+====================+==================+===================+ | Windows Server 2022 | PASS | SKIPPED | SKIPPED | SKIPPED | +---------------------+-------------------+--------------------+------------------+-------------------+ | FreeBSD 13.4 | SKIPPED | PASS | SKIPPED | SKIPPED | +---------------------+-------------------+--------------------+------------------+-------------------+ | FreeBSD 14.2 | SKIPPED | PASS | SKIPPED | SKIPPED | +---------------------+-------------------+--------------------+------------------+-------------------+ | CentOS Stream 9 | SKIPPED | PASS | PASS | PASS | +---------------------+-------------------+--------------------+------------------+-------------------+ | Debian Bullseye | SKIPPED | PASS | PASS | PASS | +---------------------+-------------------+--------------------+------------------+-------------------+ | Debian 12 | SKIPPED | PASS | PASS | PASS | +---------------------+-------------------+--------------------+------------------+-------------------+ | Fedora 40 | SKIPPED | PASS | PASS | PASS | +---------------------+-------------------+--------------------+------------------+-------------------+ | Fedora 41 (Clang) | SKIPPED | PASS | PASS | PASS | +---------------------+-------------------+--------------------+------------------+-------------------+ | Fedora 41 | SKIPPED | PASS | PASS | PASS | +---------------------+-------------------+--------------------+------------------+-------------------+ | openSUSE Leap 15 | SKIPPED | PASS | SKIPPED | SKIPPED | +---------------------+-------------------+--------------------+------------------+-------------------+ | RHEL8 | SKIPPED | PASS | PASS | SKIPPED | +---------------------+-------------------+--------------------+------------------+-------------------+ | RHEL9 | SKIPPED | PASS | PASS | SKIPPED | +---------------------+-------------------+--------------------+------------------+-------------------+ | Ubuntu 20.04 | SKIPPED | PASS | SKIPPED | SKIPPED | +---------------------+-------------------+--------------------+------------------+-------------------+ | Ubuntu 22.04 | SKIPPED | PASS | PASS | PASS | +---------------------+-------------------+--------------------+------------------+-------------------+ | Ubuntu 24.04 | SKIPPED | PASS | PASS | PASS | +---------------------+-------------------+--------------------+------------------+-------------------+ | Alpine | SKIPPED | PASS | PASS | SKIPPED | +---------------------+-------------------+--------------------+------------------+-------------------+ | Fedora 40 (Clang) | SKIPPED | PASS | PASS | PASS | +---------------------+-------------------+--------------------+------------------+-------------------+ Windows Server 2022 Kernel: 10.0.20348.2031 Compiler: clang 15.0.7, gcc 14.1.0 (MinGW), and MSVC VS 19.39.33521 FreeBSD 13.4 Kernel: 13.4-RELEASE-p1 Compiler: clang 18.1.6 FreeBSD 14.2 Kernel: 14.2-RELEASE Compiler: clang 18.1.6 CentOS Stream 9 Kernel: Depends on container host Compiler: gcc 11.5.0 20240719 (Red Hat 11.5.0-2) Debian Bullseye Kernel: Depends on container host Compiler: gcc (Debian 10.2.1-6) 10.2.1 20210110 Debian 12 Kernel: Depends on container host Compiler: gcc (Debian 12.2.0-14) 12.2.0 Fedora 40 Kernel: Depends on container host Compiler: gcc 14.2.1 20240912 (Red Hat 14.2.1-3) Fedora 41 (Clang) Kernel: Depends on container host Compiler: clang 19.1.5 (Fedora 19.1.5-1.fc41) Fedora 41 Kernel: Depends on container host Compiler: gcc 14.2.1 20240912 (Red Hat 14.2.1-3) openSUSE Leap 15 Kernel: Depends on container host Compiler: gcc (SUSE Linux) 7.5.0 RHEL8 Kernel: Depends on container host Compiler: gcc 8.5.0 20210514 (Red Hat 8.5.0-22) RHEL9 Kernel: Depends on container host Compiler: gcc 11.5.0 20240719 (Red Hat 11.5.0-2) Ubuntu 20.04 Kernel: Depends on container host Compiler: gcc (Ubuntu 9.4.0-1ubuntu1~20.04.2) 9.4.0 Ubuntu 22.04 Kernel: Depends on container host Compiler: gcc (Ubuntu 11.4.0-1ubuntu1~22.04) 11.4.0 Ubuntu 24.04 Kernel: Depends on container host Compiler: gcc (Ubuntu 13.3.0-6ubuntu2~24.04) 13.3.0 Alpine Kernel: Depends on container host Compiler: gcc (Alpine 14.2.0) 14.2.0 Fedora 40 (Clang) Kernel: Depends on container host Compiler: clang 18.1.8 (Fedora 18.1.8-1.fc40) To view detailed results, visit: https://lab.dpdk.org/results/dashboard/patchsets/32490/ UNH-IOL DPDK Community Lab To manage your email subscriptions, visit: https://lab.dpdk.org/results/dashboard/preferences/subscriptions/