From mboxrd@z Thu Jan 1 00:00:00 1970 Return-Path: Received: from mails.dpdk.org (mails.dpdk.org [217.70.189.124]) by inbox.dpdk.org (Postfix) with ESMTP id EE8DC46195 for ; Wed, 5 Feb 2025 05:04:16 +0100 (CET) Received: from mails.dpdk.org (localhost [127.0.0.1]) by mails.dpdk.org (Postfix) with ESMTP id E793340289; Wed, 5 Feb 2025 05:04:16 +0100 (CET) Received: from mail-io1-f97.google.com (mail-io1-f97.google.com [209.85.166.97]) by mails.dpdk.org (Postfix) with ESMTP id 5357540270 for ; Wed, 5 Feb 2025 05:04:15 +0100 (CET) Received: by mail-io1-f97.google.com with SMTP id ca18e2360f4ac-851c4ee2a37so136766539f.3 for ; Tue, 04 Feb 2025 20:04:15 -0800 (PST) DKIM-Signature: v=1; a=rsa-sha256; c=relaxed/relaxed; d=iol.unh.edu; s=unh-iol; t=1738728254; x=1739333054; darn=dpdk.org; h=references:in-reply-to:cc:to:from:subject:message-id:date:from:to :cc:subject:date:message-id:reply-to; bh=K99EY8lqCfHOjoRSBOrkegfkHmUGnMmbG8YisOmkYhc=; b=JafzzqUGQ5i2HJmhUwKIyJgvFVAoq9YhJrjsBFsYqL2aIdcc4WCHqWoDu3oHB+NVP+ yUddP3qzbx0XUxeup5Dj6HVu6LcdWznI13Ya7Mnp/P1Wc5dUXRIB9y2nYfdiGErSxAwL 3ez0KyIrXa/w2MMiQMc9+xU8ByBpyXQQ5LUsI= X-Google-DKIM-Signature: v=1; a=rsa-sha256; c=relaxed/relaxed; d=1e100.net; s=20230601; t=1738728254; x=1739333054; h=references:in-reply-to:cc:to:from:subject:message-id:date :x-gm-message-state:from:to:cc:subject:date:message-id:reply-to; bh=K99EY8lqCfHOjoRSBOrkegfkHmUGnMmbG8YisOmkYhc=; b=dnR4RWWDy0GwGRCC+ZcW20FDkjw/DFOcv9OtPoRTRto6efzeEZPh5FqBC1vMdOkYBW ENTJbwcMFdAI1Hhe/bEBxaLAKfa/Har79Cr6GYJFZL33fk5TB8iitfB7brDx59O4wAjv /SZA4JUi9cPk4emNplkAHQPC59XCviOqpSaUFSZG0B4z+iOyT3M377CgjPiXJ/Rs7K7M S2rw2EJsPBdctIV5N5PO4bado9e/3ZCo9h4XbY7xasv5alO1F6Iv7r1xswVk+G5kgNQi gdiRZs79JDYajY+4m4SWKANKyJMHyxtmwxLnBMom8IV5oRZ/w355oVIbYz8YLA4dqIfJ yTTA== X-Gm-Message-State: AOJu0YyA3QwNTYoYA93NoirQVnVUKy7GLU1LhvgRiUFftbOFZQm7IFXK fL2zQDZCqX94f+dNN+PcBNrSW7N6Z+ACWUGhAWRHcpzdE6S9kyEFnJ5LXoqwo/2TKVxLa52xokG S0aab7dtCgCipADO8ub/7IKF6//w7FwBNlTmxWCIe X-Gm-Gg: ASbGncsPXsI9kFuXxs9Gr9OU5zB9wtvAn2A1Aqkxff6CLPds4U9vqi3ELQprNRDyu9E PRLp9JaMPou+e1uzk70zQ5L4TECiB7j+3TeZk23kXbSOjNP/m+SzOVpgb3X7P/QMtC+iPssVIXk d6wSbvOmaKOI/LcIOaCUx+GUXmr6+mzK834VOk8nU9faTIJ+42siXCzu/3vbNGvvG5tZBPGJXnF McXczMNTpUIVdeAaZLhdJKDmjYyWI+6I0Ybe6cRP5GQxDBwPZ07SqLN6R6fXVz3hK5dz77bDkJ3 84f/QESVf2BBtEpTfVHriM3aTlpmYw== X-Google-Smtp-Source: AGHT+IFltWOxTONLVRTFU3mfBufocgKnc6juUcuHd/KovUMbfZohP4e5JJrb+UqVrdrIeDW/fXLMH3yZToZ2 X-Received: by 2002:a05:6602:6a88:b0:83a:db84:41a8 with SMTP id ca18e2360f4ac-854ea4ce584mr141358739f.10.1738728254667; Tue, 04 Feb 2025 20:04:14 -0800 (PST) Received: from postal.iol.unh.edu (postal.iol.unh.edu. [132.177.123.84]) by smtp-relay.gmail.com with ESMTPS id ca18e2360f4ac-854a18401b5sm77662039f.28.2025.02.04.20.04.14 (version=TLS1_2 cipher=ECDHE-ECDSA-AES128-GCM-SHA256 bits=128/128); Tue, 04 Feb 2025 20:04:14 -0800 (PST) X-Relaying-Domain: iol.unh.edu Date: Tue, 04 Feb 2025 20:04:14 -0800 (PST) Message-ID: <67a2e33e.050a0220.5b6cf.51f3SMTPIN_ADDED_MISSING@mx.google.com> Received: from [172.21.0.5] (unknown [172.18.0.240]) by postal.iol.unh.edu (Postfix) with ESMTP id D58F56052471; Tue, 4 Feb 2025 23:04:13 -0500 (EST) Subject: |WARNING| pw150647 [PATCH] dma/idxd: add device ids for new HW versi From: dpdklab@iol.unh.edu To: Test Report Cc: dpdk-test-reports@iol.unh.edu In-Reply-To: <20250130172624.1450975-2-bruce.richardson@intel.com> References: <20250130172624.1450975-2-bruce.richardson@intel.com> Content-Type: text/plain X-BeenThere: test-report@dpdk.org X-Mailman-Version: 2.1.29 Precedence: list List-Id: automatic DPDK test reports List-Unsubscribe: , List-Archive: List-Post: List-Help: List-Subscribe: , Errors-To: test-report-bounces@dpdk.org Test-Label: iol-compile-amd64-testing Test-Status: WARNING http://dpdk.org/patch/150647 _Testing issues_ Submitter: Bruce Richardson Date: Thursday, January 30 2025 17:26:25 DPDK git baseline: Repo:dpdk Branch: master CommitID:8c565bbebb8f72decbc4af6a69cb76f07bffc472 150647 --> testing issues Upstream job id: Windows-Compile-DPDK-Native#26338 Test environment and result as below: +---------------------+--------------------+-------------------+----------------------+------------------+-------------------+-------------------------+ | Environment | dpdk_meson_compile | dpdk_msvc_compile | dpdk_mingw64_compile | dpdk_compile_ovs | dpdk_compile_spdk | dpdk_llvm_clang_compile | +=====================+====================+===================+======================+==================+===================+=========================+ | FreeBSD 13.4 | PASS | SKIPPED | SKIPPED | SKIPPED | SKIPPED | SKIPPED | +---------------------+--------------------+-------------------+----------------------+------------------+-------------------+-------------------------+ | FreeBSD 14.2 | PASS | SKIPPED | SKIPPED | SKIPPED | SKIPPED | SKIPPED | +---------------------+--------------------+-------------------+----------------------+------------------+-------------------+-------------------------+ | CentOS Stream 9 | PASS | SKIPPED | SKIPPED | PASS | PASS | SKIPPED | +---------------------+--------------------+-------------------+----------------------+------------------+-------------------+-------------------------+ | Debian Bullseye | PASS | SKIPPED | SKIPPED | PASS | PASS | SKIPPED | +---------------------+--------------------+-------------------+----------------------+------------------+-------------------+-------------------------+ | Debian 12 | PASS | SKIPPED | SKIPPED | PASS | PASS | SKIPPED | +---------------------+--------------------+-------------------+----------------------+------------------+-------------------+-------------------------+ | Fedora 40 (Clang) | PASS | SKIPPED | SKIPPED | PASS | PASS | SKIPPED | +---------------------+--------------------+-------------------+----------------------+------------------+-------------------+-------------------------+ | Fedora 40 | PASS | SKIPPED | SKIPPED | PASS | PASS | SKIPPED | +---------------------+--------------------+-------------------+----------------------+------------------+-------------------+-------------------------+ | Fedora 41 (Clang) | PASS | SKIPPED | SKIPPED | PASS | PASS | SKIPPED | +---------------------+--------------------+-------------------+----------------------+------------------+-------------------+-------------------------+ | Fedora 41 | PASS | SKIPPED | SKIPPED | PASS | PASS | SKIPPED | +---------------------+--------------------+-------------------+----------------------+------------------+-------------------+-------------------------+ | openSUSE Leap 15 | PASS | SKIPPED | SKIPPED | SKIPPED | SKIPPED | SKIPPED | +---------------------+--------------------+-------------------+----------------------+------------------+-------------------+-------------------------+ | RHEL8 | PASS | SKIPPED | SKIPPED | PASS | SKIPPED | SKIPPED | +---------------------+--------------------+-------------------+----------------------+------------------+-------------------+-------------------------+ | RHEL9 | PASS | SKIPPED | SKIPPED | PASS | SKIPPED | SKIPPED | +---------------------+--------------------+-------------------+----------------------+------------------+-------------------+-------------------------+ | Ubuntu 20.04 | PASS | SKIPPED | SKIPPED | WARN | SKIPPED | SKIPPED | +---------------------+--------------------+-------------------+----------------------+------------------+-------------------+-------------------------+ | Ubuntu 22.04 | PASS | SKIPPED | SKIPPED | PASS | PASS | SKIPPED | +---------------------+--------------------+-------------------+----------------------+------------------+-------------------+-------------------------+ | Ubuntu 24.04 | PASS | SKIPPED | SKIPPED | PASS | PASS | SKIPPED | +---------------------+--------------------+-------------------+----------------------+------------------+-------------------+-------------------------+ | Alpine | PASS | SKIPPED | SKIPPED | PASS | SKIPPED | SKIPPED | +---------------------+--------------------+-------------------+----------------------+------------------+-------------------+-------------------------+ | Windows Server 2022 | SKIPPED | PASS | PASS | SKIPPED | SKIPPED | PASS | +---------------------+--------------------+-------------------+----------------------+------------------+-------------------+-------------------------+ ==== 20 line log output for Ubuntu 20.04 (dpdk_compile_ovs): ==== --- Failed to get log output --- ==== End log output ==== FreeBSD 13.4 Kernel: 13.4-RELEASE-p1 Compiler: clang 18.1.6 FreeBSD 14.2 Kernel: 14.2-RELEASE Compiler: clang 18.1.6 CentOS Stream 9 Kernel: Depends on container host Compiler: gcc 11.5.0 20240719 (Red Hat 11.5.0-2) Debian Bullseye Kernel: Depends on container host Compiler: gcc (Debian 10.2.1-6) 10.2.1 20210110 Debian 12 Kernel: Depends on container host Compiler: gcc (Debian 12.2.0-14) 12.2.0 Fedora 40 (Clang) Kernel: Depends on container host Compiler: clang 18.1.8 (Fedora 18.1.8-1.fc40) Fedora 40 Kernel: Depends on container host Compiler: gcc 14.2.1 20240912 (Red Hat 14.2.1-3) Fedora 41 (Clang) Kernel: Depends on container host Compiler: clang 19.1.5 (Fedora 19.1.5-1.fc41) Fedora 41 Kernel: Depends on container host Compiler: gcc 14.2.1 20240912 (Red Hat 14.2.1-3) openSUSE Leap 15 Kernel: Depends on container host Compiler: gcc (SUSE Linux) 7.5.0 RHEL8 Kernel: Depends on container host Compiler: gcc 8.5.0 20210514 (Red Hat 8.5.0-22) RHEL9 Kernel: Depends on container host Compiler: gcc 11.5.0 20240719 (Red Hat 11.5.0-2) Ubuntu 20.04 Kernel: Depends on container host Compiler: gcc (Ubuntu 9.4.0-1ubuntu1~20.04.2) 9.4.0 Ubuntu 22.04 Kernel: Depends on container host Compiler: gcc (Ubuntu 11.4.0-1ubuntu1~22.04) 11.4.0 Ubuntu 24.04 Kernel: Depends on container host Compiler: gcc (Ubuntu 13.3.0-6ubuntu2~24.04) 13.3.0 Alpine Kernel: Depends on container host Compiler: gcc (Alpine 14.2.0) 14.2.0 Windows Server 2022 Kernel: 10.0.20348.2031 Compiler: clang 15.0.7, gcc 14.1.0 (MinGW), and MSVC VS 19.39.33521 To view detailed results, visit: https://lab.dpdk.org/results/dashboard/patchsets/32464/ UNH-IOL DPDK Community Lab To manage your email subscriptions, visit: https://lab.dpdk.org/results/dashboard/preferences/subscriptions/