From mboxrd@z Thu Jan 1 00:00:00 1970 Return-Path: Received: from mails.dpdk.org (mails.dpdk.org [217.70.189.124]) by inbox.dpdk.org (Postfix) with ESMTP id BFE8B46195 for ; Wed, 5 Feb 2025 05:09:32 +0100 (CET) Received: from mails.dpdk.org (localhost [127.0.0.1]) by mails.dpdk.org (Postfix) with ESMTP id 8B4C440289; Wed, 5 Feb 2025 05:09:32 +0100 (CET) Received: from mail-oa1-f100.google.com (mail-oa1-f100.google.com [209.85.160.100]) by mails.dpdk.org (Postfix) with ESMTP id 715A940270 for ; Wed, 5 Feb 2025 05:09:30 +0100 (CET) Received: by mail-oa1-f100.google.com with SMTP id 586e51a60fabf-2a01bcd0143so4222975fac.2 for ; Tue, 04 Feb 2025 20:09:30 -0800 (PST) DKIM-Signature: v=1; a=rsa-sha256; c=relaxed/relaxed; d=iol.unh.edu; s=unh-iol; t=1738728569; x=1739333369; darn=dpdk.org; h=references:in-reply-to:cc:to:from:subject:message-id:date:from:to :cc:subject:date:message-id:reply-to; bh=Nc+8xzN1DDZZ+oYnrgGDofpP6IfpRoN2+wYVoQ4J1cE=; b=e8BbJsnjGhyJiP85wjZbt/POQyh+CP0F8qCjQ6FI0NiSgWFn2uxDUkb1ODfutswEno 4dPkojOfkGN2OMid5Sx9M52IaEwS1QAx2sa4WohrHV/pzBTtZTH4yJ6A7/RuPJXiTmsO ZgUTEt+KTAY11proW6TpITCGpr1VMBAAfCHuc= X-Google-DKIM-Signature: v=1; a=rsa-sha256; c=relaxed/relaxed; d=1e100.net; s=20230601; t=1738728569; x=1739333369; h=references:in-reply-to:cc:to:from:subject:message-id:date :x-gm-message-state:from:to:cc:subject:date:message-id:reply-to; bh=Nc+8xzN1DDZZ+oYnrgGDofpP6IfpRoN2+wYVoQ4J1cE=; b=ftesP0u2kneXKanw94rf/wLw++jo0CWOL8kYzXpvPvwwuDfhhjGPeYKVVJeMZTpjAo WiNdXebEWVOZMlAFmS585Va7AVuN86S4QiRWH1WNme7yT4kduUT0GX/zfsP1oQN1Ytaj gHz2zuMoT3Xxg+pe3UDjgr3muKIQvmWvSRl1p9VBGQs4s8CGvcuV3EPRKWM9ltcGVU8R /FyffFg6lDanNJAGMnh7QHAtCwQr8+Qp6L8FNh2+/xmujykjsXDgLcHIDuOm4CefcrZH XdvpL6go9grE7hCJP1Ot1AW0olNkm5OS5m9M3Zq2WD3P5vbuMqd0EmC2qEKGhuhINq1T U5DA== X-Gm-Message-State: AOJu0YwEB1uhCVT5A5j4R5MS0i2O9wRWS0U7pYlgqv+TPhWuqnQyZ1n0 o/nSLlTrI7JMeUiZisAp+mz8MK5w564rkl0iQ7JXTfbLRA3TCd5/cwsDN7WuSDIyXjGujRCXSq7 YNu4qBq//DXgjQsnIs4D4DuSTDXcjou+jkmtmMCWhGrEeLVxujofgNx51 X-Gm-Gg: ASbGnctwO1+YA8UrGkXgBrJjjVzUEsiKaxUsNHIZ9OWZROccI93oUZVZo5wry39fp5K /7CBuFt/aEsNziIuXd4JcVeWyyWOQIJpa/YXB8+X5f8fynA0Xu56vJrNbrpp2dtc2tTsg9igV97 cwqc94eZtpGrqQNSAImZBzeETsx3SJh7DLipvnxO+IZLeonJneD8fe1oPsRHpkHowcgplTTD1Xg EY4QMCMXXOKU8TkMij26mt23ZF8ZAIM+BLosKTY0u2cR/OQSbV87qJugosARo5HncZAYHLDdoP1 ntCYAXkhlU7JsJJg87A6mdHVWVH0fEGpEEdrhe278w== X-Google-Smtp-Source: AGHT+IG98tBj8YhWmioMZbEATi5DmL8NI6ftA/cae0k2mwX6l/ISFXFTGYqtF88AN8hC7eijCsmL83QTetuM X-Received: by 2002:a05:6870:1605:b0:29e:5e7b:dc0f with SMTP id 586e51a60fabf-2b8051dec36mr827772fac.38.1738728569584; Tue, 04 Feb 2025 20:09:29 -0800 (PST) Received: from postal.iol.unh.edu (postal.iol.unh.edu. [2606:4100:3880:1234::84]) by smtp-relay.gmail.com with ESMTPS id 586e51a60fabf-2b356643b62sm898463fac.33.2025.02.04.20.09.29 (version=TLS1_2 cipher=ECDHE-ECDSA-AES128-GCM-SHA256 bits=128/128); Tue, 04 Feb 2025 20:09:29 -0800 (PST) X-Relaying-Domain: iol.unh.edu Date: Tue, 04 Feb 2025 20:09:29 -0800 (PST) Message-ID: <67a2e479.050a0220.24d236.bdb1SMTPIN_ADDED_MISSING@mx.google.com> Received: from [172.21.0.5] (unknown [172.18.0.240]) by postal.iol.unh.edu (Postfix) with ESMTP id 0A5C56052471; Tue, 4 Feb 2025 23:09:29 -0500 (EST) Subject: |WARNING| pw150645 [PATCH] net/ice: fix how ice driver handles flows From: dpdklab@iol.unh.edu To: Test Report Cc: dpdk-test-reports@iol.unh.edu In-Reply-To: <20250130155011.2658800-1-vladimir.medvedkin@intel.com> References: <20250130155011.2658800-1-vladimir.medvedkin@intel.com> Content-Type: text/plain X-BeenThere: test-report@dpdk.org X-Mailman-Version: 2.1.29 Precedence: list List-Id: automatic DPDK test reports List-Unsubscribe: , List-Archive: List-Post: List-Help: List-Subscribe: , Errors-To: test-report-bounces@dpdk.org Test-Label: iol-compile-amd64-testing Test-Status: WARNING http://dpdk.org/patch/150645 _Testing issues_ Submitter: Medvedkin, Vladimir Date: Thursday, January 30 2025 15:50:11 DPDK git baseline: Repo:dpdk Branch: master CommitID:212bfb5c4cbd1a2dc3a12f6f52f0b0299a67ff98 150645 --> testing issues Upstream job id: Windows-Compile-DPDK-Native#26339 Test environment and result as below: +---------------------+--------------------+-------------------+----------------------+------------------+-------------------+-------------------------+ | Environment | dpdk_meson_compile | dpdk_msvc_compile | dpdk_mingw64_compile | dpdk_compile_ovs | dpdk_compile_spdk | dpdk_llvm_clang_compile | +=====================+====================+===================+======================+==================+===================+=========================+ | FreeBSD 13.4 | PASS | SKIPPED | SKIPPED | SKIPPED | SKIPPED | SKIPPED | +---------------------+--------------------+-------------------+----------------------+------------------+-------------------+-------------------------+ | FreeBSD 14.2 | PASS | SKIPPED | SKIPPED | SKIPPED | SKIPPED | SKIPPED | +---------------------+--------------------+-------------------+----------------------+------------------+-------------------+-------------------------+ | CentOS Stream 9 | PASS | SKIPPED | SKIPPED | PASS | PASS | SKIPPED | +---------------------+--------------------+-------------------+----------------------+------------------+-------------------+-------------------------+ | Debian Bullseye | PASS | SKIPPED | SKIPPED | PASS | PASS | SKIPPED | +---------------------+--------------------+-------------------+----------------------+------------------+-------------------+-------------------------+ | Fedora 40 (Clang) | PASS | SKIPPED | SKIPPED | PASS | PASS | SKIPPED | +---------------------+--------------------+-------------------+----------------------+------------------+-------------------+-------------------------+ | Fedora 40 | PASS | SKIPPED | SKIPPED | PASS | PASS | SKIPPED | +---------------------+--------------------+-------------------+----------------------+------------------+-------------------+-------------------------+ | Fedora 41 (Clang) | PASS | SKIPPED | SKIPPED | PASS | PASS | SKIPPED | +---------------------+--------------------+-------------------+----------------------+------------------+-------------------+-------------------------+ | Fedora 41 | PASS | SKIPPED | SKIPPED | PASS | PASS | SKIPPED | +---------------------+--------------------+-------------------+----------------------+------------------+-------------------+-------------------------+ | openSUSE Leap 15 | PASS | SKIPPED | SKIPPED | SKIPPED | SKIPPED | SKIPPED | +---------------------+--------------------+-------------------+----------------------+------------------+-------------------+-------------------------+ | Debian 12 | PASS | SKIPPED | SKIPPED | PASS | PASS | SKIPPED | +---------------------+--------------------+-------------------+----------------------+------------------+-------------------+-------------------------+ | RHEL8 | PASS | SKIPPED | SKIPPED | PASS | SKIPPED | SKIPPED | +---------------------+--------------------+-------------------+----------------------+------------------+-------------------+-------------------------+ | RHEL9 | PASS | SKIPPED | SKIPPED | PASS | SKIPPED | SKIPPED | +---------------------+--------------------+-------------------+----------------------+------------------+-------------------+-------------------------+ | Ubuntu 20.04 | PASS | SKIPPED | SKIPPED | WARN | SKIPPED | SKIPPED | +---------------------+--------------------+-------------------+----------------------+------------------+-------------------+-------------------------+ | Ubuntu 22.04 | PASS | SKIPPED | SKIPPED | PASS | PASS | SKIPPED | +---------------------+--------------------+-------------------+----------------------+------------------+-------------------+-------------------------+ | Ubuntu 24.04 | PASS | SKIPPED | SKIPPED | PASS | PASS | SKIPPED | +---------------------+--------------------+-------------------+----------------------+------------------+-------------------+-------------------------+ | Alpine | PASS | SKIPPED | SKIPPED | PASS | SKIPPED | SKIPPED | +---------------------+--------------------+-------------------+----------------------+------------------+-------------------+-------------------------+ | Windows Server 2022 | SKIPPED | PASS | PASS | SKIPPED | SKIPPED | PASS | +---------------------+--------------------+-------------------+----------------------+------------------+-------------------+-------------------------+ ==== 20 line log output for Ubuntu 20.04 (dpdk_compile_ovs): ==== --- Failed to get log output --- ==== End log output ==== FreeBSD 13.4 Kernel: 13.4-RELEASE-p1 Compiler: clang 18.1.6 FreeBSD 14.2 Kernel: 14.2-RELEASE Compiler: clang 18.1.6 CentOS Stream 9 Kernel: Depends on container host Compiler: gcc 11.5.0 20240719 (Red Hat 11.5.0-2) Debian Bullseye Kernel: Depends on container host Compiler: gcc (Debian 10.2.1-6) 10.2.1 20210110 Fedora 40 (Clang) Kernel: Depends on container host Compiler: clang 18.1.8 (Fedora 18.1.8-1.fc40) Fedora 40 Kernel: Depends on container host Compiler: gcc 14.2.1 20240912 (Red Hat 14.2.1-3) Fedora 41 (Clang) Kernel: Depends on container host Compiler: clang 19.1.5 (Fedora 19.1.5-1.fc41) Fedora 41 Kernel: Depends on container host Compiler: gcc 14.2.1 20240912 (Red Hat 14.2.1-3) openSUSE Leap 15 Kernel: Depends on container host Compiler: gcc (SUSE Linux) 7.5.0 Debian 12 Kernel: Depends on container host Compiler: gcc (Debian 12.2.0-14) 12.2.0 RHEL8 Kernel: Depends on container host Compiler: gcc 8.5.0 20210514 (Red Hat 8.5.0-22) RHEL9 Kernel: Depends on container host Compiler: gcc 11.5.0 20240719 (Red Hat 11.5.0-2) Ubuntu 20.04 Kernel: Depends on container host Compiler: gcc (Ubuntu 9.4.0-1ubuntu1~20.04.2) 9.4.0 Ubuntu 22.04 Kernel: Depends on container host Compiler: gcc (Ubuntu 11.4.0-1ubuntu1~22.04) 11.4.0 Ubuntu 24.04 Kernel: Depends on container host Compiler: gcc (Ubuntu 13.3.0-6ubuntu2~24.04) 13.3.0 Alpine Kernel: Depends on container host Compiler: gcc (Alpine 14.2.0) 14.2.0 Windows Server 2022 Kernel: 10.0.20348.2031 Compiler: clang 15.0.7, gcc 14.1.0 (MinGW), and MSVC VS 19.39.33521 To view detailed results, visit: https://lab.dpdk.org/results/dashboard/patchsets/32462/ UNH-IOL DPDK Community Lab To manage your email subscriptions, visit: https://lab.dpdk.org/results/dashboard/preferences/subscriptions/