From mboxrd@z Thu Jan 1 00:00:00 1970 Return-Path: Received: from mails.dpdk.org (mails.dpdk.org [217.70.189.124]) by inbox.dpdk.org (Postfix) with ESMTP id 68FC446195 for ; Wed, 5 Feb 2025 05:34:04 +0100 (CET) Received: from mails.dpdk.org (localhost [127.0.0.1]) by mails.dpdk.org (Postfix) with ESMTP id 3876940289; Wed, 5 Feb 2025 05:34:04 +0100 (CET) Received: from mail-qt1-f225.google.com (mail-qt1-f225.google.com [209.85.160.225]) by mails.dpdk.org (Postfix) with ESMTP id 2CAAF40270 for ; Wed, 5 Feb 2025 05:34:03 +0100 (CET) Received: by mail-qt1-f225.google.com with SMTP id d75a77b69052e-4678afeb133so4550201cf.0 for ; Tue, 04 Feb 2025 20:34:03 -0800 (PST) DKIM-Signature: v=1; a=rsa-sha256; c=relaxed/relaxed; d=iol.unh.edu; s=unh-iol; t=1738730042; x=1739334842; darn=dpdk.org; h=cc:to:from:subject:message-id:date:from:to:cc:subject:date :message-id:reply-to; bh=yxK59G3t8tKqX62IwPK0PVFic6/HqpKvokMk+x6euXI=; b=SsfQMzJ64oguhEavv3znzL+FTeYvqdNsLl+04VhJ31wPGNGbR93pNRpwMLdclRi55W Fv5zPlEeM8A9ivSAZkVDS4eWqWwUnUruviRyV0z4zpNWNoicRqGalYT6whlmRUegpko4 4krZC4LUWkFLuOFwcPKjAhrkbx/dyhouqpH6s= X-Google-DKIM-Signature: v=1; a=rsa-sha256; c=relaxed/relaxed; d=1e100.net; s=20230601; t=1738730042; x=1739334842; h=cc:to:from:subject:message-id:date:x-gm-message-state:from:to:cc :subject:date:message-id:reply-to; bh=yxK59G3t8tKqX62IwPK0PVFic6/HqpKvokMk+x6euXI=; b=IGirq8YEUjDHBYS5m5MKxJbfJeNMLKEmavQrfhvx6frm3T73CVQNmN9HHnD1ytZlj4 UyCmeWp0sPuHJ1gl6Qjzqq9Q4K8DqVDXOxZaR6DsdCk4Ti/3um7Wop0BGl9AuVa/TUIU LAx+BCjHdlUnJ0RUmnx8QHge7c55pW7tyGACzTuMValG4SoFrLTViPENd6ukWa0jprhY acwi4dke9calUq7q1Ds53l+lyoWKdn5bpyt5LaN3Aaa81RbPaCxlnllRwa0A3iqAcDjf IZvxAbCrhkyhD2ZSu78wGLaqgC1QRG+Wy7kx7MCBTwYfxXAegQBALDiXaB90vyc5ReZb ptCw== X-Gm-Message-State: AOJu0Yz6zsNUlvE0UqJfIukYLhrm118cFCCswTj+TaMGYFO+YSHv2Elw cPBeR000uaDR2jr6hh/Yx2jNqMT255RA5F+11IgYtzKShCbN3tsg7Fwa9y6k/SJc48vC/3acIR/ 8E8Xe9GgNRSAIxWn/Ej7nvTac5W2Vo0qA+2o/k7+p X-Gm-Gg: ASbGncvv15KAilWCmFw63uQsaXFNGtorDZ/HskG+IK7sEwScAIhjpBdJ8xBz3EUx7W2 /F5TSb321d3OW0riM74pP4xQHzxe26+q3vSQOk3+5mEyl6094mKC1mTwhQPEjEop49qzwg3pTT5 +pexMmFUhWlqbbbm1SSXB1X6BLhxYmRAKNbCKbKLRSPALyIKCH3P7fwvoqQ2T94Z+g1UXe41GV2 zRkjP+/g6XRPinRHhI6Kf4fXcMdZGc2Ir5ezPZNXjYEPKlfxkZTtRIlD6Y5M02WO9dxtBB2HOHo LhlAo8TFnwP2STTchgwonPSONT9hGw== X-Google-Smtp-Source: AGHT+IF+G8Smrev1jNwIF1BnnvtvkWg2/sBAFqqDi6IZGW3mkyqanp99dRHt1uu1EWm9xsDi5qQDjylpkOQZ X-Received: by 2002:a05:6214:4306:b0:6d8:e7c9:ffa0 with SMTP id 6a1803df08f44-6e420fa6ca7mr116883616d6.19.1738730042465; Tue, 04 Feb 2025 20:34:02 -0800 (PST) Received: from postal.iol.unh.edu (postal.iol.unh.edu. [132.177.123.84]) by smtp-relay.gmail.com with ESMTPS id 6a1803df08f44-6e42b4b8530sm1435986d6.50.2025.02.04.20.34.02 (version=TLS1_2 cipher=ECDHE-ECDSA-AES128-GCM-SHA256 bits=128/128); Tue, 04 Feb 2025 20:34:02 -0800 (PST) X-Relaying-Domain: iol.unh.edu Date: Tue, 04 Feb 2025 20:34:02 -0800 (PST) Message-ID: <67a2ea3a.050a0220.26952c.762aSMTPIN_ADDED_MISSING@mx.google.com> Received: from [172.17.0.4] (unknown [172.18.0.217]) by postal.iol.unh.edu (Postfix) with ESMTP id 2200A6052471; Tue, 4 Feb 2025 23:34:02 -0500 (EST) Subject: |WARNING| [GIT MASTER] 9eb60580d155f5e3a36927dbb1e59ef9623231ce From: dpdklab@iol.unh.edu To: Test Report Cc: dpdk-test-reports@iol.unh.edu, Bruce Richardson Content-Type: text/plain X-BeenThere: test-report@dpdk.org X-Mailman-Version: 2.1.29 Precedence: list List-Id: automatic DPDK test reports List-Unsubscribe: , List-Archive: List-Post: List-Help: List-Subscribe: , Errors-To: test-report-bounces@dpdk.org _Testing issues_ Branch: dpdk-next-net-intel 9eb60580d155f5e3a36927dbb1e59ef9623231ce --> testing issues Upstream job id: Windows-Compile-DPDK-Native#26344 Test environment and result as below: +---------------------+--------------------+------------------+-------------------+-------------------+----------------------+-------------------------+ | Environment | dpdk_meson_compile | dpdk_compile_ovs | dpdk_compile_spdk | dpdk_msvc_compile | dpdk_mingw64_compile | dpdk_llvm_clang_compile | +=====================+====================+==================+===================+===================+======================+=========================+ | Debian Bullseye | PASS | PASS | PASS | SKIPPED | SKIPPED | SKIPPED | +---------------------+--------------------+------------------+-------------------+-------------------+----------------------+-------------------------+ | CentOS Stream 9 | PASS | PASS | PASS | SKIPPED | SKIPPED | SKIPPED | +---------------------+--------------------+------------------+-------------------+-------------------+----------------------+-------------------------+ | Debian 12 | PASS | PASS | PASS | SKIPPED | SKIPPED | SKIPPED | +---------------------+--------------------+------------------+-------------------+-------------------+----------------------+-------------------------+ | Fedora 40 (Clang) | PASS | PASS | PASS | SKIPPED | SKIPPED | SKIPPED | +---------------------+--------------------+------------------+-------------------+-------------------+----------------------+-------------------------+ | Fedora 40 | PASS | PASS | PASS | SKIPPED | SKIPPED | SKIPPED | +---------------------+--------------------+------------------+-------------------+-------------------+----------------------+-------------------------+ | Fedora 41 (Clang) | PASS | PASS | PASS | SKIPPED | SKIPPED | SKIPPED | +---------------------+--------------------+------------------+-------------------+-------------------+----------------------+-------------------------+ | Fedora 41 | PASS | PASS | PASS | SKIPPED | SKIPPED | SKIPPED | +---------------------+--------------------+------------------+-------------------+-------------------+----------------------+-------------------------+ | openSUSE Leap 15 | PASS | SKIPPED | SKIPPED | SKIPPED | SKIPPED | SKIPPED | +---------------------+--------------------+------------------+-------------------+-------------------+----------------------+-------------------------+ | RHEL8 | PASS | PASS | SKIPPED | SKIPPED | SKIPPED | SKIPPED | +---------------------+--------------------+------------------+-------------------+-------------------+----------------------+-------------------------+ | RHEL9 | PASS | PASS | SKIPPED | SKIPPED | SKIPPED | SKIPPED | +---------------------+--------------------+------------------+-------------------+-------------------+----------------------+-------------------------+ | Ubuntu 20.04 | PASS | WARN | SKIPPED | SKIPPED | SKIPPED | SKIPPED | +---------------------+--------------------+------------------+-------------------+-------------------+----------------------+-------------------------+ | Ubuntu 22.04 | PASS | PASS | PASS | SKIPPED | SKIPPED | SKIPPED | +---------------------+--------------------+------------------+-------------------+-------------------+----------------------+-------------------------+ | Ubuntu 24.04 | PASS | PASS | PASS | SKIPPED | SKIPPED | SKIPPED | +---------------------+--------------------+------------------+-------------------+-------------------+----------------------+-------------------------+ | Alpine | PASS | PASS | SKIPPED | SKIPPED | SKIPPED | SKIPPED | +---------------------+--------------------+------------------+-------------------+-------------------+----------------------+-------------------------+ | FreeBSD 13.4 | PASS | SKIPPED | SKIPPED | SKIPPED | SKIPPED | SKIPPED | +---------------------+--------------------+------------------+-------------------+-------------------+----------------------+-------------------------+ | FreeBSD 14.2 | PASS | SKIPPED | SKIPPED | SKIPPED | SKIPPED | SKIPPED | +---------------------+--------------------+------------------+-------------------+-------------------+----------------------+-------------------------+ | Windows Server 2022 | SKIPPED | SKIPPED | SKIPPED | PASS | PASS | PASS | +---------------------+--------------------+------------------+-------------------+-------------------+----------------------+-------------------------+ ==== 20 line log output for Ubuntu 20.04 (dpdk_compile_ovs): ==== --- Failed to get log output --- ==== End log output ==== Debian Bullseye Kernel: Depends on container host Compiler: gcc (Debian 10.2.1-6) 10.2.1 20210110 CentOS Stream 9 Kernel: Depends on container host Compiler: gcc 11.5.0 20240719 (Red Hat 11.5.0-2) Debian 12 Kernel: Depends on container host Compiler: gcc (Debian 12.2.0-14) 12.2.0 Fedora 40 (Clang) Kernel: Depends on container host Compiler: clang 18.1.8 (Fedora 18.1.8-1.fc40) Fedora 40 Kernel: Depends on container host Compiler: gcc 14.2.1 20240912 (Red Hat 14.2.1-3) Fedora 41 (Clang) Kernel: Depends on container host Compiler: clang 19.1.5 (Fedora 19.1.5-1.fc41) Fedora 41 Kernel: Depends on container host Compiler: gcc 14.2.1 20240912 (Red Hat 14.2.1-3) openSUSE Leap 15 Kernel: Depends on container host Compiler: gcc (SUSE Linux) 7.5.0 RHEL8 Kernel: Depends on container host Compiler: gcc 8.5.0 20210514 (Red Hat 8.5.0-22) RHEL9 Kernel: Depends on container host Compiler: gcc 11.5.0 20240719 (Red Hat 11.5.0-2) Ubuntu 20.04 Kernel: Depends on container host Compiler: gcc (Ubuntu 9.4.0-1ubuntu1~20.04.2) 9.4.0 Ubuntu 22.04 Kernel: Depends on container host Compiler: gcc (Ubuntu 11.4.0-1ubuntu1~22.04) 11.4.0 Ubuntu 24.04 Kernel: Depends on container host Compiler: gcc (Ubuntu 13.3.0-6ubuntu2~24.04) 13.3.0 Alpine Kernel: Depends on container host Compiler: gcc (Alpine 14.2.0) 14.2.0 FreeBSD 13.4 Kernel: 13.4-RELEASE-p1 Compiler: clang 18.1.6 FreeBSD 14.2 Kernel: 14.2-RELEASE Compiler: clang 18.1.6 Windows Server 2022 Kernel: 10.0.20348.2031 Compiler: clang 15.0.7, gcc 14.1.0 (MinGW), and MSVC VS 19.39.33521 To view detailed results, visit: https://lab.dpdk.org/results/dashboard/tarballs/32391/ UNH-IOL DPDK Community Lab To manage your email subscriptions, visit: https://lab.dpdk.org/results/dashboard/preferences/subscriptions/