From mboxrd@z Thu Jan 1 00:00:00 1970 Return-Path: Received: from mails.dpdk.org (mails.dpdk.org [217.70.189.124]) by inbox.dpdk.org (Postfix) with ESMTP id C6EAB46195 for ; Wed, 5 Feb 2025 05:37:38 +0100 (CET) Received: from mails.dpdk.org (localhost [127.0.0.1]) by mails.dpdk.org (Postfix) with ESMTP id 947DD40289; Wed, 5 Feb 2025 05:37:38 +0100 (CET) Received: from mail-il1-f228.google.com (mail-il1-f228.google.com [209.85.166.228]) by mails.dpdk.org (Postfix) with ESMTP id 48E1840270 for ; Wed, 5 Feb 2025 05:37:37 +0100 (CET) Received: by mail-il1-f228.google.com with SMTP id e9e14a558f8ab-3d04fc1ea14so4261785ab.2 for ; Tue, 04 Feb 2025 20:37:37 -0800 (PST) DKIM-Signature: v=1; a=rsa-sha256; c=relaxed/relaxed; d=iol.unh.edu; s=unh-iol; t=1738730256; x=1739335056; darn=dpdk.org; h=references:in-reply-to:cc:to:from:subject:message-id:date:from:to :cc:subject:date:message-id:reply-to; bh=EygxY9y7CIpZ1hI80lsgKdYqUgxiRbrGfFu/qmvI7sg=; b=fNknXIxqw071jZ+cpvfkeNoohA7HK6JqGp1WjLY0PRbaPaqw+IbofyyeCkZ0rmXSzI VOjI0wzJttDCskC1IeYZBnXtdzGugcDdX57g2FTQupM1qgEC+h516VDSYq9ySlgws5Fi 1xU+OFjMtIk8sLo3L/ICWpjTP24kb/9EnQ6ms= X-Google-DKIM-Signature: v=1; a=rsa-sha256; c=relaxed/relaxed; d=1e100.net; s=20230601; t=1738730256; x=1739335056; h=references:in-reply-to:cc:to:from:subject:message-id:date :x-gm-message-state:from:to:cc:subject:date:message-id:reply-to; bh=EygxY9y7CIpZ1hI80lsgKdYqUgxiRbrGfFu/qmvI7sg=; b=AQpls7p59ATkRausKKQxZ5r8zHRLzIIz+VPxKCQeXFUI4PMPKd2Yviqnn0cDZOq5Mo 2dvx5oTk2BEmK7782P6pnjJ1iyzA3pc2TCQE9n5JL94RbYTBDyt6hBFMVF5KX45Z7YEf B/zvSyrAF6vCvylSSvNvpZPIk1q67W7mjRR7pbP+SNVcIVUxY1hfvmtSm2Z32Yt57ijN nmWWrxwXn+VyxOsCXYQUXbOos9s8w7wTdNfPf3g5rSNAKBCpcP5NTOA8v9yRnpemwjhQ vbhbQdhz0M14T3EOr8AS8YVKBVRi28jfqEUJ3EQDF122QEcl4MtEtYePYbjLtN/Q2avW LCSw== X-Gm-Message-State: AOJu0YzrL4NloJw/A7m9UUiKyBVRmho2kW9FvwNgjqwwmIQ+dd/krzBs mtMZAK30PvciIqojVKmnMwJlaAp/R1qHjE6rvYKQUS9ANJOcnCf4FJB53dVRrKSYb3AZEtd7AmY RR9YiDeno55I5dHLJrmIPqagnX/X8Zd35BFTz+yJc8je0XdtesQy8dfXM X-Gm-Gg: ASbGnctvn8p9tdwGEasBRyuu9EoI9qgtsbgOZBwLN08ukudVPdtDDHMmEcIbrfLIm+w bBINcTrpDBwjjdN3UWM3PrrUmGE2VQCiv3uEB+7HH+jT8hxR4CqLrBsvl/d1CnDRQOslpmshFOQ BWhcioCPDMS/C3xK2pWj6VbQTbBkSxG8eASuBO8P9C3hn4LMkGHOaRSQ+Y1fB8FuRUqkKvlG+su SChBICg3PVZG1GqOk++BV3Q96grtTyDQ5D+fumF0RfnCbHh5FfBDV6S2O2zRki03hsjCbMnpmUA KofFriUqhjYUO3oHupAbrknpErYiyCg+E+lRtP/V3g== X-Google-Smtp-Source: AGHT+IGcw21+AQC/1Z+IIHYviOB4THXrpudX67Gulrb97UuLLj9UCcl6ZHWXlfM1EIoDP1in6u+Q5+0st/PF X-Received: by 2002:a05:6e02:221f:b0:3d0:239a:c46a with SMTP id e9e14a558f8ab-3d04f4356cbmr15320515ab.9.1738730256506; Tue, 04 Feb 2025 20:37:36 -0800 (PST) Received: from postal.iol.unh.edu (postal.iol.unh.edu. [2606:4100:3880:1234::84]) by smtp-relay.gmail.com with ESMTPS id e9e14a558f8ab-3d052b01303sm236235ab.58.2025.02.04.20.37.36 (version=TLS1_2 cipher=ECDHE-ECDSA-AES128-GCM-SHA256 bits=128/128); Tue, 04 Feb 2025 20:37:36 -0800 (PST) X-Relaying-Domain: iol.unh.edu Date: Tue, 04 Feb 2025 20:37:36 -0800 (PST) Message-ID: <67a2eb10.050a0220.14b514.0f94SMTPIN_ADDED_MISSING@mx.google.com> Received: from [172.17.0.4] (unknown [172.18.0.217]) by postal.iol.unh.edu (Postfix) with ESMTP id 028C56052471; Tue, 4 Feb 2025 23:37:35 -0500 (EST) Subject: |WARNING| pw150603-150604 [PATCH] [v3,2/2] common/idpf: enable AVX2 From: dpdklab@iol.unh.edu To: Test Report Cc: dpdk-test-reports@iol.unh.edu In-Reply-To: <20250130082445.1112043-3-shaiq.wani@intel.com> References: <20250130082445.1112043-3-shaiq.wani@intel.com> Content-Type: text/plain X-BeenThere: test-report@dpdk.org X-Mailman-Version: 2.1.29 Precedence: list List-Id: automatic DPDK test reports List-Unsubscribe: , List-Archive: List-Post: List-Help: List-Subscribe: , Errors-To: test-report-bounces@dpdk.org Test-Label: iol-compile-amd64-testing Test-Status: WARNING http://dpdk.org/patch/150604 _Testing issues_ Submitter: Shaiq Wani Date: Thursday, January 30 2025 08:24:45 DPDK git baseline: Repo:dpdk Branch: master CommitID:9eb60580d155f5e3a36927dbb1e59ef9623231ce 150603-150604 --> testing issues Upstream job id: Windows-Compile-DPDK-Native#26345 Test environment and result as below: +---------------------+--------------------+------------------+-------------------+-------------------+----------------------+-------------------------+ | Environment | dpdk_meson_compile | dpdk_compile_ovs | dpdk_compile_spdk | dpdk_msvc_compile | dpdk_mingw64_compile | dpdk_llvm_clang_compile | +=====================+====================+==================+===================+===================+======================+=========================+ | CentOS Stream 9 | PASS | PASS | PASS | SKIPPED | SKIPPED | SKIPPED | +---------------------+--------------------+------------------+-------------------+-------------------+----------------------+-------------------------+ | Debian Bullseye | PASS | PASS | PASS | SKIPPED | SKIPPED | SKIPPED | +---------------------+--------------------+------------------+-------------------+-------------------+----------------------+-------------------------+ | Fedora 40 (Clang) | PASS | PASS | PASS | SKIPPED | SKIPPED | SKIPPED | +---------------------+--------------------+------------------+-------------------+-------------------+----------------------+-------------------------+ | Debian 12 | PASS | PASS | PASS | SKIPPED | SKIPPED | SKIPPED | +---------------------+--------------------+------------------+-------------------+-------------------+----------------------+-------------------------+ | Fedora 41 (Clang) | PASS | PASS | PASS | SKIPPED | SKIPPED | SKIPPED | +---------------------+--------------------+------------------+-------------------+-------------------+----------------------+-------------------------+ | Fedora 41 | PASS | PASS | PASS | SKIPPED | SKIPPED | SKIPPED | +---------------------+--------------------+------------------+-------------------+-------------------+----------------------+-------------------------+ | RHEL8 | PASS | PASS | SKIPPED | SKIPPED | SKIPPED | SKIPPED | +---------------------+--------------------+------------------+-------------------+-------------------+----------------------+-------------------------+ | openSUSE Leap 15 | PASS | SKIPPED | SKIPPED | SKIPPED | SKIPPED | SKIPPED | +---------------------+--------------------+------------------+-------------------+-------------------+----------------------+-------------------------+ | RHEL9 | PASS | PASS | SKIPPED | SKIPPED | SKIPPED | SKIPPED | +---------------------+--------------------+------------------+-------------------+-------------------+----------------------+-------------------------+ | Ubuntu 20.04 | PASS | WARN | SKIPPED | SKIPPED | SKIPPED | SKIPPED | +---------------------+--------------------+------------------+-------------------+-------------------+----------------------+-------------------------+ | Ubuntu 22.04 | PASS | PASS | PASS | SKIPPED | SKIPPED | SKIPPED | +---------------------+--------------------+------------------+-------------------+-------------------+----------------------+-------------------------+ | Ubuntu 24.04 | PASS | PASS | PASS | SKIPPED | SKIPPED | SKIPPED | +---------------------+--------------------+------------------+-------------------+-------------------+----------------------+-------------------------+ | Alpine | PASS | PASS | SKIPPED | SKIPPED | SKIPPED | SKIPPED | +---------------------+--------------------+------------------+-------------------+-------------------+----------------------+-------------------------+ | FreeBSD 13.4 | PASS | SKIPPED | SKIPPED | SKIPPED | SKIPPED | SKIPPED | +---------------------+--------------------+------------------+-------------------+-------------------+----------------------+-------------------------+ | FreeBSD 14.2 | PASS | SKIPPED | SKIPPED | SKIPPED | SKIPPED | SKIPPED | +---------------------+--------------------+------------------+-------------------+-------------------+----------------------+-------------------------+ | Fedora 40 | PASS | PASS | PASS | SKIPPED | SKIPPED | SKIPPED | +---------------------+--------------------+------------------+-------------------+-------------------+----------------------+-------------------------+ | Windows Server 2022 | SKIPPED | SKIPPED | SKIPPED | PASS | PASS | PASS | +---------------------+--------------------+------------------+-------------------+-------------------+----------------------+-------------------------+ ==== 20 line log output for Ubuntu 20.04 (dpdk_compile_ovs): ==== --- Failed to get log output --- ==== End log output ==== CentOS Stream 9 Kernel: Depends on container host Compiler: gcc 11.5.0 20240719 (Red Hat 11.5.0-2) Debian Bullseye Kernel: Depends on container host Compiler: gcc (Debian 10.2.1-6) 10.2.1 20210110 Fedora 40 (Clang) Kernel: Depends on container host Compiler: clang 18.1.8 (Fedora 18.1.8-1.fc40) Debian 12 Kernel: Depends on container host Compiler: gcc (Debian 12.2.0-14) 12.2.0 Fedora 41 (Clang) Kernel: Depends on container host Compiler: clang 19.1.5 (Fedora 19.1.5-1.fc41) Fedora 41 Kernel: Depends on container host Compiler: gcc 14.2.1 20240912 (Red Hat 14.2.1-3) RHEL8 Kernel: Depends on container host Compiler: gcc 8.5.0 20210514 (Red Hat 8.5.0-22) openSUSE Leap 15 Kernel: Depends on container host Compiler: gcc (SUSE Linux) 7.5.0 RHEL9 Kernel: Depends on container host Compiler: gcc 11.5.0 20240719 (Red Hat 11.5.0-2) Ubuntu 20.04 Kernel: Depends on container host Compiler: gcc (Ubuntu 9.4.0-1ubuntu1~20.04.2) 9.4.0 Ubuntu 22.04 Kernel: Depends on container host Compiler: gcc (Ubuntu 11.4.0-1ubuntu1~22.04) 11.4.0 Ubuntu 24.04 Kernel: Depends on container host Compiler: gcc (Ubuntu 13.3.0-6ubuntu2~24.04) 13.3.0 Alpine Kernel: Depends on container host Compiler: gcc (Alpine 14.2.0) 14.2.0 FreeBSD 13.4 Kernel: 13.4-RELEASE-p1 Compiler: clang 18.1.6 FreeBSD 14.2 Kernel: 14.2-RELEASE Compiler: clang 18.1.6 Fedora 40 Kernel: Depends on container host Compiler: gcc 14.2.1 20240912 (Red Hat 14.2.1-3) Windows Server 2022 Kernel: 10.0.20348.2031 Compiler: clang 15.0.7, gcc 14.1.0 (MinGW), and MSVC VS 19.39.33521 To view detailed results, visit: https://lab.dpdk.org/results/dashboard/patchsets/32453/ UNH-IOL DPDK Community Lab To manage your email subscriptions, visit: https://lab.dpdk.org/results/dashboard/preferences/subscriptions/