From mboxrd@z Thu Jan  1 00:00:00 1970
Return-Path: <test-report-bounces@dpdk.org>
Received: from mails.dpdk.org (mails.dpdk.org [217.70.189.124])
	by inbox.dpdk.org (Postfix) with ESMTP id C6E1C46195
	for <public@inbox.dpdk.org>; Wed,  5 Feb 2025 05:38:11 +0100 (CET)
Received: from mails.dpdk.org (localhost [127.0.0.1])
	by mails.dpdk.org (Postfix) with ESMTP id C25D440289;
	Wed,  5 Feb 2025 05:38:11 +0100 (CET)
Received: from mail-qk1-f226.google.com (mail-qk1-f226.google.com
 [209.85.222.226])
 by mails.dpdk.org (Postfix) with ESMTP id 5160040270
 for <test-report@dpdk.org>; Wed,  5 Feb 2025 05:38:10 +0100 (CET)
Received: by mail-qk1-f226.google.com with SMTP id
 af79cd13be357-7b6f19a6c04so592724685a.0
 for <test-report@dpdk.org>; Tue, 04 Feb 2025 20:38:10 -0800 (PST)
DKIM-Signature: v=1; a=rsa-sha256; c=relaxed/relaxed;
 d=iol.unh.edu; s=unh-iol; t=1738730289; x=1739335089; darn=dpdk.org;
 h=references:in-reply-to:cc:to:from:subject:message-id:date:from:to
 :cc:subject:date:message-id:reply-to;
 bh=qLYdJ64suYALr6eUEPvQW+eOYhJnW2Kq92ugY6z287Q=;
 b=HCTVe73M4dXsk/DrX26Z/ZB8HoCoC5SKWxvO16FXjj9Kkz4EKExkwlhD/l2bxAj3qJ
 wq7dwiLG1iG69oGCr2rVr7Px5XgBQPLyK6qHSH91EZRnmXzCYXGbfAja5rMTi3TNd1mR
 8W+hP8meSoAuuJ/213hNht9J+tYfrbIiSOgrM=
X-Google-DKIM-Signature: v=1; a=rsa-sha256; c=relaxed/relaxed;
 d=1e100.net; s=20230601; t=1738730289; x=1739335089;
 h=references:in-reply-to:cc:to:from:subject:message-id:date
 :x-gm-message-state:from:to:cc:subject:date:message-id:reply-to;
 bh=qLYdJ64suYALr6eUEPvQW+eOYhJnW2Kq92ugY6z287Q=;
 b=ZDwOpG4lCV11G0As8CkY6Jf2+Pr7xZqPdAVAPjbvc6Mi9FL8W5FIRelvHcKPw2iggO
 1l6sgpz1ofB4lKjNII48i1wmGdTETz1v6WbTnlQtQrOAmYU6Mooohr09PU36DFvyBqIn
 sifT5qA8JhGJDx3zmeIwgLgf30+nP0GvQuvWb9VWeYhFRjQIi5gvZ9b9Tazgcg1X8I38
 yFJmT6bSCy9UbBSalITQKvWX9slZFzzqlLmLRNxjkJJOY7G9t4trZ8yi+PWDdQbjlLfD
 9IJpa9+7aDdbcUZEu8jNJcw5HBylK/uH1NON+AMnXbKWBleI6ztR8FswJmSe/VeX7dlU
 KNCw==
X-Gm-Message-State: AOJu0Yz4pm38iq3CLpH8oLoc4ZaJUBv6BANw4jB9l7ym+sTS528aZFdk
 yZTLjD9Ff9AjQkOo0TKpneGTaWNUwJ+z6QnDCkV8dfrMI+CcOmFLnJWUWa7PhBzOoH2zQPw3fk3
 t7qTNKQUCT6zP9VmL0xFQcx+ID1YIXoMxRcauLxmr
X-Gm-Gg: ASbGncvFPw2oPgjTK5qlDNH5wi4MIO5Qj4NO2bnGTCyK9BB9zGVan1TxpySlcRW9wqg
 Mtw513MaktwcGrOJl+tMeCaycDoNxsN02OEvl8NQP/eEz4XbnBsd4sDhyJ48ZwRW+wX7HBNvgIn
 ZQLEpP9lP+tu5o0yLdfW0hOMnpGyQhqBKnVCG6icr4fDWSrZAMhPKG+l5dHPKU695Ngjs7zboHO
 jYxePSKop1H8a/Ntx+jfCDXNgbypnP0pVo3dipk/V44bgtCplD3SWvVxlRCLgjf5SMPeRRXSUna
 DIalVJQHorJIMwdlNkuSVg7v/Iod4Q==
X-Google-Smtp-Source: AGHT+IHJ4ozCSsCq4Yu2ZG+CC5Y0ifS60yreW41RCbFpNL3mMnvaQqDiha9LeMUbEKn0q0SydMaXsHDGNnP2
X-Received: by 2002:a05:620a:4542:b0:7b7:ab7:ef1b with SMTP id
 af79cd13be357-7c03a035c7cmr213539985a.44.1738730289633; 
 Tue, 04 Feb 2025 20:38:09 -0800 (PST)
Received: from postal.iol.unh.edu (postal.iol.unh.edu. [132.177.123.84])
 by smtp-relay.gmail.com with ESMTPS id
 6a1803df08f44-6e254934637sm9728316d6.47.2025.02.04.20.38.09
 (version=TLS1_2 cipher=ECDHE-ECDSA-AES128-GCM-SHA256 bits=128/128);
 Tue, 04 Feb 2025 20:38:09 -0800 (PST)
X-Relaying-Domain: iol.unh.edu
Date: Tue, 04 Feb 2025 20:38:09 -0800 (PST)
Message-ID: <67a2eb31.050a0220.4d8cd.e65aSMTPIN_ADDED_MISSING@mx.google.com>
Received: from [172.17.0.4] (unknown [172.18.0.217])
 by postal.iol.unh.edu (Postfix) with ESMTP id 58CAB6052471;
 Tue,  4 Feb 2025 23:38:09 -0500 (EST)
Subject: |SUCCESS| pw150902 [PATCH] [v2] eal: force compilation of RTE_ASSERT
From: dpdklab@iol.unh.edu
To: Test Report <test-report@dpdk.org>
Cc: dpdk-test-reports@iol.unh.edu
In-Reply-To: <20250204194759.723484-1-stephen@networkplumber.org>
References: <20250204194759.723484-1-stephen@networkplumber.org>
Content-Type: text/plain
X-BeenThere: test-report@dpdk.org
X-Mailman-Version: 2.1.29
Precedence: list
List-Id: automatic DPDK test reports <test-report.dpdk.org>
List-Unsubscribe: <https://mails.dpdk.org/options/test-report>,
 <mailto:test-report-request@dpdk.org?subject=unsubscribe>
List-Archive: <http://mails.dpdk.org/archives/test-report/>
List-Post: <mailto:test-report@dpdk.org>
List-Help: <mailto:test-report-request@dpdk.org?subject=help>
List-Subscribe: <https://mails.dpdk.org/listinfo/test-report>,
 <mailto:test-report-request@dpdk.org?subject=subscribe>
Errors-To: test-report-bounces@dpdk.org

Test-Label: iol-abi-testing
Test-Status: SUCCESS
http://dpdk.org/patch/150902

_Testing PASS_

Submitter: Stephen Hemminger <stephen@networkplumber.org>
Date: Tuesday, February 04 2025 19:46:09 
DPDK git baseline: Repo:dpdk
  Branch: master
  CommitID:dc4ce7c2538b713e16887eb598da309bc7b4d528

150902 --> testing pass

Upstream job id: Generic-DPDK-Compile-ABI#114797

Test environment and result as below:

+-------------------+----------+
|    Environment    | abi_test |
+===================+==========+
| CentOS Stream 9   | PASS     |
+-------------------+----------+
| Debian Bullseye   | PASS     |
+-------------------+----------+
| Debian 12         | PASS     |
+-------------------+----------+
| Fedora 40 (Clang) | PASS     |
+-------------------+----------+
| openSUSE Leap 15  | PASS     |
+-------------------+----------+
| Fedora 41 (Clang) | PASS     |
+-------------------+----------+
| RHEL8             | PASS     |
+-------------------+----------+
| Fedora 41         | PASS     |
+-------------------+----------+
| RHEL9             | PASS     |
+-------------------+----------+
| Ubuntu 22.04      | PASS     |
+-------------------+----------+
| Ubuntu 24.04      | PASS     |
+-------------------+----------+
| Fedora 40         | PASS     |
+-------------------+----------+


CentOS Stream 9
	Kernel: Depends on container host
	Compiler: gcc 11.5.0 20240719 (Red Hat 11.5.0-2)

Debian Bullseye
	Kernel: Depends on container host
	Compiler: gcc (Debian 10.2.1-6) 10.2.1 20210110

Debian 12
	Kernel: Depends on container host
	Compiler: gcc (Debian 12.2.0-14) 12.2.0

Fedora 40 (Clang)
	Kernel: Depends on container host
	Compiler: clang 18.1.8 (Fedora 18.1.8-1.fc40)

openSUSE Leap 15
	Kernel: Depends on container host
	Compiler: gcc (SUSE Linux) 7.5.0

Fedora 41 (Clang)
	Kernel: Depends on container host
	Compiler: clang 19.1.5 (Fedora 19.1.5-1.fc41)

RHEL8
	Kernel: Depends on container host
	Compiler: gcc 8.5.0 20210514 (Red Hat 8.5.0-22)

Fedora 41
	Kernel: Depends on container host
	Compiler: gcc 14.2.1 20240912 (Red Hat 14.2.1-3)

RHEL9
	Kernel: Depends on container host
	Compiler: gcc 11.5.0 20240719 (Red Hat 11.5.0-2)

Ubuntu 22.04
	Kernel: Depends on container host
	Compiler: gcc (Ubuntu 11.4.0-1ubuntu1~22.04) 11.4.0

Ubuntu 24.04
	Kernel: Depends on container host
	Compiler: gcc (Ubuntu 13.3.0-6ubuntu2~24.04) 13.3.0

Fedora 40
	Kernel: Depends on container host
	Compiler: gcc 14.2.1 20240912 (Red Hat 14.2.1-3)

To view detailed results, visit:
https://lab.dpdk.org/results/dashboard/patchsets/32493/

UNH-IOL DPDK Community Lab

To manage your email subscriptions, visit: 
https://lab.dpdk.org/results/dashboard/preferences/subscriptions/