From mboxrd@z Thu Jan 1 00:00:00 1970 Return-Path: Received: from mails.dpdk.org (mails.dpdk.org [217.70.189.124]) by inbox.dpdk.org (Postfix) with ESMTP id 07A4C46195 for ; Wed, 5 Feb 2025 05:39:29 +0100 (CET) Received: from mails.dpdk.org (localhost [127.0.0.1]) by mails.dpdk.org (Postfix) with ESMTP id F3C6C40289; Wed, 5 Feb 2025 05:39:28 +0100 (CET) Received: from mail-qv1-f98.google.com (mail-qv1-f98.google.com [209.85.219.98]) by mails.dpdk.org (Postfix) with ESMTP id 633E940270 for ; Wed, 5 Feb 2025 05:39:27 +0100 (CET) Received: by mail-qv1-f98.google.com with SMTP id 6a1803df08f44-6dd43b08674so51363276d6.3 for ; Tue, 04 Feb 2025 20:39:27 -0800 (PST) DKIM-Signature: v=1; a=rsa-sha256; c=relaxed/relaxed; d=iol.unh.edu; s=unh-iol; t=1738730367; x=1739335167; darn=dpdk.org; h=references:in-reply-to:cc:to:from:subject:message-id:date:from:to :cc:subject:date:message-id:reply-to; bh=SsUjz/QVqgVz1SzG+ijQsJMqVf+57psJJmnW2A7uXP0=; b=FQYSy1/+vsZ6ezr5vI0e6zvaxrTbzLAon4yVzovCacxOkxmEeYF4ra6FtPBn5RMuDU Xtfu4gPQpyyhvAXD9Z8waeU7ndigdQW8H8yb6qWwZ9mxHTaoMP4H5SZwkBusYb9AeuRi ixmuqsOeSvQwSYVuxNM4N7UWjfWaS0fjyU4NU= X-Google-DKIM-Signature: v=1; a=rsa-sha256; c=relaxed/relaxed; d=1e100.net; s=20230601; t=1738730367; x=1739335167; h=references:in-reply-to:cc:to:from:subject:message-id:date :x-gm-message-state:from:to:cc:subject:date:message-id:reply-to; bh=SsUjz/QVqgVz1SzG+ijQsJMqVf+57psJJmnW2A7uXP0=; b=b5od6yEuhorbItir0fggNyyjjmRiFU7Jqamis8Al57wDo//zf8G/cXA0DyaCy+dW3i eQGXP6Z5pvDkWfZmeZPf2qMpBeNpUBSjPjDUmcvfNI6KjKTBM8R7hNM4h6CjJKwbEOOf ZLiuXf6D4c3BFWQx/RCUNfIZfFe3Q4Xhk0cnIPHihEb/XGy+LoMXJcasKeeo16y5ALNI ZtCO12qupCDao1+l0AzmW3DjCA1WZ2XvpPFjfCGSL56F8WfIr8k6CgJPugh+cfmvzSYu GFaWOUp9yE5mFrv2EtHjkuS4j3BLV1GGxD3BRlaGIfKiQ9qtH4vMorVcmFP4Q6rwdarZ jcpw== X-Gm-Message-State: AOJu0YxFvJQP4mrbCfTDrLrZ8WnS0nv88ezehVkJTmiLexSxyQ4ZDQ3W QQNgFjE3HBBQ/K4O07UEX3iYuiTRvUL+t8SI/2Vx1J8l+hjJ/F3Sb0nVf1ZrzDoMpycwDaFzJot 7LBUa2Bl6rliTRSIyv1EL65IFaKbygxnwBtp5IukI X-Gm-Gg: ASbGnctgJlw5mERyWWlEXF3u6qt2NBm/QdpSHC2j4vFo4qebcAp4AAyJ7xhCV0WG8Td wxj9D2qjBzk3eno0NaCc/h4lZnVP7B7rnnArHAA02FJ5XJmsK75gU4rImIL87AZsFJQMLMLmx8b ys1FT8SFxtfLRHf+AjdZq+N+gfHbt1xL88TgVZgwHyF+JvftjdZXwMSVzMXwbcWZy5ddCW+HPId xAc3otnKQw5YVleXYWlb6nXQebgpPgKZo4q2JG4AitMVam6r9cRHjtGSS07NQjEixn5FQ5vu0Pw xfnZQ9/r8CuSnH8eMhARlxSVcny97A== X-Google-Smtp-Source: AGHT+IGKvQJaJC8s0neHbUBh6Z7DxAv+odASRLdLYovU7TL95WxHkcg7AoMybYI034eZgksbAmXZz6BGBSMV X-Received: by 2002:a05:6214:31a0:b0:6d9:2e0c:56c4 with SMTP id 6a1803df08f44-6e42fb243ccmr19415496d6.1.1738730366815; Tue, 04 Feb 2025 20:39:26 -0800 (PST) Received: from postal.iol.unh.edu (postal.iol.unh.edu. [132.177.123.84]) by smtp-relay.gmail.com with ESMTPS id 6a1803df08f44-6e2544dfd18sm9715886d6.6.2025.02.04.20.39.26 (version=TLS1_2 cipher=ECDHE-ECDSA-AES128-GCM-SHA256 bits=128/128); Tue, 04 Feb 2025 20:39:26 -0800 (PST) X-Relaying-Domain: iol.unh.edu Date: Tue, 04 Feb 2025 20:39:26 -0800 (PST) Message-ID: <67a2eb7e.050a0220.152496.dc3bSMTPIN_ADDED_MISSING@mx.google.com> Received: from [172.17.0.4] (unknown [172.18.0.217]) by postal.iol.unh.edu (Postfix) with ESMTP id 7C2FE6052471; Tue, 4 Feb 2025 23:39:26 -0500 (EST) Subject: |SUCCESS| pw150902 [PATCH] [v2] eal: force compilation of RTE_ASSERT From: dpdklab@iol.unh.edu To: Test Report Cc: dpdk-test-reports@iol.unh.edu In-Reply-To: <20250204194759.723484-1-stephen@networkplumber.org> References: <20250204194759.723484-1-stephen@networkplumber.org> Content-Type: text/plain X-BeenThere: test-report@dpdk.org X-Mailman-Version: 2.1.29 Precedence: list List-Id: automatic DPDK test reports List-Unsubscribe: , List-Archive: List-Post: List-Help: List-Subscribe: , Errors-To: test-report-bounces@dpdk.org Test-Label: iol-unit-amd64-testing Test-Status: SUCCESS http://dpdk.org/patch/150902 _Testing PASS_ Submitter: Stephen Hemminger Date: Tuesday, February 04 2025 19:46:09 DPDK git baseline: Repo:dpdk Branch: master CommitID:dc4ce7c2538b713e16887eb598da309bc7b4d528 150902 --> testing pass Upstream job id: Generic-Unit-Test-DPDK#311685 Test environment and result as below: +---------------------+----------------+ | Environment | dpdk_unit_test | +=====================+================+ | CentOS Stream 9 | PASS | +---------------------+----------------+ | Fedora 40 | PASS | +---------------------+----------------+ | Debian Bullseye | PASS | +---------------------+----------------+ | Debian 12 | PASS | +---------------------+----------------+ | Fedora 40 (Clang) | PASS | +---------------------+----------------+ | Fedora 41 (Clang) | PASS | +---------------------+----------------+ | Fedora 41 | PASS | +---------------------+----------------+ | RHEL9 | PASS | +---------------------+----------------+ | Ubuntu 20.04 | PASS | +---------------------+----------------+ | RHEL8 | PASS | +---------------------+----------------+ | Ubuntu 22.04 | PASS | +---------------------+----------------+ | Ubuntu 24.04 | PASS | +---------------------+----------------+ | Windows Server 2022 | PASS | +---------------------+----------------+ CentOS Stream 9 Kernel: Depends on container host Compiler: gcc 11.5.0 20240719 (Red Hat 11.5.0-2) Fedora 40 Kernel: Depends on container host Compiler: gcc 14.2.1 20240912 (Red Hat 14.2.1-3) Debian Bullseye Kernel: Depends on container host Compiler: gcc (Debian 10.2.1-6) 10.2.1 20210110 Debian 12 Kernel: Depends on container host Compiler: gcc (Debian 12.2.0-14) 12.2.0 Fedora 40 (Clang) Kernel: Depends on container host Compiler: clang 18.1.8 (Fedora 18.1.8-1.fc40) Fedora 41 (Clang) Kernel: Depends on container host Compiler: clang 19.1.5 (Fedora 19.1.5-1.fc41) Fedora 41 Kernel: Depends on container host Compiler: gcc 14.2.1 20240912 (Red Hat 14.2.1-3) RHEL9 Kernel: Depends on container host Compiler: gcc 11.5.0 20240719 (Red Hat 11.5.0-2) Ubuntu 20.04 Kernel: Depends on container host Compiler: gcc (Ubuntu 9.4.0-1ubuntu1~20.04.2) 9.4.0 RHEL8 Kernel: Depends on container host Compiler: gcc 8.5.0 20210514 (Red Hat 8.5.0-22) Ubuntu 22.04 Kernel: Depends on container host Compiler: gcc (Ubuntu 11.4.0-1ubuntu1~22.04) 11.4.0 Ubuntu 24.04 Kernel: Depends on container host Compiler: gcc (Ubuntu 13.3.0-6ubuntu2~24.04) 13.3.0 Windows Server 2022 Kernel: 10.0.20348.2031 Compiler: clang 15.0.7, gcc 14.1.0 (MinGW), and MSVC VS 19.39.33521 To view detailed results, visit: https://lab.dpdk.org/results/dashboard/patchsets/32493/ UNH-IOL DPDK Community Lab To manage your email subscriptions, visit: https://lab.dpdk.org/results/dashboard/preferences/subscriptions/