From mboxrd@z Thu Jan 1 00:00:00 1970 Return-Path: Received: from mails.dpdk.org (mails.dpdk.org [217.70.189.124]) by inbox.dpdk.org (Postfix) with ESMTP id 385EE46195 for ; Wed, 5 Feb 2025 05:52:46 +0100 (CET) Received: from mails.dpdk.org (localhost [127.0.0.1]) by mails.dpdk.org (Postfix) with ESMTP id 10E7440289; Wed, 5 Feb 2025 05:52:46 +0100 (CET) Received: from mail-qv1-f100.google.com (mail-qv1-f100.google.com [209.85.219.100]) by mails.dpdk.org (Postfix) with ESMTP id A59F240270 for ; Wed, 5 Feb 2025 05:52:45 +0100 (CET) Received: by mail-qv1-f100.google.com with SMTP id 6a1803df08f44-6dfbc45355bso67720886d6.2 for ; Tue, 04 Feb 2025 20:52:45 -0800 (PST) DKIM-Signature: v=1; a=rsa-sha256; c=relaxed/relaxed; d=iol.unh.edu; s=unh-iol; t=1738731165; x=1739335965; darn=dpdk.org; h=cc:to:from:subject:message-id:date:from:to:cc:subject:date :message-id:reply-to; bh=GP38xcjN23D3sMc6XwI3FZnff5yfnSkeAP1CHwPYCPQ=; b=QO4tZVIMHO/yBjjekwXrrxjTgTr+qjZb82buRhgMcrvhO5n7oq7m+48j2PWa1QN7Vd S6ahlja1kZiVwebFJUN36oNgWBz+aUEN7NNWinSAcJKUsBMqmH0QXp0LqUt8WsaZ6ccY trxFWI9gtUOTQiszddzyi6uhILrhlYD9Qy4N8= X-Google-DKIM-Signature: v=1; a=rsa-sha256; c=relaxed/relaxed; d=1e100.net; s=20230601; t=1738731165; x=1739335965; h=cc:to:from:subject:message-id:date:x-gm-message-state:from:to:cc :subject:date:message-id:reply-to; bh=GP38xcjN23D3sMc6XwI3FZnff5yfnSkeAP1CHwPYCPQ=; b=xB3HNP0Cgu0/EyxpgD/BC1MWFi1nLdN+d8W0rqo4TJIhHo2poLG9sNCctYp0A6l/6m EG9kfATmuxlwm3R3770MKV0vqUyfv26LpAiiSw1zuoGVQ9wXSveposQM1acwm6/nvE8p aXHJcV1BYUmmGpW7rIXB5IoMGucy4RSgSvLXr0Yjp9uZF2EiRC2AX4z63xTC1j3GGOq5 ShunmHgi7YETmPxqCCtg+GJb/aZfMafVo/AB1IGcjdPm22dOxeMtkYt3FxU7+r9agnPQ vCJHgq9kQrxfoKfT6Pi/6/1F3DohAKUWdQo14QTv237yHafvWtRSvLHz7kmq5P1PqO3A Z4oA== X-Gm-Message-State: AOJu0YzDVxLt0DisXuJawbQI7p5VmyCyi+TU+rje47+PVekaKPyspOX2 qJJmIif+mmRZNbEdY6MKunsZlJy1ZCA8DL0zn93gfNRnVGXQcSmL11sYjfoYISPIAL7wh4FAACh uAxW/Jdu27Q6IMHN4GW7ATg0DFRVfAS9qaLesxlvE X-Gm-Gg: ASbGncs9I3JD/J+mokDv/f8QDAkEZFY3VLBsSKJr1CCB8sM689lYWz4umsmJewbxBvj yR/L9QHzONb0uWfsD0wsQLWYUrhQioz31c1dyeQUqujEDZPW5/FKAZ9wL9rCQq3uem5mqvDP72m pcNXRaW3BX5AnwGmnJu5NbdUExyuvy/0B+QVAdlQkhDL3lncSt66EQgRfDM/3SF3fYQsET7rEp7 iFXcZuQ8hYqBgUUWBfTwH+dUP9MnIBsOsS9lbDUB1+mCSEkAw2YIJMi/sYxJ33CPngtgm0bdRSy kIg1KuEKTFwLg7RltcbCRzVF/aHygQ== X-Google-Smtp-Source: AGHT+IFiAu/oSfiNwJ3wbtsCQrulUennmoHTVQm0/wh63BHXZdOEWqE2OnuSRQeYyF/Pszqxg3um4nLRTT8C X-Received: by 2002:ad4:5ba3:0:b0:6e4:2e12:3a0c with SMTP id 6a1803df08f44-6e42fcb5b85mr19583066d6.39.1738731165092; Tue, 04 Feb 2025 20:52:45 -0800 (PST) Received: from postal.iol.unh.edu (postal.iol.unh.edu. [132.177.123.84]) by smtp-relay.gmail.com with ESMTPS id 6a1803df08f44-6e2549678fbsm9672816d6.68.2025.02.04.20.52.45 (version=TLS1_2 cipher=ECDHE-ECDSA-AES128-GCM-SHA256 bits=128/128); Tue, 04 Feb 2025 20:52:45 -0800 (PST) X-Relaying-Domain: iol.unh.edu Date: Tue, 04 Feb 2025 20:52:45 -0800 (PST) Message-ID: <67a2ee9d.050a0220.2d659b.dd9cSMTPIN_ADDED_MISSING@mx.google.com> Received: from [172.17.0.4] (unknown [172.18.0.217]) by postal.iol.unh.edu (Postfix) with ESMTP id CC2BC6052471; Tue, 4 Feb 2025 23:52:44 -0500 (EST) Subject: |WARNING| [GIT MASTER] 9eb60580d155f5e3a36927dbb1e59ef9623231ce From: dpdklab@iol.unh.edu To: Test Report Cc: dpdk-test-reports@iol.unh.edu Content-Type: text/plain X-BeenThere: test-report@dpdk.org X-Mailman-Version: 2.1.29 Precedence: list List-Id: automatic DPDK test reports List-Unsubscribe: , List-Archive: List-Post: List-Help: List-Subscribe: , Errors-To: test-report-bounces@dpdk.org _Testing issues_ Branch: dpdk 9eb60580d155f5e3a36927dbb1e59ef9623231ce --> testing issues Upstream job id: Windows-Compile-DPDK-Native#26349 Test environment and result as below: +---------------------+--------------------+------------------+-------------------+-------------------+----------------------+-------------------------+ | Environment | dpdk_meson_compile | dpdk_compile_ovs | dpdk_compile_spdk | dpdk_msvc_compile | dpdk_mingw64_compile | dpdk_llvm_clang_compile | +=====================+====================+==================+===================+===================+======================+=========================+ | Debian 12 | PASS | PASS | PASS | SKIPPED | SKIPPED | SKIPPED | +---------------------+--------------------+------------------+-------------------+-------------------+----------------------+-------------------------+ | CentOS Stream 9 | PASS | PASS | PASS | SKIPPED | SKIPPED | SKIPPED | +---------------------+--------------------+------------------+-------------------+-------------------+----------------------+-------------------------+ | Debian Bullseye | PASS | PASS | PASS | SKIPPED | SKIPPED | SKIPPED | +---------------------+--------------------+------------------+-------------------+-------------------+----------------------+-------------------------+ | Fedora 40 | PASS | PASS | PASS | SKIPPED | SKIPPED | SKIPPED | +---------------------+--------------------+------------------+-------------------+-------------------+----------------------+-------------------------+ | Fedora 40 (Clang) | PASS | PASS | PASS | SKIPPED | SKIPPED | SKIPPED | +---------------------+--------------------+------------------+-------------------+-------------------+----------------------+-------------------------+ | Fedora 41 (Clang) | PASS | PASS | PASS | SKIPPED | SKIPPED | SKIPPED | +---------------------+--------------------+------------------+-------------------+-------------------+----------------------+-------------------------+ | Fedora 41 | PASS | PASS | PASS | SKIPPED | SKIPPED | SKIPPED | +---------------------+--------------------+------------------+-------------------+-------------------+----------------------+-------------------------+ | Ubuntu 20.04 | PASS | WARN | SKIPPED | SKIPPED | SKIPPED | SKIPPED | +---------------------+--------------------+------------------+-------------------+-------------------+----------------------+-------------------------+ | RHEL9 | PASS | PASS | SKIPPED | SKIPPED | SKIPPED | SKIPPED | +---------------------+--------------------+------------------+-------------------+-------------------+----------------------+-------------------------+ | Ubuntu 22.04 | PASS | PASS | PASS | SKIPPED | SKIPPED | SKIPPED | +---------------------+--------------------+------------------+-------------------+-------------------+----------------------+-------------------------+ | openSUSE Leap 15 | PASS | SKIPPED | SKIPPED | SKIPPED | SKIPPED | SKIPPED | +---------------------+--------------------+------------------+-------------------+-------------------+----------------------+-------------------------+ | Ubuntu 24.04 | PASS | PASS | PASS | SKIPPED | SKIPPED | SKIPPED | +---------------------+--------------------+------------------+-------------------+-------------------+----------------------+-------------------------+ | Alpine | PASS | PASS | SKIPPED | SKIPPED | SKIPPED | SKIPPED | +---------------------+--------------------+------------------+-------------------+-------------------+----------------------+-------------------------+ | Arch Linux | PASS | PASS | SKIPPED | SKIPPED | SKIPPED | SKIPPED | +---------------------+--------------------+------------------+-------------------+-------------------+----------------------+-------------------------+ | FreeBSD 13.4 | PASS | SKIPPED | SKIPPED | SKIPPED | SKIPPED | SKIPPED | +---------------------+--------------------+------------------+-------------------+-------------------+----------------------+-------------------------+ | FreeBSD 14.2 | PASS | SKIPPED | SKIPPED | SKIPPED | SKIPPED | SKIPPED | +---------------------+--------------------+------------------+-------------------+-------------------+----------------------+-------------------------+ | RHEL8 | PASS | PASS | SKIPPED | SKIPPED | SKIPPED | SKIPPED | +---------------------+--------------------+------------------+-------------------+-------------------+----------------------+-------------------------+ | Windows Server 2022 | SKIPPED | SKIPPED | SKIPPED | PASS | PASS | PASS | +---------------------+--------------------+------------------+-------------------+-------------------+----------------------+-------------------------+ ==== 20 line log output for Ubuntu 20.04 (dpdk_compile_ovs): ==== --- Failed to get log output --- ==== End log output ==== Debian 12 Kernel: Depends on container host Compiler: gcc (Debian 12.2.0-14) 12.2.0 CentOS Stream 9 Kernel: Depends on container host Compiler: gcc 11.5.0 20240719 (Red Hat 11.5.0-2) Debian Bullseye Kernel: Depends on container host Compiler: gcc (Debian 10.2.1-6) 10.2.1 20210110 Fedora 40 Kernel: Depends on container host Compiler: gcc 14.2.1 20240912 (Red Hat 14.2.1-3) Fedora 40 (Clang) Kernel: Depends on container host Compiler: clang 18.1.8 (Fedora 18.1.8-1.fc40) Fedora 41 (Clang) Kernel: Depends on container host Compiler: clang 19.1.5 (Fedora 19.1.5-1.fc41) Fedora 41 Kernel: Depends on container host Compiler: gcc 14.2.1 20240912 (Red Hat 14.2.1-3) Ubuntu 20.04 Kernel: Depends on container host Compiler: gcc (Ubuntu 9.4.0-1ubuntu1~20.04.2) 9.4.0 RHEL9 Kernel: Depends on container host Compiler: gcc 11.5.0 20240719 (Red Hat 11.5.0-2) Ubuntu 22.04 Kernel: Depends on container host Compiler: gcc (Ubuntu 11.4.0-1ubuntu1~22.04) 11.4.0 openSUSE Leap 15 Kernel: Depends on container host Compiler: gcc (SUSE Linux) 7.5.0 Ubuntu 24.04 Kernel: Depends on container host Compiler: gcc (Ubuntu 13.3.0-6ubuntu2~24.04) 13.3.0 Alpine Kernel: Depends on container host Compiler: gcc (Alpine 14.2.0) 14.2.0 Arch Linux Kernel: Depends on container host Compiler: gcc 14.2.1 20240910 FreeBSD 13.4 Kernel: 13.4-RELEASE-p1 Compiler: clang 18.1.6 FreeBSD 14.2 Kernel: 14.2-RELEASE Compiler: clang 18.1.6 RHEL8 Kernel: Depends on container host Compiler: gcc 8.5.0 20210514 (Red Hat 8.5.0-22) Windows Server 2022 Kernel: 10.0.20348.2031 Compiler: clang 15.0.7, gcc 14.1.0 (MinGW), and MSVC VS 19.39.33521 To view detailed results, visit: https://lab.dpdk.org/results/dashboard/tarballs/32386/ UNH-IOL DPDK Community Lab To manage your email subscriptions, visit: https://lab.dpdk.org/results/dashboard/preferences/subscriptions/