From mboxrd@z Thu Jan 1 00:00:00 1970 Return-Path: Received: from mails.dpdk.org (mails.dpdk.org [217.70.189.124]) by inbox.dpdk.org (Postfix) with ESMTP id 944C946195 for ; Wed, 5 Feb 2025 05:56:19 +0100 (CET) Received: from mails.dpdk.org (localhost [127.0.0.1]) by mails.dpdk.org (Postfix) with ESMTP id 6F46E40289; Wed, 5 Feb 2025 05:56:19 +0100 (CET) Received: from mail-yw1-f225.google.com (mail-yw1-f225.google.com [209.85.128.225]) by mails.dpdk.org (Postfix) with ESMTP id 220D940270 for ; Wed, 5 Feb 2025 05:56:18 +0100 (CET) Received: by mail-yw1-f225.google.com with SMTP id 00721157ae682-6f4434b5305so40698847b3.3 for ; Tue, 04 Feb 2025 20:56:18 -0800 (PST) DKIM-Signature: v=1; a=rsa-sha256; c=relaxed/relaxed; d=iol.unh.edu; s=unh-iol; t=1738731377; x=1739336177; darn=dpdk.org; h=references:in-reply-to:cc:to:from:subject:message-id:date:from:to :cc:subject:date:message-id:reply-to; bh=IcheAWGyR4OHUCj2nd7GpvgShuqU2tzO9jq6tfRcKvQ=; b=Jx036PYyDj3VrP8jA5tNqJAz4mTZ6WCa8TnaPbqC4kSsVcpGxfX2fk+9qETnOK0rHz Up6z8DHhPT75P9jXMrZCs/5IdnljT24O2A6TlgpzjmVyOrs/KrSRbfbgaAoxFKLHmmoS v5XwRuEBTT0NzzzAxOmXZOSCiB/n0HNVUU0RM= X-Google-DKIM-Signature: v=1; a=rsa-sha256; c=relaxed/relaxed; d=1e100.net; s=20230601; t=1738731377; x=1739336177; h=references:in-reply-to:cc:to:from:subject:message-id:date :x-gm-message-state:from:to:cc:subject:date:message-id:reply-to; bh=IcheAWGyR4OHUCj2nd7GpvgShuqU2tzO9jq6tfRcKvQ=; b=NXWqDX0q5kMO6gYxYqakZ34VkDC2kzmj4X2atwuLf/Mn1gg5EqTX8pygGAZSjBs2bb MuIYmqMQaXYVIoCBBM5DWteN61EdwsqZes2HFBobIu8gtbPSpiPYLrSb/8tY9WfPMXRt lnThkcazvmDxHdP0M4K7r+XMArVXN1DGoZC6IdGlIUTOdTSdFd/SsqGQ0iWKQ+jlPLjV Hkd/xY+0s4+1cxdPKiIKr2hcV6uj6xeCmQROqgVKYsIBxEShkhFBkrbZ6FocfZq3TPhA 4KWNO3hq4BpHdMp2ANcCSLqqsoGBjFVKVLypp4/5o8Q18sOIf81JM8BV6E6jqA8EuvdX IheQ== X-Gm-Message-State: AOJu0YyYmPxEA4UputY3wRXF/BvdgzDPF+KZkgg3CX5+hSLPkgkE8ZTF ZhZ78iqtxXjIjLF7VTq/ETsKZXHl2I8qLY3U9mRStJE4WIZSzlIOBAn2MRcLQsd1szrGyxOwLhC SjWs6+cyDSHvfxzuPMg3T660ZKqV7TE9M+8sNxz0U X-Gm-Gg: ASbGncuxUjx9TYGThtQ7Jl57qV9zKErIB04SpRXygz5McsJ//9aQrH/JOzgh8hjmf72 FQHZsqRBHCjZzV6iILpwZ9Q/EgXGVimaD6yagbODdsn+q+7XZKpmcVGfnsLfFBz/Akj6oonQV0/ 9PT2TnR8Vx3BEWQqWqbmeDtStB3qE5TSbImUlN0+echWEgsYF+k+Jea6hqBdxSz+ddbyVqkUaOK yj6x/qrFJBpO4pfYu/j3rFUZ9fvnITvJhy0rLOhKIs6Zzd1oVabgKeJf1Ne0phbbWte5T/Y8aeP Ac0ddQzTBD/nTuOrhahCQN5wJJ+X1g== X-Google-Smtp-Source: AGHT+IEIGBv7ScZDkRboMLeHfR+IItFePEmsfu39J9otggDsuf74o3bDbbADhIx09ErPbGec99No40M5hvH5 X-Received: by 2002:a05:690c:9986:b0:6f6:d01c:af1f with SMTP id 00721157ae682-6f989e559b0mr12694347b3.16.1738731377393; Tue, 04 Feb 2025 20:56:17 -0800 (PST) Received: from postal.iol.unh.edu (postal.iol.unh.edu. [132.177.123.84]) by smtp-relay.gmail.com with ESMTPS id 00721157ae682-6f8c463dc60sm10774687b3.25.2025.02.04.20.56.17 (version=TLS1_2 cipher=ECDHE-ECDSA-AES128-GCM-SHA256 bits=128/128); Tue, 04 Feb 2025 20:56:17 -0800 (PST) X-Relaying-Domain: iol.unh.edu Date: Tue, 04 Feb 2025 20:56:17 -0800 (PST) Message-ID: <67a2ef71.0d0a0220.2ddb5c.68c7SMTPIN_ADDED_MISSING@mx.google.com> Received: from [172.17.0.4] (unknown [172.18.0.217]) by postal.iol.unh.edu (Postfix) with ESMTP id 03F1E6052471; Tue, 4 Feb 2025 23:56:17 -0500 (EST) Subject: |WARNING| pw150597-150600 [PATCH] [RFC,4/4] dma/cnxk: implement enqu From: dpdklab@iol.unh.edu To: Test Report Cc: dpdk-test-reports@iol.unh.edu In-Reply-To: <20250129143649.3887989-4-kshankar@marvell.com> References: <20250129143649.3887989-4-kshankar@marvell.com> Content-Type: text/plain X-BeenThere: test-report@dpdk.org X-Mailman-Version: 2.1.29 Precedence: list List-Id: automatic DPDK test reports List-Unsubscribe: , List-Archive: List-Post: List-Help: List-Subscribe: , Errors-To: test-report-bounces@dpdk.org Test-Label: iol-compile-amd64-testing Test-Status: WARNING http://dpdk.org/patch/150600 _Testing issues_ Submitter: Kommula Shiva Shankar Date: Wednesday, January 29 2025 14:36:49 DPDK git baseline: Repo:dpdk Branch: master CommitID:21cab84f6f8c946fabf72fdb03ce4b274887b950 150597-150600 --> testing issues Upstream job id: Windows-Compile-DPDK-Native#26350 Test environment and result as below: +---------------------+--------------------+------------------+-------------------+-------------------+----------------------+-------------------------+ | Environment | dpdk_meson_compile | dpdk_compile_ovs | dpdk_compile_spdk | dpdk_msvc_compile | dpdk_mingw64_compile | dpdk_llvm_clang_compile | +=====================+====================+==================+===================+===================+======================+=========================+ | CentOS Stream 9 | PASS | PASS | PASS | SKIPPED | SKIPPED | SKIPPED | +---------------------+--------------------+------------------+-------------------+-------------------+----------------------+-------------------------+ | Debian Bullseye | PASS | PASS | PASS | SKIPPED | SKIPPED | SKIPPED | +---------------------+--------------------+------------------+-------------------+-------------------+----------------------+-------------------------+ | Debian 12 | PASS | PASS | PASS | SKIPPED | SKIPPED | SKIPPED | +---------------------+--------------------+------------------+-------------------+-------------------+----------------------+-------------------------+ | Fedora 40 (Clang) | PASS | PASS | PASS | SKIPPED | SKIPPED | SKIPPED | +---------------------+--------------------+------------------+-------------------+-------------------+----------------------+-------------------------+ | Fedora 41 (Clang) | PASS | PASS | PASS | SKIPPED | SKIPPED | SKIPPED | +---------------------+--------------------+------------------+-------------------+-------------------+----------------------+-------------------------+ | openSUSE Leap 15 | PASS | SKIPPED | SKIPPED | SKIPPED | SKIPPED | SKIPPED | +---------------------+--------------------+------------------+-------------------+-------------------+----------------------+-------------------------+ | RHEL8 | PASS | PASS | SKIPPED | SKIPPED | SKIPPED | SKIPPED | +---------------------+--------------------+------------------+-------------------+-------------------+----------------------+-------------------------+ | Fedora 41 | PASS | PASS | PASS | SKIPPED | SKIPPED | SKIPPED | +---------------------+--------------------+------------------+-------------------+-------------------+----------------------+-------------------------+ | RHEL9 | PASS | PASS | SKIPPED | SKIPPED | SKIPPED | SKIPPED | +---------------------+--------------------+------------------+-------------------+-------------------+----------------------+-------------------------+ | Ubuntu 20.04 | PASS | WARN | SKIPPED | SKIPPED | SKIPPED | SKIPPED | +---------------------+--------------------+------------------+-------------------+-------------------+----------------------+-------------------------+ | Ubuntu 22.04 | PASS | PASS | PASS | SKIPPED | SKIPPED | SKIPPED | +---------------------+--------------------+------------------+-------------------+-------------------+----------------------+-------------------------+ | Ubuntu 24.04 | PASS | PASS | PASS | SKIPPED | SKIPPED | SKIPPED | +---------------------+--------------------+------------------+-------------------+-------------------+----------------------+-------------------------+ | Alpine | PASS | PASS | SKIPPED | SKIPPED | SKIPPED | SKIPPED | +---------------------+--------------------+------------------+-------------------+-------------------+----------------------+-------------------------+ | FreeBSD 13.4 | PASS | SKIPPED | SKIPPED | SKIPPED | SKIPPED | SKIPPED | +---------------------+--------------------+------------------+-------------------+-------------------+----------------------+-------------------------+ | FreeBSD 14.2 | PASS | SKIPPED | SKIPPED | SKIPPED | SKIPPED | SKIPPED | +---------------------+--------------------+------------------+-------------------+-------------------+----------------------+-------------------------+ | Fedora 40 | PASS | PASS | PASS | SKIPPED | SKIPPED | SKIPPED | +---------------------+--------------------+------------------+-------------------+-------------------+----------------------+-------------------------+ | Windows Server 2022 | SKIPPED | SKIPPED | SKIPPED | PASS | PASS | PASS | +---------------------+--------------------+------------------+-------------------+-------------------+----------------------+-------------------------+ ==== 20 line log output for Ubuntu 20.04 (dpdk_compile_ovs): ==== --- Failed to get log output --- ==== End log output ==== CentOS Stream 9 Kernel: Depends on container host Compiler: gcc 11.5.0 20240719 (Red Hat 11.5.0-2) Debian Bullseye Kernel: Depends on container host Compiler: gcc (Debian 10.2.1-6) 10.2.1 20210110 Debian 12 Kernel: Depends on container host Compiler: gcc (Debian 12.2.0-14) 12.2.0 Fedora 40 (Clang) Kernel: Depends on container host Compiler: clang 18.1.8 (Fedora 18.1.8-1.fc40) Fedora 41 (Clang) Kernel: Depends on container host Compiler: clang 19.1.5 (Fedora 19.1.5-1.fc41) openSUSE Leap 15 Kernel: Depends on container host Compiler: gcc (SUSE Linux) 7.5.0 RHEL8 Kernel: Depends on container host Compiler: gcc 8.5.0 20210514 (Red Hat 8.5.0-22) Fedora 41 Kernel: Depends on container host Compiler: gcc 14.2.1 20240912 (Red Hat 14.2.1-3) RHEL9 Kernel: Depends on container host Compiler: gcc 11.5.0 20240719 (Red Hat 11.5.0-2) Ubuntu 20.04 Kernel: Depends on container host Compiler: gcc (Ubuntu 9.4.0-1ubuntu1~20.04.2) 9.4.0 Ubuntu 22.04 Kernel: Depends on container host Compiler: gcc (Ubuntu 11.4.0-1ubuntu1~22.04) 11.4.0 Ubuntu 24.04 Kernel: Depends on container host Compiler: gcc (Ubuntu 13.3.0-6ubuntu2~24.04) 13.3.0 Alpine Kernel: Depends on container host Compiler: gcc (Alpine 14.2.0) 14.2.0 FreeBSD 13.4 Kernel: 13.4-RELEASE-p1 Compiler: clang 18.1.6 FreeBSD 14.2 Kernel: 14.2-RELEASE Compiler: clang 18.1.6 Fedora 40 Kernel: Depends on container host Compiler: gcc 14.2.1 20240912 (Red Hat 14.2.1-3) Windows Server 2022 Kernel: 10.0.20348.2031 Compiler: clang 15.0.7, gcc 14.1.0 (MinGW), and MSVC VS 19.39.33521 To view detailed results, visit: https://lab.dpdk.org/results/dashboard/patchsets/32450/ UNH-IOL DPDK Community Lab To manage your email subscriptions, visit: https://lab.dpdk.org/results/dashboard/preferences/subscriptions/