From mboxrd@z Thu Jan 1 00:00:00 1970 Return-Path: Received: from mails.dpdk.org (mails.dpdk.org [217.70.189.124]) by inbox.dpdk.org (Postfix) with ESMTP id EBA2846195 for ; Wed, 5 Feb 2025 05:59:57 +0100 (CET) Received: from mails.dpdk.org (localhost [127.0.0.1]) by mails.dpdk.org (Postfix) with ESMTP id E8D1540289; Wed, 5 Feb 2025 05:59:57 +0100 (CET) Received: from mail-qk1-f227.google.com (mail-qk1-f227.google.com [209.85.222.227]) by mails.dpdk.org (Postfix) with ESMTP id 534AB40270 for ; Wed, 5 Feb 2025 05:59:57 +0100 (CET) Received: by mail-qk1-f227.google.com with SMTP id af79cd13be357-7b6e9586b82so550484785a.1 for ; Tue, 04 Feb 2025 20:59:57 -0800 (PST) DKIM-Signature: v=1; a=rsa-sha256; c=relaxed/relaxed; d=iol.unh.edu; s=unh-iol; t=1738731596; x=1739336396; darn=dpdk.org; h=references:in-reply-to:cc:to:from:subject:message-id:date:from:to :cc:subject:date:message-id:reply-to; bh=JQZuD9IIw5FuAyjf8iPMbdZu//5CmMDN4UlKg1IhSKM=; b=ftHmiFXCRjyB+HcgERB/7n4rWxeMGgEx/0Yp3SSKBn2/vAHWHWa8fU0uWjyIoDPxpV UFYElMzFlGJGX1umQkyMyLMbNzGdr0hv5vfiGPKNVzwKBFSGORgKt+kt2uudkAsJeIWg ugzO9i0tveCAkqpvVSJvSvzZhvA0XSbEvORao= X-Google-DKIM-Signature: v=1; a=rsa-sha256; c=relaxed/relaxed; d=1e100.net; s=20230601; t=1738731596; x=1739336396; h=references:in-reply-to:cc:to:from:subject:message-id:date :x-gm-message-state:from:to:cc:subject:date:message-id:reply-to; bh=JQZuD9IIw5FuAyjf8iPMbdZu//5CmMDN4UlKg1IhSKM=; b=DHng6fPSW+IUQRQl5Eq7hu+5UnP5owWV9qESOFaBv9QrB9c2XtPT/63z63SoFXPFJ8 Ea/GklHDxd1Z2givmK3TwvYpv5kBTH8+nUirgxCq1g53CD9mJvSR/ijtuxqliX+0SaTn Vc0hI5Qd9rr4flPIChpCPUI2hjVAbP5q5g/U9/JH3JJko+wPxlipEsbYg1dWViF8dgkm 0WpuU3eEshT0bhZ9lBkZ8ro1qyyxGm0W1dWHwxV9SbW1Lr9bMtb7MsoT4T/Fidd1LCcd U+DCItiyejd3GrqohcIc7RdpRTMuUULNbvr9aeLj3PvQbuJPmUOKU9svmoNUckIbPgAj QO8Q== X-Gm-Message-State: AOJu0YwkCD7fnG3RYcHOmhIp+J6aZf9v+FoQRNeUYEsZEVuODStq9Zgr DXfSizDXvT9LnZMnbx1BnFyUU4LuI1xSGz0V1hA3Fg72Swd/15nKT2K8gUKKbxkGUCMFewVzq3X PN7moejcm355NvgqGS5o4PQtzryLUo2pPLSElPjJu0NKI6lRVWzIBMvHl X-Gm-Gg: ASbGncu5cstvDkO0Fg2eV8cVpkYCVh3Rd1h+w6BjHsGqClyZo3qBMEnRek03VTGzK7D ilLK5uRd9RYQ+dMeXC/XaONzm8CPJpP6jJ2xJybs9qF3UBjQSL2E/LbpWYTXvv5jEAFw/aWY9CY lQCca+3iKpRbiUfrc0Wasm/g2nHzUHg/0B96p64YU5doWaZ+YDqjJ6bt8hcZuOBtOJr1obMiAgd jKLJ96X65jRPBfkvofALwa0j3gQ/oNqJk5FvRoDuh48mXdVqThJNO8ZCYmHOeKzAgUjQNY99SS9 +fthwxfqW/AvS6ZpOn3tr2m/OUPqNBz1H2HlVYw68A== X-Google-Smtp-Source: AGHT+IFM7xIprGM2tbqDuw9l3tUUGXpVg2kf+96KMpapf6r8OHOHhSUMltLLRVtxl2j93OuT0mx+KWV/Ilel X-Received: by 2002:a05:620a:2890:b0:7b1:880c:5805 with SMTP id af79cd13be357-7c03a03ec28mr218967085a.45.1738731596678; Tue, 04 Feb 2025 20:59:56 -0800 (PST) Received: from postal.iol.unh.edu (postal.iol.unh.edu. [2606:4100:3880:1234::84]) by smtp-relay.gmail.com with ESMTPS id 6a1803df08f44-6e2544df6e5sm8999216d6.5.2025.02.04.20.59.56 (version=TLS1_2 cipher=ECDHE-ECDSA-AES128-GCM-SHA256 bits=128/128); Tue, 04 Feb 2025 20:59:56 -0800 (PST) X-Relaying-Domain: iol.unh.edu Date: Tue, 04 Feb 2025 20:59:56 -0800 (PST) Message-ID: <67a2f04c.050a0220.3d0a40.9a68SMTPIN_ADDED_MISSING@mx.google.com> Received: from [172.17.0.4] (unknown [172.18.0.217]) by postal.iol.unh.edu (Postfix) with ESMTP id 523F06052471; Tue, 4 Feb 2025 23:59:56 -0500 (EST) Subject: |WARNING| pw150594-150596 [PATCH] [v2,3/3] doc: documentaion update From: dpdklab@iol.unh.edu To: Test Report Cc: dpdk-test-reports@iol.unh.edu In-Reply-To: <20250129121856.1040065-4-shaiq.wani@intel.com> References: <20250129121856.1040065-4-shaiq.wani@intel.com> Content-Type: text/plain X-BeenThere: test-report@dpdk.org X-Mailman-Version: 2.1.29 Precedence: list List-Id: automatic DPDK test reports List-Unsubscribe: , List-Archive: List-Post: List-Help: List-Subscribe: , Errors-To: test-report-bounces@dpdk.org Test-Label: iol-compile-amd64-testing Test-Status: WARNING http://dpdk.org/patch/150596 _Testing issues_ Submitter: Shaiq Wani Date: Wednesday, January 29 2025 12:18:56 DPDK git baseline: Repo:dpdk Branch: master CommitID:fb0289fdc737ff73aa28268bb0ac4509423dcd4e 150594-150596 --> testing issues Upstream job id: Windows-Compile-DPDK-Native#26351 Test environment and result as below: +---------------------+--------------------+------------------+-------------------+-------------------+----------------------+-------------------------+ | Environment | dpdk_meson_compile | dpdk_compile_ovs | dpdk_compile_spdk | dpdk_msvc_compile | dpdk_mingw64_compile | dpdk_llvm_clang_compile | +=====================+====================+==================+===================+===================+======================+=========================+ | Debian Bullseye | PASS | PASS | PASS | SKIPPED | SKIPPED | SKIPPED | +---------------------+--------------------+------------------+-------------------+-------------------+----------------------+-------------------------+ | CentOS Stream 9 | PASS | PASS | PASS | SKIPPED | SKIPPED | SKIPPED | +---------------------+--------------------+------------------+-------------------+-------------------+----------------------+-------------------------+ | Fedora 40 (Clang) | PASS | PASS | PASS | SKIPPED | SKIPPED | SKIPPED | +---------------------+--------------------+------------------+-------------------+-------------------+----------------------+-------------------------+ | Fedora 41 (Clang) | PASS | PASS | PASS | SKIPPED | SKIPPED | SKIPPED | +---------------------+--------------------+------------------+-------------------+-------------------+----------------------+-------------------------+ | Debian 12 | PASS | PASS | PASS | SKIPPED | SKIPPED | SKIPPED | +---------------------+--------------------+------------------+-------------------+-------------------+----------------------+-------------------------+ | Fedora 40 | PASS | PASS | PASS | SKIPPED | SKIPPED | SKIPPED | +---------------------+--------------------+------------------+-------------------+-------------------+----------------------+-------------------------+ | Ubuntu 20.04 | PASS | WARN | SKIPPED | SKIPPED | SKIPPED | SKIPPED | +---------------------+--------------------+------------------+-------------------+-------------------+----------------------+-------------------------+ | openSUSE Leap 15 | PASS | SKIPPED | SKIPPED | SKIPPED | SKIPPED | SKIPPED | +---------------------+--------------------+------------------+-------------------+-------------------+----------------------+-------------------------+ | RHEL8 | PASS | PASS | SKIPPED | SKIPPED | SKIPPED | SKIPPED | +---------------------+--------------------+------------------+-------------------+-------------------+----------------------+-------------------------+ | RHEL9 | PASS | PASS | SKIPPED | SKIPPED | SKIPPED | SKIPPED | +---------------------+--------------------+------------------+-------------------+-------------------+----------------------+-------------------------+ | Fedora 41 | PASS | PASS | PASS | SKIPPED | SKIPPED | SKIPPED | +---------------------+--------------------+------------------+-------------------+-------------------+----------------------+-------------------------+ | Ubuntu 22.04 | PASS | PASS | PASS | SKIPPED | SKIPPED | SKIPPED | +---------------------+--------------------+------------------+-------------------+-------------------+----------------------+-------------------------+ | Ubuntu 24.04 | PASS | PASS | PASS | SKIPPED | SKIPPED | SKIPPED | +---------------------+--------------------+------------------+-------------------+-------------------+----------------------+-------------------------+ | Alpine | PASS | PASS | SKIPPED | SKIPPED | SKIPPED | SKIPPED | +---------------------+--------------------+------------------+-------------------+-------------------+----------------------+-------------------------+ | FreeBSD 13.4 | PASS | SKIPPED | SKIPPED | SKIPPED | SKIPPED | SKIPPED | +---------------------+--------------------+------------------+-------------------+-------------------+----------------------+-------------------------+ | FreeBSD 14.2 | PASS | SKIPPED | SKIPPED | SKIPPED | SKIPPED | SKIPPED | +---------------------+--------------------+------------------+-------------------+-------------------+----------------------+-------------------------+ | Windows Server 2022 | SKIPPED | SKIPPED | SKIPPED | PASS | PASS | PASS | +---------------------+--------------------+------------------+-------------------+-------------------+----------------------+-------------------------+ ==== 20 line log output for Ubuntu 20.04 (dpdk_compile_ovs): ==== --- Failed to get log output --- ==== End log output ==== Debian Bullseye Kernel: Depends on container host Compiler: gcc (Debian 10.2.1-6) 10.2.1 20210110 CentOS Stream 9 Kernel: Depends on container host Compiler: gcc 11.5.0 20240719 (Red Hat 11.5.0-2) Fedora 40 (Clang) Kernel: Depends on container host Compiler: clang 18.1.8 (Fedora 18.1.8-1.fc40) Fedora 41 (Clang) Kernel: Depends on container host Compiler: clang 19.1.5 (Fedora 19.1.5-1.fc41) Debian 12 Kernel: Depends on container host Compiler: gcc (Debian 12.2.0-14) 12.2.0 Fedora 40 Kernel: Depends on container host Compiler: gcc 14.2.1 20240912 (Red Hat 14.2.1-3) Ubuntu 20.04 Kernel: Depends on container host Compiler: gcc (Ubuntu 9.4.0-1ubuntu1~20.04.2) 9.4.0 openSUSE Leap 15 Kernel: Depends on container host Compiler: gcc (SUSE Linux) 7.5.0 RHEL8 Kernel: Depends on container host Compiler: gcc 8.5.0 20210514 (Red Hat 8.5.0-22) RHEL9 Kernel: Depends on container host Compiler: gcc 11.5.0 20240719 (Red Hat 11.5.0-2) Fedora 41 Kernel: Depends on container host Compiler: gcc 14.2.1 20240912 (Red Hat 14.2.1-3) Ubuntu 22.04 Kernel: Depends on container host Compiler: gcc (Ubuntu 11.4.0-1ubuntu1~22.04) 11.4.0 Ubuntu 24.04 Kernel: Depends on container host Compiler: gcc (Ubuntu 13.3.0-6ubuntu2~24.04) 13.3.0 Alpine Kernel: Depends on container host Compiler: gcc (Alpine 14.2.0) 14.2.0 FreeBSD 13.4 Kernel: 13.4-RELEASE-p1 Compiler: clang 18.1.6 FreeBSD 14.2 Kernel: 14.2-RELEASE Compiler: clang 18.1.6 Windows Server 2022 Kernel: 10.0.20348.2031 Compiler: clang 15.0.7, gcc 14.1.0 (MinGW), and MSVC VS 19.39.33521 To view detailed results, visit: https://lab.dpdk.org/results/dashboard/patchsets/32449/ UNH-IOL DPDK Community Lab To manage your email subscriptions, visit: https://lab.dpdk.org/results/dashboard/preferences/subscriptions/