From mboxrd@z Thu Jan 1 00:00:00 1970 Return-Path: Received: from mails.dpdk.org (mails.dpdk.org [217.70.189.124]) by inbox.dpdk.org (Postfix) with ESMTP id 4E32346196 for ; Wed, 5 Feb 2025 06:02:19 +0100 (CET) Received: from mails.dpdk.org (localhost [127.0.0.1]) by mails.dpdk.org (Postfix) with ESMTP id 2E72D40289; Wed, 5 Feb 2025 06:02:19 +0100 (CET) Received: from mail-oa1-f100.google.com (mail-oa1-f100.google.com [209.85.160.100]) by mails.dpdk.org (Postfix) with ESMTP id A274640270 for ; Wed, 5 Feb 2025 06:02:18 +0100 (CET) Received: by mail-oa1-f100.google.com with SMTP id 586e51a60fabf-29fcbf3d709so2036962fac.2 for ; Tue, 04 Feb 2025 21:02:18 -0800 (PST) DKIM-Signature: v=1; a=rsa-sha256; c=relaxed/relaxed; d=iol.unh.edu; s=unh-iol; t=1738731738; x=1739336538; darn=dpdk.org; h=references:in-reply-to:cc:to:from:subject:message-id:date:from:to :cc:subject:date:message-id:reply-to; bh=MNdGZVNIMSeUagCOC1w4cYu/tBibOZF8NovCm7QZ7KA=; b=coL/j3/K7BZqDAuQ7N+3L9Ghh0XUj6Wx8m3TOV3VbSigvffVPxkIgQNwmPDpekdw1O wdGhBs/2k1cCXNOpWAWjWr81vOT/DqW2NAGidvCQ1H26+k+Kb/HIGnRtS8mFTwFhXREv rVXvuz1hkcUDMJnYb6sXA+XyiuZ0J+ddTxbcM= X-Google-DKIM-Signature: v=1; a=rsa-sha256; c=relaxed/relaxed; d=1e100.net; s=20230601; t=1738731738; x=1739336538; h=references:in-reply-to:cc:to:from:subject:message-id:date :x-gm-message-state:from:to:cc:subject:date:message-id:reply-to; bh=MNdGZVNIMSeUagCOC1w4cYu/tBibOZF8NovCm7QZ7KA=; b=RYe3+LWXP81S9SKc2aMmvovqLqoYLJ37C4BZ6aDf8MkD/jD8bukEJuY8K74r1LnyLi y/4w44GGQWqpmtmFXFTpYoUW6DEQ+CPgxTffPCQjUWNHSQ+b5qwEzSw1FjERaTSWvBx5 iXmwTBlmBx/9fj1gbe+M3HCtySm7uFyWL4uN2zQeeqTvYYkuC4QqV4ZBUrs/7bGDWzog j7fE3P0RlZxCvwpOmXI5ZvAHtcNZqXVAgaHY0loQyQ6Bz33z31x5oVu1B2eFYnfS6oSB Lj0TMGKxjV7PQjlc7eddCbaL8sOCOqGZBf4lqTZ4ea+xKby3LuYBF+n7jC8inFftcc4l mDJQ== X-Gm-Message-State: AOJu0Yz/MLX+yP/veoRmeCYxxGiM5fsxVIA1ukarOkzE0C1taEv9lPnT cdx+j6l3Yct70Qo2i7er7oR6b49GjHx9P1fcKhyuc0cDpeSIYNN82ihXGh+ogKmfFsJgDOP4bsr s++rJQ4+HwOvJDU7cMi0oXvCF6/87flcp2DCmc0scwkwz9gHYpdFn2Gd0 X-Gm-Gg: ASbGnctxzxjs+7ZY5jxnQ980zpdcZ7fycbtqvMl55zcCGW91k3Vk4qssHwCAJD9mZNj 0YZ1OWb4JBi0Rz9NtOCjs/cIF8thVqlgTChzGzkwPy78/kMbGJslzAfuw/zFyjMgmAx2qvDBByk UTI0J4LUWyjvzXtIbWZoGjFAx3yCg7PrMxB0DFW18tHzDCtgZNgxV9i3cIt8/oUp01qhbzOqiUk jT2aZp3XOJdN9OeGPu8RHys+EKj5neb0XKtal1jzp7wFRBrCkh4QjPk07fsGHqhcYX6zn5gybUB OmeXqA6mbptFEPEfYP2gG3vPDV4kR6zxW3hjxQsB3Q== X-Google-Smtp-Source: AGHT+IGuDndGXKDbN3P62oepqbAq77Ui3W+PY88q7vHHJEwQeUgs5jXeyKwrVVjvSjb8rDAmAC019ryxvN21 X-Received: by 2002:a05:6870:63a6:b0:29e:3c14:2bb0 with SMTP id 586e51a60fabf-2b805126cf7mr1143714fac.30.1738731737901; Tue, 04 Feb 2025 21:02:17 -0800 (PST) Received: from postal.iol.unh.edu (postal.iol.unh.edu. [2606:4100:3880:1234::84]) by smtp-relay.gmail.com with ESMTPS id 586e51a60fabf-2b3565adb11sm933752fac.26.2025.02.04.21.02.17 (version=TLS1_2 cipher=ECDHE-ECDSA-AES128-GCM-SHA256 bits=128/128); Tue, 04 Feb 2025 21:02:17 -0800 (PST) X-Relaying-Domain: iol.unh.edu Date: Tue, 04 Feb 2025 21:02:17 -0800 (PST) Message-ID: <67a2f0d9.050a0220.1040ed.c8c9SMTPIN_ADDED_MISSING@mx.google.com> Received: from [172.17.0.4] (unknown [172.18.0.217]) by postal.iol.unh.edu (Postfix) with ESMTP id 36F196052471; Wed, 5 Feb 2025 00:02:17 -0500 (EST) Subject: |SUCCESS| pw150905-150924 [PATCH] [v21,27/27] config: add -Wvla proj From: dpdklab@iol.unh.edu To: Test Report Cc: dpdk-test-reports@iol.unh.edu In-Reply-To: <1738702638-22363-28-git-send-email-andremue@linux.microsoft.com> References: <1738702638-22363-28-git-send-email-andremue@linux.microsoft.com> Content-Type: text/plain X-BeenThere: test-report@dpdk.org X-Mailman-Version: 2.1.29 Precedence: list List-Id: automatic DPDK test reports List-Unsubscribe: , List-Archive: List-Post: List-Help: List-Subscribe: , Errors-To: test-report-bounces@dpdk.org Test-Label: iol-compile-amd64-testing Test-Status: SUCCESS http://dpdk.org/patch/150924 _Testing PASS_ Submitter: Andre Muezerie Date: Tuesday, February 04 2025 20:57:18 DPDK git baseline: Repo:dpdk Branch: master CommitID:dc4ce7c2538b713e16887eb598da309bc7b4d528 150905-150924 --> testing pass Upstream job id: Generic-DPDK-Compile-Meson#357810 Test environment and result as below: +---------------------+-------------------+--------------------+------------------+-------------------+ | Environment | dpdk_msvc_compile | dpdk_meson_compile | dpdk_compile_ovs | dpdk_compile_spdk | +=====================+===================+====================+==================+===================+ | Windows Server 2022 | PASS | SKIPPED | SKIPPED | SKIPPED | +---------------------+-------------------+--------------------+------------------+-------------------+ | FreeBSD 13.4 | SKIPPED | PASS | SKIPPED | SKIPPED | +---------------------+-------------------+--------------------+------------------+-------------------+ | FreeBSD 14.2 | SKIPPED | PASS | SKIPPED | SKIPPED | +---------------------+-------------------+--------------------+------------------+-------------------+ | CentOS Stream 9 | SKIPPED | PASS | PASS | PASS | +---------------------+-------------------+--------------------+------------------+-------------------+ | Debian Bullseye | SKIPPED | PASS | PASS | PASS | +---------------------+-------------------+--------------------+------------------+-------------------+ | Debian 12 | SKIPPED | PASS | PASS | PASS | +---------------------+-------------------+--------------------+------------------+-------------------+ | Fedora 40 (Clang) | SKIPPED | PASS | PASS | PASS | +---------------------+-------------------+--------------------+------------------+-------------------+ | Fedora 40 | SKIPPED | PASS | PASS | PASS | +---------------------+-------------------+--------------------+------------------+-------------------+ | Fedora 41 (Clang) | SKIPPED | PASS | PASS | PASS | +---------------------+-------------------+--------------------+------------------+-------------------+ | Fedora 41 | SKIPPED | PASS | PASS | PASS | +---------------------+-------------------+--------------------+------------------+-------------------+ | openSUSE Leap 15 | SKIPPED | PASS | SKIPPED | SKIPPED | +---------------------+-------------------+--------------------+------------------+-------------------+ | RHEL8 | SKIPPED | PASS | PASS | SKIPPED | +---------------------+-------------------+--------------------+------------------+-------------------+ | RHEL9 | SKIPPED | PASS | PASS | SKIPPED | +---------------------+-------------------+--------------------+------------------+-------------------+ | Ubuntu 20.04 | SKIPPED | PASS | SKIPPED | SKIPPED | +---------------------+-------------------+--------------------+------------------+-------------------+ | Ubuntu 22.04 | SKIPPED | PASS | PASS | PASS | +---------------------+-------------------+--------------------+------------------+-------------------+ | Ubuntu 24.04 | SKIPPED | PASS | PASS | PASS | +---------------------+-------------------+--------------------+------------------+-------------------+ | Alpine | SKIPPED | PASS | PASS | SKIPPED | +---------------------+-------------------+--------------------+------------------+-------------------+ Windows Server 2022 Kernel: 10.0.20348.2031 Compiler: clang 15.0.7, gcc 14.1.0 (MinGW), and MSVC VS 19.39.33521 FreeBSD 13.4 Kernel: 13.4-RELEASE-p1 Compiler: clang 18.1.6 FreeBSD 14.2 Kernel: 14.2-RELEASE Compiler: clang 18.1.6 CentOS Stream 9 Kernel: Depends on container host Compiler: gcc 11.5.0 20240719 (Red Hat 11.5.0-2) Debian Bullseye Kernel: Depends on container host Compiler: gcc (Debian 10.2.1-6) 10.2.1 20210110 Debian 12 Kernel: Depends on container host Compiler: gcc (Debian 12.2.0-14) 12.2.0 Fedora 40 (Clang) Kernel: Depends on container host Compiler: clang 18.1.8 (Fedora 18.1.8-1.fc40) Fedora 40 Kernel: Depends on container host Compiler: gcc 14.2.1 20240912 (Red Hat 14.2.1-3) Fedora 41 (Clang) Kernel: Depends on container host Compiler: clang 19.1.5 (Fedora 19.1.5-1.fc41) Fedora 41 Kernel: Depends on container host Compiler: gcc 14.2.1 20240912 (Red Hat 14.2.1-3) openSUSE Leap 15 Kernel: Depends on container host Compiler: gcc (SUSE Linux) 7.5.0 RHEL8 Kernel: Depends on container host Compiler: gcc 8.5.0 20210514 (Red Hat 8.5.0-22) RHEL9 Kernel: Depends on container host Compiler: gcc 11.5.0 20240719 (Red Hat 11.5.0-2) Ubuntu 20.04 Kernel: Depends on container host Compiler: gcc (Ubuntu 9.4.0-1ubuntu1~20.04.2) 9.4.0 Ubuntu 22.04 Kernel: Depends on container host Compiler: gcc (Ubuntu 11.4.0-1ubuntu1~22.04) 11.4.0 Ubuntu 24.04 Kernel: Depends on container host Compiler: gcc (Ubuntu 13.3.0-6ubuntu2~24.04) 13.3.0 Alpine Kernel: Depends on container host Compiler: gcc (Alpine 14.2.0) 14.2.0 To view detailed results, visit: https://lab.dpdk.org/results/dashboard/patchsets/32494/ UNH-IOL DPDK Community Lab To manage your email subscriptions, visit: https://lab.dpdk.org/results/dashboard/preferences/subscriptions/