From mboxrd@z Thu Jan 1 00:00:00 1970 Return-Path: Received: from mails.dpdk.org (mails.dpdk.org [217.70.189.124]) by inbox.dpdk.org (Postfix) with ESMTP id 8DA5F46196 for ; Wed, 5 Feb 2025 06:04:05 +0100 (CET) Received: from mails.dpdk.org (localhost [127.0.0.1]) by mails.dpdk.org (Postfix) with ESMTP id 6481C40289; Wed, 5 Feb 2025 06:04:05 +0100 (CET) Received: from mail-il1-f227.google.com (mail-il1-f227.google.com [209.85.166.227]) by mails.dpdk.org (Postfix) with ESMTP id B687240270 for ; Wed, 5 Feb 2025 06:04:04 +0100 (CET) Received: by mail-il1-f227.google.com with SMTP id e9e14a558f8ab-3d053d2e39dso294005ab.1 for ; Tue, 04 Feb 2025 21:04:04 -0800 (PST) DKIM-Signature: v=1; a=rsa-sha256; c=relaxed/relaxed; d=iol.unh.edu; s=unh-iol; t=1738731844; x=1739336644; darn=dpdk.org; h=references:in-reply-to:cc:to:from:subject:message-id:date:from:to :cc:subject:date:message-id:reply-to; bh=LnFyILF/FZhP8j5wzTulhISCj8Vd1DhEjDHLpiUkI9M=; b=e6Jaq/wUGFARrvo4LiUKTtikJzdMd3+D5iYkXEstIzWColGrh94g1PMZWD0B3EDStH eHeHKO58wJfibXqqsBj8WTXufNQBUIT5/2YzfN9w2gk87IxzbdJ4qKYq87EfynKvjQqx q50RJOVNshvu2qHt9gDAeXIJwnpoIuPn52Pfg= X-Google-DKIM-Signature: v=1; a=rsa-sha256; c=relaxed/relaxed; d=1e100.net; s=20230601; t=1738731844; x=1739336644; h=references:in-reply-to:cc:to:from:subject:message-id:date :x-gm-message-state:from:to:cc:subject:date:message-id:reply-to; bh=LnFyILF/FZhP8j5wzTulhISCj8Vd1DhEjDHLpiUkI9M=; b=UZ9RZv7OML2zrQAu9rgcm2Gb0hQ/ASVZpk9MpcpAvmz0ooj6CYxU+Aa4gvMCX2v1W7 CbO+WFc9TcxEZrqEPILvAA4D/fW8MCs040hROiRdxZykvFkgwVMbUcc4mhojASAQZ9k9 bEDI6fkYAAlBUhLGs+ifMtj/HBZNjLGcieVj25AxNvQWke+sA+hXnsuNjTkALUKiWxnu NNl0WtnwTJ1eUo6sOBtfgXaKGZOPyyVnT9vbjAcgO1UoBdZh3rN6IYkv1lyQ9nVZzpBv Ih7/TCEsrnoDCrvpaO9Hak3COuE/wwlte7+jY26TYqD5yCzVcS3ofrMa1D33Bakx5Ebq /3KQ== X-Gm-Message-State: AOJu0YzjAnqdhOyZGp7xlMIllcOzpgt+V5JFUOtZHANrZ8Wvshl8bXu+ K7uCsDOhnq4Z1jLDFwsfqL2DdWfVVE0UstGbXIL+4QQBdwQRjEPHl8AFxI/dYgJC49FhCunKVlF 4e7jxLfw1uJdPx60RXaiEdSXN1rjoLcYxslBufi7ItGsOM4pLgafCpS59 X-Gm-Gg: ASbGncsL/DC9D8uTkwskx4Tqe330aG/rJ2QQ/6wK6hCAftdn7+Jv+mww76cXJUZK6pR Iq+026O1QN64w3c3Cn808STZqC8zcsS7ZMa8nHHKi8jYztyN8d23me94NUAKvakg2JMccRUR3Ut hxDeQx8q96KfcZD8M3eUyNLG6lm58f32ym/dbDHrhM9No3YmQqF3XPXm+UrYobw/OI5cvE62ssV lLrh8tfIRTR9WZUv0wZ3ucgWBKH56yK4kNtVvdr2FWLltKhH/9T2pRxjC+ENPrZrfW/3ISlmB2H SOYDZjtyQng/knrJyWmiPSZolrJPFT5gFRkAJsGsrQ== X-Google-Smtp-Source: AGHT+IHPXBPlxPJI02ME5b059yU6UToiVNHekLJeUl59DzV4KVYcUUqHui0/af8h/oWfk7U6i40rzBX0jh4m X-Received: by 2002:a05:6e02:156b:b0:3cf:c17d:5cba with SMTP id e9e14a558f8ab-3d04f453f73mr12276585ab.9.1738731843983; Tue, 04 Feb 2025 21:04:03 -0800 (PST) Received: from postal.iol.unh.edu (postal.iol.unh.edu. [2606:4100:3880:1234::84]) by smtp-relay.gmail.com with ESMTPS id 8926c6da1cb9f-4ec7469d869sm767491173.52.2025.02.04.21.04.03 (version=TLS1_2 cipher=ECDHE-ECDSA-AES128-GCM-SHA256 bits=128/128); Tue, 04 Feb 2025 21:04:03 -0800 (PST) X-Relaying-Domain: iol.unh.edu Date: Tue, 04 Feb 2025 21:04:03 -0800 (PST) Message-ID: <67a2f143.050a0220.115819.467aSMTPIN_ADDED_MISSING@mx.google.com> Received: from [172.17.0.4] (unknown [172.18.0.217]) by postal.iol.unh.edu (Postfix) with ESMTP id 7C5586052471; Wed, 5 Feb 2025 00:04:03 -0500 (EST) Subject: |WARNING| pw150591-150592 [PATCH] [v3,2/2] net/af_xdp: Refactor af_x From: dpdklab@iol.unh.edu To: Test Report Cc: dpdk-test-reports@iol.unh.edu In-Reply-To: <20250128231152.249497-3-ariel.otilibili@6wind.com> References: <20250128231152.249497-3-ariel.otilibili@6wind.com> Content-Type: text/plain X-BeenThere: test-report@dpdk.org X-Mailman-Version: 2.1.29 Precedence: list List-Id: automatic DPDK test reports List-Unsubscribe: , List-Archive: List-Post: List-Help: List-Subscribe: , Errors-To: test-report-bounces@dpdk.org Test-Label: iol-compile-amd64-testing Test-Status: WARNING http://dpdk.org/patch/150592 _Testing issues_ Submitter: Ariel Otilibili Date: Tuesday, January 28 2025 23:11:52 DPDK git baseline: Repo:dpdk Branch: master CommitID:7e08e8fc439f37f9b0dfbfbba9d1877cd8546fde 150591-150592 --> testing issues Upstream job id: Windows-Compile-DPDK-Native#26352 Test environment and result as below: +---------------------+-------------------+--------------------+------------------+-------------------+----------------------+-------------------------+ | Environment | dpdk_msvc_compile | dpdk_meson_compile | dpdk_compile_ovs | dpdk_compile_spdk | dpdk_mingw64_compile | dpdk_llvm_clang_compile | +=====================+===================+====================+==================+===================+======================+=========================+ | Windows Server 2022 | PASS | SKIPPED | SKIPPED | SKIPPED | PASS | PASS | +---------------------+-------------------+--------------------+------------------+-------------------+----------------------+-------------------------+ | FreeBSD 13.4 | SKIPPED | PASS | SKIPPED | SKIPPED | SKIPPED | SKIPPED | +---------------------+-------------------+--------------------+------------------+-------------------+----------------------+-------------------------+ | FreeBSD 14.2 | SKIPPED | PASS | SKIPPED | SKIPPED | SKIPPED | SKIPPED | +---------------------+-------------------+--------------------+------------------+-------------------+----------------------+-------------------------+ | Debian Bullseye | SKIPPED | PASS | PASS | PASS | SKIPPED | SKIPPED | +---------------------+-------------------+--------------------+------------------+-------------------+----------------------+-------------------------+ | Debian 12 | SKIPPED | PASS | PASS | PASS | SKIPPED | SKIPPED | +---------------------+-------------------+--------------------+------------------+-------------------+----------------------+-------------------------+ | Fedora 40 (Clang) | SKIPPED | PASS | PASS | PASS | SKIPPED | SKIPPED | +---------------------+-------------------+--------------------+------------------+-------------------+----------------------+-------------------------+ | Fedora 40 | SKIPPED | PASS | PASS | PASS | SKIPPED | SKIPPED | +---------------------+-------------------+--------------------+------------------+-------------------+----------------------+-------------------------+ | Fedora 41 (Clang) | SKIPPED | PASS | PASS | PASS | SKIPPED | SKIPPED | +---------------------+-------------------+--------------------+------------------+-------------------+----------------------+-------------------------+ | Fedora 41 | SKIPPED | PASS | PASS | PASS | SKIPPED | SKIPPED | +---------------------+-------------------+--------------------+------------------+-------------------+----------------------+-------------------------+ | openSUSE Leap 15 | SKIPPED | PASS | SKIPPED | SKIPPED | SKIPPED | SKIPPED | +---------------------+-------------------+--------------------+------------------+-------------------+----------------------+-------------------------+ | RHEL8 | SKIPPED | PASS | PASS | SKIPPED | SKIPPED | SKIPPED | +---------------------+-------------------+--------------------+------------------+-------------------+----------------------+-------------------------+ | RHEL9 | SKIPPED | PASS | PASS | SKIPPED | SKIPPED | SKIPPED | +---------------------+-------------------+--------------------+------------------+-------------------+----------------------+-------------------------+ | Ubuntu 20.04 | SKIPPED | PASS | WARN | SKIPPED | SKIPPED | SKIPPED | +---------------------+-------------------+--------------------+------------------+-------------------+----------------------+-------------------------+ | Ubuntu 22.04 | SKIPPED | PASS | PASS | PASS | SKIPPED | SKIPPED | +---------------------+-------------------+--------------------+------------------+-------------------+----------------------+-------------------------+ | Ubuntu 24.04 | SKIPPED | PASS | PASS | PASS | SKIPPED | SKIPPED | +---------------------+-------------------+--------------------+------------------+-------------------+----------------------+-------------------------+ | Alpine | SKIPPED | PASS | PASS | SKIPPED | SKIPPED | SKIPPED | +---------------------+-------------------+--------------------+------------------+-------------------+----------------------+-------------------------+ ==== 20 line log output for Ubuntu 20.04 (dpdk_compile_ovs): ==== --- Failed to get log output --- ==== End log output ==== Windows Server 2022 Kernel: 10.0.20348.2031 Compiler: clang 15.0.7, gcc 14.1.0 (MinGW), and MSVC VS 19.39.33521 FreeBSD 13.4 Kernel: 13.4-RELEASE-p1 Compiler: clang 18.1.6 FreeBSD 14.2 Kernel: 14.2-RELEASE Compiler: clang 18.1.6 Debian Bullseye Kernel: Depends on container host Compiler: gcc (Debian 10.2.1-6) 10.2.1 20210110 Debian 12 Kernel: Depends on container host Compiler: gcc (Debian 12.2.0-14) 12.2.0 Fedora 40 (Clang) Kernel: Depends on container host Compiler: clang 18.1.8 (Fedora 18.1.8-1.fc40) Fedora 40 Kernel: Depends on container host Compiler: gcc 14.2.1 20240912 (Red Hat 14.2.1-3) Fedora 41 (Clang) Kernel: Depends on container host Compiler: clang 19.1.5 (Fedora 19.1.5-1.fc41) Fedora 41 Kernel: Depends on container host Compiler: gcc 14.2.1 20240912 (Red Hat 14.2.1-3) openSUSE Leap 15 Kernel: Depends on container host Compiler: gcc (SUSE Linux) 7.5.0 RHEL8 Kernel: Depends on container host Compiler: gcc 8.5.0 20210514 (Red Hat 8.5.0-22) RHEL9 Kernel: Depends on container host Compiler: gcc 11.5.0 20240719 (Red Hat 11.5.0-2) Ubuntu 20.04 Kernel: Depends on container host Compiler: gcc (Ubuntu 9.4.0-1ubuntu1~20.04.2) 9.4.0 Ubuntu 22.04 Kernel: Depends on container host Compiler: gcc (Ubuntu 11.4.0-1ubuntu1~22.04) 11.4.0 Ubuntu 24.04 Kernel: Depends on container host Compiler: gcc (Ubuntu 13.3.0-6ubuntu2~24.04) 13.3.0 Alpine Kernel: Depends on container host Compiler: gcc (Alpine 14.2.0) 14.2.0 To view detailed results, visit: https://lab.dpdk.org/results/dashboard/patchsets/32447/ UNH-IOL DPDK Community Lab To manage your email subscriptions, visit: https://lab.dpdk.org/results/dashboard/preferences/subscriptions/