From mboxrd@z Thu Jan 1 00:00:00 1970 Return-Path: Received: from mails.dpdk.org (mails.dpdk.org [217.70.189.124]) by inbox.dpdk.org (Postfix) with ESMTP id 3219B46196 for ; Wed, 5 Feb 2025 06:56:44 +0100 (CET) Received: from mails.dpdk.org (localhost [127.0.0.1]) by mails.dpdk.org (Postfix) with ESMTP id 2E0B140289; Wed, 5 Feb 2025 06:56:44 +0100 (CET) Received: from mail-pj1-f100.google.com (mail-pj1-f100.google.com [209.85.216.100]) by mails.dpdk.org (Postfix) with ESMTP id 2831D40270 for ; Wed, 5 Feb 2025 06:56:42 +0100 (CET) Received: by mail-pj1-f100.google.com with SMTP id 98e67ed59e1d1-2f9c69aefdbso2486291a91.2 for ; Tue, 04 Feb 2025 21:56:42 -0800 (PST) DKIM-Signature: v=1; a=rsa-sha256; c=relaxed/relaxed; d=iol.unh.edu; s=unh-iol; t=1738735001; x=1739339801; darn=dpdk.org; h=cc:to:from:subject:message-id:date:from:to:cc:subject:date :message-id:reply-to; bh=cN4YjSWlQ5dMYwJ49GupJAsN0ZHm8om62CR3vFOt3KY=; b=ZPNbV4uC8OqgJojuG7E/6uLOWdNEtKWeKXTvD06GLZg4GwrmwOPbuenZ2bvv+Zv2E5 a/xusIBRIPGUIEn5ZVJ7CAAKDU4X0VkqZeC/xOIe47erBsNtgHOa1lfLh8+4D3lXvNxO ESb76kl4+WwlMjcULOV/CeN4quEnZ8qzEMRLY= X-Google-DKIM-Signature: v=1; a=rsa-sha256; c=relaxed/relaxed; d=1e100.net; s=20230601; t=1738735001; x=1739339801; h=cc:to:from:subject:message-id:date:x-gm-message-state:from:to:cc :subject:date:message-id:reply-to; bh=cN4YjSWlQ5dMYwJ49GupJAsN0ZHm8om62CR3vFOt3KY=; b=jZT/M+nPvbSiJY6HjYCp4k+sgAMTitj//ev0o4/uboooawctO0xsbcQt9IrP3WfPZQ KeQlx6g16pWgBAwaziNfx4bJrAKLPtXgap2X0mHIp+4xbu/30trZBw4VBdGG4VC+yxu7 KPqAanucWR+0P8waCpDPeiOX1lDZp3FdjbUsnowx4YynJSCExJfdaV6AFtXaGJNWffvX mYJuf+7NBl6kuR7qyJB0MWFjHYgKcji4x4D6v7ZKT/SIXaa+kXHGaQjiwa10hPhQb8Bg zq+WfLxEnk9JD/Xruw1uP6aO3rBLvljFdSMuqo7qCNeJh5G27LrNZRFu0mODv5uNaOx+ cdcg== X-Gm-Message-State: AOJu0YwOj8FCiHCNCthuaAybJKQsj2m6BAjBAeI/bvGEU55DlAMvHOFM c3q3/WDntKhzgU67LHwjYZQdU4dOJ5opZgrHjN1+CiaEpXcKJUj7P5ErAo7jbKDbTZ9extNFvRf 6UObnOerUZ3lMqyW7mEMP9u2MVPDSi5/C3ApoyZMDKEaZjgln X-Gm-Gg: ASbGncv+Nv2K+wbNm7B/1pimrMVSxVUEzJEzIPT0JgCB6yPmbwm2BRw7S9qwSRAKsj/ 3pYhx97NPBa8sQoU9J0QWuqNDCrcQc2KOI/2TfIf7mbwKonZXE3EfqqBGgAt7iuV0XbxTjjtPCp lnVFiNlGDStAR8NlmOlQPZ1M6m0e9s5JATcotPX9i6MyoZ/4KA0hYLG4SJBQraAqhQgacDNrWO1 EnhHzqbdbUoV8X+eay9rGPzyvHB/iDjLvPDOvHTbFLR28arfOT3ysv/dasnvN2XBhb9ytl0GDRR S8dkQZX7EPVIYDMB4tOjsZlXSgU8xN3sjj6wMx2jsQ== X-Google-Smtp-Source: AGHT+IG8gQfjG6Z16T6L5ulHHjFXPlMDErqkgU3riAxEb2Iq1a0UAmhFussuuFHUvrIpb3b+4Dd7FfHMs5d+ X-Received: by 2002:a17:90b:3b8a:b0:2ee:cd83:8fe6 with SMTP id 98e67ed59e1d1-2f9e084fc9dmr2349348a91.35.1738735001110; Tue, 04 Feb 2025 21:56:41 -0800 (PST) Received: from postal.iol.unh.edu (postal.iol.unh.edu. [2606:4100:3880:1234::84]) by smtp-relay.gmail.com with ESMTPS id d9443c01a7336-21de332555csm6315685ad.85.2025.02.04.21.56.41 (version=TLS1_2 cipher=ECDHE-ECDSA-AES128-GCM-SHA256 bits=128/128); Tue, 04 Feb 2025 21:56:41 -0800 (PST) X-Relaying-Domain: iol.unh.edu Date: Tue, 04 Feb 2025 21:56:41 -0800 (PST) Message-ID: <67a2fd99.170a0220.2b56a1.cc86SMTPIN_ADDED_MISSING@mx.google.com> Received: from [172.21.0.5] (unknown [172.18.0.240]) by postal.iol.unh.edu (Postfix) with ESMTP id 2052A6052471; Wed, 5 Feb 2025 00:56:40 -0500 (EST) Subject: |SUCCESS| [GIT MASTER] c66daa12e76d7b4912cfb7109a761856a7a873ab From: dpdklab@iol.unh.edu To: Test Report Cc: dpdk-test-reports@iol.unh.edu, Xueming Li , Christian Ehrhardt , Kevin Traynor , Luca Boccassi Content-Type: text/plain X-BeenThere: test-report@dpdk.org X-Mailman-Version: 2.1.29 Precedence: list List-Id: automatic DPDK test reports List-Unsubscribe: , List-Archive: List-Post: List-Help: List-Subscribe: , Errors-To: test-report-bounces@dpdk.org _Testing PASS_ Branch: tags/v23.11 c66daa12e76d7b4912cfb7109a761856a7a873ab --> testing pass Upstream job id: Generic-VM-DPDK-Compile-Meson#33048 Test environment and result as below: +---------------------+--------------------+-------------------+ | Environment | dpdk_meson_compile | dpdk_msvc_compile | +=====================+====================+===================+ | FreeBSD 13.4 | PASS | SKIPPED | +---------------------+--------------------+-------------------+ | FreeBSD 14.2 | PASS | SKIPPED | +---------------------+--------------------+-------------------+ | Windows Server 2022 | SKIPPED | PASS | +---------------------+--------------------+-------------------+ FreeBSD 13.4 Kernel: 13.4-RELEASE-p1 Compiler: clang 18.1.6 FreeBSD 14.2 Kernel: 14.2-RELEASE Compiler: clang 18.1.6 Windows Server 2022 Kernel: 10.0.20348.2031 Compiler: clang 15.0.7, gcc 14.1.0 (MinGW), and MSVC VS 19.39.33521 To view detailed results, visit: https://lab.dpdk.org/results/dashboard/tarballs/32447/ UNH-IOL DPDK Community Lab To manage your email subscriptions, visit: https://lab.dpdk.org/results/dashboard/preferences/subscriptions/