From mboxrd@z Thu Jan 1 00:00:00 1970 Return-Path: Received: from mails.dpdk.org (mails.dpdk.org [217.70.189.124]) by inbox.dpdk.org (Postfix) with ESMTP id 940F246196 for ; Wed, 5 Feb 2025 07:58:42 +0100 (CET) Received: from mails.dpdk.org (localhost [127.0.0.1]) by mails.dpdk.org (Postfix) with ESMTP id 868CB40289; Wed, 5 Feb 2025 07:58:42 +0100 (CET) Received: from mail-pl1-f225.google.com (mail-pl1-f225.google.com [209.85.214.225]) by mails.dpdk.org (Postfix) with ESMTP id 8B42240270 for ; Wed, 5 Feb 2025 07:58:40 +0100 (CET) Received: by mail-pl1-f225.google.com with SMTP id d9443c01a7336-219f8263ae0so121408405ad.0 for ; Tue, 04 Feb 2025 22:58:40 -0800 (PST) DKIM-Signature: v=1; a=rsa-sha256; c=relaxed/relaxed; d=iol.unh.edu; s=unh-iol; t=1738738720; x=1739343520; darn=dpdk.org; h=cc:to:from:subject:message-id:date:from:to:cc:subject:date :message-id:reply-to; bh=pLEkSvaNw1r6vl7qfSJ/lgVvr5WbPj0Yr5uMo3vpSEc=; b=boNkRDx4E3CEv5jIh5dUb+LKU+e+gADWM+4IHptRVfgZdrFb+L4wAa8FiFOq9SIJoB GEnORGQ+PpAP3gG2DKk56egyVTj1Chnh9zYojI14R2N5icyCtyIFjX9lWI+0cse/xZSe /rHds62YSvJn7ueXAPhe6lL7h9g5B8xNtQ3Nk= X-Google-DKIM-Signature: v=1; a=rsa-sha256; c=relaxed/relaxed; d=1e100.net; s=20230601; t=1738738720; x=1739343520; h=cc:to:from:subject:message-id:date:x-gm-message-state:from:to:cc :subject:date:message-id:reply-to; bh=pLEkSvaNw1r6vl7qfSJ/lgVvr5WbPj0Yr5uMo3vpSEc=; b=AT21e1NQcwWr+Up9vT8+lk+vGADXzBkIn4kxCDwNYS0rqmw70Ad9IBtmw6YF6JojdH iL2pGQCV24soivsCcvZhBnbvDffhgQPJsFS74SiOEMq3SvXR27EKJKjPfemxbHywMCKm fdeHlTXKwJuqZC6ISw3xJqb5nlYRcpNNl1yG4vofy0bpCRmGEx0I1aJ71SmvYzjIZccg fLgsF8gvS2mnSYFWNzE499tb/z9pK+eoL6CtpY5mBIU2l3Pi+GI/1HyDBm6m/CoBmMPM ItzedswLwjAl0tVNAVieJqdE6kjM/j579ilSEK6kDtCVR4VWhVrhUVWV9AAx3nenL2VK hEqg== X-Gm-Message-State: AOJu0Yxt5EvH8Q4D5qj+jUQvPcTvrUfQuQFk+iwjzpymcSUNo0Rco3Lf 5DfoVFPf8Fv4RUjVF4JKhvWyeakHuNG8VvYBrp53piKr8vTNY0TCIch3/uW5uuOT+dngneWRELA tUx+6Y3yBaYnkIl+x9KbBN48lt7AGe20i X-Gm-Gg: ASbGncvXlE2H2TDnm7k/wV6C+P2reKtG+G4521hX7gWypcztcL7/JUzz0iGpwJiUlCl 5NIQRIgzN6F+j6FXMgWYUNEMKq5KcHhlAKWE8SgNm1tRV8dadOMSgJppiuHHnSWLxsw6IK/HEGC 87q09drrp1ZX+KFalORNVDMjJTpXXkW/MPclm6neDI1mvqXiCfv7tJs9BGMvglipFuIjj+OMrrZ t5sAVNRYpZK57QrU4KNlwHlRNKO35E1xyvB5Bw8qq8lOgrh6dg9diq2TSpesdMTxyWaI6K5l4I+ FEJr/Zd7uekv8KlQtoWLe8RtKfEeqQ== X-Google-Smtp-Source: AGHT+IExjWtK3aWOP6d61A2y0jBk45LoQxOeg6Aw6SdNZMdm8ohvyRsx6jiCxBSpxBK2sOXw14UQbR0NA0hx X-Received: by 2002:a17:902:cec5:b0:216:5556:8b46 with SMTP id d9443c01a7336-21f17f022cfmr25384505ad.49.1738738719693; Tue, 04 Feb 2025 22:58:39 -0800 (PST) Received: from postal.iol.unh.edu (postal.iol.unh.edu. [132.177.123.84]) by smtp-relay.gmail.com with ESMTPS id d9443c01a7336-21de327427dsm6156995ad.67.2025.02.04.22.58.39 (version=TLS1_2 cipher=ECDHE-ECDSA-AES128-GCM-SHA256 bits=128/128); Tue, 04 Feb 2025 22:58:39 -0800 (PST) X-Relaying-Domain: iol.unh.edu Date: Tue, 04 Feb 2025 22:58:39 -0800 (PST) Message-ID: <67a30c1f.170a0220.182ad8.bebfSMTPIN_ADDED_MISSING@mx.google.com> Received: from [172.21.0.5] (unknown [172.18.0.240]) by postal.iol.unh.edu (Postfix) with ESMTP id D385C6052471; Wed, 5 Feb 2025 01:58:38 -0500 (EST) Subject: |SUCCESS| [GIT MASTER] 7ce7d3341d7e21c2a81f2fea8e451681d7306d77 From: dpdklab@iol.unh.edu To: Test Report Cc: dpdk-test-reports@iol.unh.edu, Xueming Li , Christian Ehrhardt , Kevin Traynor , Luca Boccassi Content-Type: text/plain X-BeenThere: test-report@dpdk.org X-Mailman-Version: 2.1.29 Precedence: list List-Id: automatic DPDK test reports List-Unsubscribe: , List-Archive: List-Post: List-Help: List-Subscribe: , Errors-To: test-report-bounces@dpdk.org _Testing PASS_ Branch: tags/v22.11 7ce7d3341d7e21c2a81f2fea8e451681d7306d77 --> testing pass Upstream job id: Generic-DPDK-Compile-ABI#114807 Test environment and result as below: +-------------------+----------+ | Environment | abi_test | +===================+==========+ | CentOS Stream 9 | PASS | +-------------------+----------+ | Fedora 40 (Clang) | PASS | +-------------------+----------+ | Debian 12 | PASS | +-------------------+----------+ | Debian Bullseye | PASS | +-------------------+----------+ | Fedora 40 | PASS | +-------------------+----------+ | RHEL8 | PASS | +-------------------+----------+ | Fedora 41 (Clang) | PASS | +-------------------+----------+ | Fedora 41 | PASS | +-------------------+----------+ | openSUSE Leap 15 | PASS | +-------------------+----------+ | RHEL9 | PASS | +-------------------+----------+ | Ubuntu 22.04 | PASS | +-------------------+----------+ | Ubuntu 24.04 | PASS | +-------------------+----------+ CentOS Stream 9 Kernel: Depends on container host Compiler: gcc 11.5.0 20240719 (Red Hat 11.5.0-2) Fedora 40 (Clang) Kernel: Depends on container host Compiler: clang 18.1.8 (Fedora 18.1.8-1.fc40) Debian 12 Kernel: Depends on container host Compiler: gcc (Debian 12.2.0-14) 12.2.0 Debian Bullseye Kernel: Depends on container host Compiler: gcc (Debian 10.2.1-6) 10.2.1 20210110 Fedora 40 Kernel: Depends on container host Compiler: gcc 14.2.1 20240912 (Red Hat 14.2.1-3) RHEL8 Kernel: Depends on container host Compiler: gcc 8.5.0 20210514 (Red Hat 8.5.0-22) Fedora 41 (Clang) Kernel: Depends on container host Compiler: clang 19.1.5 (Fedora 19.1.5-1.fc41) Fedora 41 Kernel: Depends on container host Compiler: gcc 14.2.1 20240912 (Red Hat 14.2.1-3) openSUSE Leap 15 Kernel: Depends on container host Compiler: gcc (SUSE Linux) 7.5.0 RHEL9 Kernel: Depends on container host Compiler: gcc 11.5.0 20240719 (Red Hat 11.5.0-2) Ubuntu 22.04 Kernel: Depends on container host Compiler: gcc (Ubuntu 11.4.0-1ubuntu1~22.04) 11.4.0 Ubuntu 24.04 Kernel: Depends on container host Compiler: gcc (Ubuntu 13.3.0-6ubuntu2~24.04) 13.3.0 To view detailed results, visit: https://lab.dpdk.org/results/dashboard/tarballs/32445/ UNH-IOL DPDK Community Lab To manage your email subscriptions, visit: https://lab.dpdk.org/results/dashboard/preferences/subscriptions/