From mboxrd@z Thu Jan 1 00:00:00 1970 Return-Path: Received: from mails.dpdk.org (mails.dpdk.org [217.70.189.124]) by inbox.dpdk.org (Postfix) with ESMTP id A585D46197 for ; Wed, 5 Feb 2025 08:00:36 +0100 (CET) Received: from mails.dpdk.org (localhost [127.0.0.1]) by mails.dpdk.org (Postfix) with ESMTP id C559240289; Wed, 5 Feb 2025 08:00:35 +0100 (CET) Received: from mail-io1-f99.google.com (mail-io1-f99.google.com [209.85.166.99]) by mails.dpdk.org (Postfix) with ESMTP id A707040270 for ; Wed, 5 Feb 2025 08:00:33 +0100 (CET) Received: by mail-io1-f99.google.com with SMTP id ca18e2360f4ac-8521df70be6so176699839f.1 for ; Tue, 04 Feb 2025 23:00:33 -0800 (PST) DKIM-Signature: v=1; a=rsa-sha256; c=relaxed/relaxed; d=iol.unh.edu; s=unh-iol; t=1738738833; x=1739343633; darn=dpdk.org; h=references:in-reply-to:cc:to:from:subject:message-id:date:from:to :cc:subject:date:message-id:reply-to; bh=f3RbO6OJ+w3Srx8CKleOO8gdM81/ZK4Cq+gKUrMk7fI=; b=LaEkwS0NQI1uiRIeLZsHhL9ELuOq5ofD1a9q7AOXdiCkPLJm7R7l6D81kbR8K/KEZo ZRMjHLpujMiupR6apFYK7/D2ysIBIPVrHorBiTTyQYY1RdRG2EIUEqIGtWb+57UqwucX bIwnJd1I3ubloHN/vzrhz1N/RNrH3vix0NX1w= X-Google-DKIM-Signature: v=1; a=rsa-sha256; c=relaxed/relaxed; d=1e100.net; s=20230601; t=1738738833; x=1739343633; h=references:in-reply-to:cc:to:from:subject:message-id:date :x-gm-message-state:from:to:cc:subject:date:message-id:reply-to; bh=f3RbO6OJ+w3Srx8CKleOO8gdM81/ZK4Cq+gKUrMk7fI=; b=HsdKt+0dHyMhBMquDE/hmwljbl8KPir8eiMk0HrF+Y7AoDE4y7ukeaScVDQuiMwI2I UngKqBEUCEfqV67EWxgh9l2rbNnmM3uTh7VnJuRylJTdv8wyJqz5TpUZKpTUotRMEgCm QfwIfU7xCVoY80ImZrhsbk0Sjl0R3v5FPjSbY43+6Z/BvvNl1x868zIJAE17iNDP1A/s iwNwKOlS40fc2Gy5asA23RBMFMktYDPw73BanVwFggBRKdt9NcLXrSuzWTegoxP5UBxU lPeVYVfk4ODrhDy7ELamru5OZn71sDcRjGIGcxy5XN8MZ314LyhxHrn5CJzR2hbJQQUV CSTw== X-Gm-Message-State: AOJu0YxMoVmGCYM/GS+jcVhEFhmmoljz0eV4qVnU4CVG5Byl8j6d7fYZ 2CDjA9dKJFvGAvQ1iOn7STbZ+8N98NSw4M2atnwrGUCuGkjYJX991IMCfPRBO2mP/tCdzeNwt0z Y/6EggnVKSEYRIsRKqXsfFdP5kEFXij4QOOB1gltdr7YHBr3CGXgEON5m X-Gm-Gg: ASbGncsMr18pSy+0nFaClXXudg/qVP+E1L9iQPJx0UGonM2nqAPhyhCD3iEbMN77wDK txP5VBemlWMebsv7ha8DGIGgVL0wngq5avKXzd9v/pla+9UgD/ehyT1gQPUH/VoxUClaEkzd3YB t7zldBd3bJzBr3Vb32ve9nPqtNkmqLLtteey0KWAKTqgL6Mxls5aGO/bgka/y6WBF+Vj8waCMkn hndKXUuCDoMyqYLprrEuUa4dk8Xe9YagUuRsIMqq/k+vWSP0QvfqQvLjhM8s16VPUl9KhtZT+fQ x2rKsx4EPW/zdquAkYp8HddynZ/6aLItexoyvVCLAw== X-Google-Smtp-Source: AGHT+IEtm+iC/5ZxDR/lNzxMiMJ0kGQ2QNmWduJYOENSOaTKriA9GwGtYWzyqOoRxsTtV+Beez3aH1AhPdip X-Received: by 2002:a05:6602:4881:b0:841:984b:47d2 with SMTP id ca18e2360f4ac-854ea53b65dmr161233839f.14.1738738832912; Tue, 04 Feb 2025 23:00:32 -0800 (PST) Received: from postal.iol.unh.edu (postal.iol.unh.edu. [2606:4100:3880:1234::84]) by smtp-relay.gmail.com with ESMTPS id ca18e2360f4ac-854a1613acbsm77360339f.17.2025.02.04.23.00.32 (version=TLS1_2 cipher=ECDHE-ECDSA-AES128-GCM-SHA256 bits=128/128); Tue, 04 Feb 2025 23:00:32 -0800 (PST) X-Relaying-Domain: iol.unh.edu Date: Tue, 04 Feb 2025 23:00:32 -0800 (PST) Message-ID: <67a30c90.050a0220.2ba4d7.50b0SMTPIN_ADDED_MISSING@mx.google.com> Received: from [172.21.0.7] (unknown [172.18.0.240]) by postal.iol.unh.edu (Postfix) with ESMTP id 698E56052471; Wed, 5 Feb 2025 02:00:32 -0500 (EST) Subject: |SUCCESS| pw150893 [PATCH] net/af_packet: fix socket close on device From: dpdklab@iol.unh.edu To: Test Report Cc: dpdk-test-reports@iol.unh.edu In-Reply-To: <20250204164508.864080-1-tudor.cornea@gmail.com> References: <20250204164508.864080-1-tudor.cornea@gmail.com> Content-Type: text/plain X-BeenThere: test-report@dpdk.org X-Mailman-Version: 2.1.29 Precedence: list List-Id: automatic DPDK test reports List-Unsubscribe: , List-Archive: List-Post: List-Help: List-Subscribe: , Errors-To: test-report-bounces@dpdk.org Test-Label: iol-sample-apps-testing Test-Status: SUCCESS http://dpdk.org/patch/150893 _Testing PASS_ Submitter: Tudor Cornea Date: Tuesday, February 04 2025 16:45:08 DPDK git baseline: Repo:dpdk Branch: master CommitID:595535be66b103f7ce3ba61939b8013032987404 150893 --> testing pass Upstream job id: ACVP-FIPS-testing#8781 Test environment and result as below: +--------------------+----------------------+----------------------+ | Environment | compressdev_zlib_pmd | dpdk_fips_validation | +====================+======================+======================+ | Ubuntu 22.04 (ARM) | PASS | SKIPPED | +--------------------+----------------------+----------------------+ | Ubuntu 22.04 | PASS | SKIPPED | +--------------------+----------------------+----------------------+ | Ubuntu 20.04 | SKIPPED | PASS | +--------------------+----------------------+----------------------+ Ubuntu 22.04 (ARM) Kernel: 5.15.0-97-generic Compiler: gcc gcc (Ubuntu 11.4.0-1ubuntu1~22.04) 11.4.0 Ubuntu 22.04 Kernel: 5.15.0-100-generic Compiler: gcc gcc (Ubuntu 11.4.0-1ubuntu1~22.04) 11.4.0 Ubuntu 20.04 Kernel: Depends on container host Compiler: gcc (Ubuntu 9.4.0-1ubuntu1~20.04.2) 9.4.0 To view detailed results, visit: https://lab.dpdk.org/results/dashboard/patchsets/32490/ UNH-IOL DPDK Community Lab To manage your email subscriptions, visit: https://lab.dpdk.org/results/dashboard/preferences/subscriptions/