From mboxrd@z Thu Jan 1 00:00:00 1970 Return-Path: Received: from mails.dpdk.org (mails.dpdk.org [217.70.189.124]) by inbox.dpdk.org (Postfix) with ESMTP id BA32B46198 for ; Wed, 5 Feb 2025 08:16:35 +0100 (CET) Received: from mails.dpdk.org (localhost [127.0.0.1]) by mails.dpdk.org (Postfix) with ESMTP id 836FB40290; Wed, 5 Feb 2025 08:16:35 +0100 (CET) Received: from mail-pl1-f227.google.com (mail-pl1-f227.google.com [209.85.214.227]) by mails.dpdk.org (Postfix) with ESMTP id BEA5840270 for ; Wed, 5 Feb 2025 08:16:33 +0100 (CET) Received: by mail-pl1-f227.google.com with SMTP id d9443c01a7336-21f08b44937so18627235ad.1 for ; Tue, 04 Feb 2025 23:16:33 -0800 (PST) DKIM-Signature: v=1; a=rsa-sha256; c=relaxed/relaxed; d=iol.unh.edu; s=unh-iol; t=1738739793; x=1739344593; darn=dpdk.org; h=cc:to:from:subject:message-id:date:from:to:cc:subject:date :message-id:reply-to; bh=e5HJANIskty7AfAQiz/OB9K83WPeVSSZHBKAzRboUZQ=; b=Z1wQQykddbQrMUigmI+TFxSGFeE5V7fBe9Ds15Dg4zSIROmKdOU0/So2X7dx6AsoUt WpQCiFwq9e+wr+qXU+lzvqmNjGEsqcWQBvZ5IglNOdu5/6tuwkF1TavwMmxBwv6WnQZg GC0sD7OKMrcsGIq5uAL3hN4n8GOk6vW6fPEqs= X-Google-DKIM-Signature: v=1; a=rsa-sha256; c=relaxed/relaxed; d=1e100.net; s=20230601; t=1738739793; x=1739344593; h=cc:to:from:subject:message-id:date:x-gm-message-state:from:to:cc :subject:date:message-id:reply-to; bh=e5HJANIskty7AfAQiz/OB9K83WPeVSSZHBKAzRboUZQ=; b=WIxFrE9IxkMer8kkw6z2MJ1Y3S2zA5bYbtXKXUrWPypoPH69WBdt/B/TkWHr22Wlqa DYbSLAZc+r6sQvDX7FCJb0TihO9wlruLEFe4TL+BXUJvBoRrJJ79KK7lLXxO3NI/xBW0 Jtfi98gsFbb2/t1Fu9ogB/56XXjNwZDp4HW75WoWUVDV+4preJxd0beJX0EBfAyH88HI zHOgiK+w1MyGgfBVyOzeWiEc3RF9E6kEACxSkn55lq/Ds6eUXcKcPuiQuDOMRcQyG+FA ubTw8UTEiVUtOa7ypcac9p9wFKZ1SPopaBpLurDcXuOD7irgprdwSAHok7RHu38c5vfL RrEw== X-Gm-Message-State: AOJu0Yyds+/Daz5mvjzmVvGgzhz9Wc22CFO7/Ht3OV/iMqJyW/ia1PXS AeeL4ChMxaNBbrZQT9helBtTrSr1I8LXIEmlm28FMFBiv7gv+9BoRI8Wde45kcpXno3G9fh0h/r LM8vZaOLvDId3fzFGeYJYOhdi8nXA2fOWKf0bMkVrFM/3wFDE X-Gm-Gg: ASbGncsqVALrEQHU1ZfZOOfH2xakvupVbmFwudvSvUJQ6rTZnk+TYs3+s6eW/bK1hbk I2oTAXLPmsmjmlxs71YgUB2Z7A8jzhG88BYmD41MSr0UW4bKxg8lT+Z+XeNJ3g2G5vw4y1TBPJb nphT16OntKDsIZf2GU5EbsoeUyBse6mtaRGctsNx5unhfQgwv925y/ytPuUHdXeZ45JkTlql8r6 /6iyAA2fDUa1WwlzGLGBRcSAkNzAVmm43r7u3T5u90qoz1X1hH8Tuh0UgwrnN2ktywqqUtJiFJR b1VQmuX/Lptc4Z90Pp/MzkqdSTX5Rn39lFOm4iVVFQ== X-Google-Smtp-Source: AGHT+IGwNbFALCNbjS7btz6PPsOJus8jD66E8aLjL3SJvhoQ6hxqCjM1nokB5sWc6d1STA+CovOsXywSNbbn X-Received: by 2002:a17:903:298f:b0:212:67a5:ab2d with SMTP id d9443c01a7336-21f17f01c0fmr37154515ad.44.1738739792787; Tue, 04 Feb 2025 23:16:32 -0800 (PST) Received: from postal.iol.unh.edu (postal.iol.unh.edu. [2606:4100:3880:1234::84]) by smtp-relay.gmail.com with ESMTPS id d9443c01a7336-21de324cd73sm6234675ad.32.2025.02.04.23.16.32 (version=TLS1_2 cipher=ECDHE-ECDSA-AES128-GCM-SHA256 bits=128/128); Tue, 04 Feb 2025 23:16:32 -0800 (PST) X-Relaying-Domain: iol.unh.edu Date: Tue, 04 Feb 2025 23:16:32 -0800 (PST) Message-ID: <67a31050.170a0220.33c4fb.e58bSMTPIN_ADDED_MISSING@mx.google.com> Received: from [172.21.0.6] (unknown [172.18.0.240]) by postal.iol.unh.edu (Postfix) with ESMTP id F1F3F6052471; Wed, 5 Feb 2025 02:16:31 -0500 (EST) Subject: |WARNING| [GIT MASTER] f2eea2f37a82bb73fb01d56350708f7d70e21379 From: dpdklab@iol.unh.edu To: Test Report Cc: dpdk-test-reports@iol.unh.edu, Xueming Li , Christian Ehrhardt , Kevin Traynor , Luca Boccassi Content-Type: text/plain X-BeenThere: test-report@dpdk.org X-Mailman-Version: 2.1.29 Precedence: list List-Id: automatic DPDK test reports List-Unsubscribe: , List-Archive: List-Post: List-Help: List-Subscribe: , Errors-To: test-report-bounces@dpdk.org _Testing issues_ Branch: tags/v24.11 f2eea2f37a82bb73fb01d56350708f7d70e21379 --> testing issues Upstream job id: Windows-Compile-DPDK-Native#26358 Test environment and result as below: +---------------------+--------------------+------------------+-------------------+-------------------+----------------------+-------------------------+ | Environment | dpdk_meson_compile | dpdk_compile_ovs | dpdk_compile_spdk | dpdk_msvc_compile | dpdk_mingw64_compile | dpdk_llvm_clang_compile | +=====================+====================+==================+===================+===================+======================+=========================+ | Debian 12 | PASS | PASS | PASS | SKIPPED | SKIPPED | SKIPPED | +---------------------+--------------------+------------------+-------------------+-------------------+----------------------+-------------------------+ | Fedora 40 | PASS | PASS | PASS | SKIPPED | SKIPPED | SKIPPED | +---------------------+--------------------+------------------+-------------------+-------------------+----------------------+-------------------------+ | Fedora 40 (Clang) | PASS | PASS | PASS | SKIPPED | SKIPPED | SKIPPED | +---------------------+--------------------+------------------+-------------------+-------------------+----------------------+-------------------------+ | Debian Bullseye | PASS | PASS | PASS | SKIPPED | SKIPPED | SKIPPED | +---------------------+--------------------+------------------+-------------------+-------------------+----------------------+-------------------------+ | Fedora 41 (Clang) | PASS | PASS | PASS | SKIPPED | SKIPPED | SKIPPED | +---------------------+--------------------+------------------+-------------------+-------------------+----------------------+-------------------------+ | RHEL8 | PASS | PASS | SKIPPED | SKIPPED | SKIPPED | SKIPPED | +---------------------+--------------------+------------------+-------------------+-------------------+----------------------+-------------------------+ | Ubuntu 20.04 | PASS | WARN | SKIPPED | SKIPPED | SKIPPED | SKIPPED | +---------------------+--------------------+------------------+-------------------+-------------------+----------------------+-------------------------+ | Fedora 41 | PASS | PASS | PASS | SKIPPED | SKIPPED | SKIPPED | +---------------------+--------------------+------------------+-------------------+-------------------+----------------------+-------------------------+ | openSUSE Leap 15 | PASS | SKIPPED | SKIPPED | SKIPPED | SKIPPED | SKIPPED | +---------------------+--------------------+------------------+-------------------+-------------------+----------------------+-------------------------+ | RHEL9 | PASS | PASS | SKIPPED | SKIPPED | SKIPPED | SKIPPED | +---------------------+--------------------+------------------+-------------------+-------------------+----------------------+-------------------------+ | Alpine | PASS | PASS | SKIPPED | SKIPPED | SKIPPED | SKIPPED | +---------------------+--------------------+------------------+-------------------+-------------------+----------------------+-------------------------+ | Ubuntu 24.04 | PASS | PASS | PASS | SKIPPED | SKIPPED | SKIPPED | +---------------------+--------------------+------------------+-------------------+-------------------+----------------------+-------------------------+ | FreeBSD 13.4 | PASS | SKIPPED | SKIPPED | SKIPPED | SKIPPED | SKIPPED | +---------------------+--------------------+------------------+-------------------+-------------------+----------------------+-------------------------+ | FreeBSD 14.2 | PASS | SKIPPED | SKIPPED | SKIPPED | SKIPPED | SKIPPED | +---------------------+--------------------+------------------+-------------------+-------------------+----------------------+-------------------------+ | Ubuntu 22.04 | PASS | PASS | PASS | SKIPPED | SKIPPED | SKIPPED | +---------------------+--------------------+------------------+-------------------+-------------------+----------------------+-------------------------+ | Windows Server 2022 | SKIPPED | SKIPPED | SKIPPED | PASS | PASS | PASS | +---------------------+--------------------+------------------+-------------------+-------------------+----------------------+-------------------------+ ==== 20 line log output for Ubuntu 20.04 (dpdk_compile_ovs): ==== --- Failed to get log output --- ==== End log output ==== Debian 12 Kernel: Depends on container host Compiler: gcc (Debian 12.2.0-14) 12.2.0 Fedora 40 Kernel: Depends on container host Compiler: gcc 14.2.1 20240912 (Red Hat 14.2.1-3) Fedora 40 (Clang) Kernel: Depends on container host Compiler: clang 18.1.8 (Fedora 18.1.8-1.fc40) Debian Bullseye Kernel: Depends on container host Compiler: gcc (Debian 10.2.1-6) 10.2.1 20210110 Fedora 41 (Clang) Kernel: Depends on container host Compiler: clang 19.1.5 (Fedora 19.1.5-1.fc41) RHEL8 Kernel: Depends on container host Compiler: gcc 8.5.0 20210514 (Red Hat 8.5.0-22) Ubuntu 20.04 Kernel: Depends on container host Compiler: gcc (Ubuntu 9.4.0-1ubuntu1~20.04.2) 9.4.0 Fedora 41 Kernel: Depends on container host Compiler: gcc 14.2.1 20240912 (Red Hat 14.2.1-3) openSUSE Leap 15 Kernel: Depends on container host Compiler: gcc (SUSE Linux) 7.5.0 RHEL9 Kernel: Depends on container host Compiler: gcc 11.5.0 20240719 (Red Hat 11.5.0-2) Alpine Kernel: Depends on container host Compiler: gcc (Alpine 14.2.0) 14.2.0 Ubuntu 24.04 Kernel: Depends on container host Compiler: gcc (Ubuntu 13.3.0-6ubuntu2~24.04) 13.3.0 FreeBSD 13.4 Kernel: 13.4-RELEASE-p1 Compiler: clang 18.1.6 FreeBSD 14.2 Kernel: 14.2-RELEASE Compiler: clang 18.1.6 Ubuntu 22.04 Kernel: Depends on container host Compiler: gcc (Ubuntu 11.4.0-1ubuntu1~22.04) 11.4.0 Windows Server 2022 Kernel: 10.0.20348.2031 Compiler: clang 15.0.7, gcc 14.1.0 (MinGW), and MSVC VS 19.39.33521 To view detailed results, visit: https://lab.dpdk.org/results/dashboard/tarballs/32375/ UNH-IOL DPDK Community Lab To manage your email subscriptions, visit: https://lab.dpdk.org/results/dashboard/preferences/subscriptions/