From mboxrd@z Thu Jan 1 00:00:00 1970 Return-Path: Received: from mails.dpdk.org (mails.dpdk.org [217.70.189.124]) by inbox.dpdk.org (Postfix) with ESMTP id 3337146198 for ; Wed, 5 Feb 2025 08:20:41 +0100 (CET) Received: from mails.dpdk.org (localhost [127.0.0.1]) by mails.dpdk.org (Postfix) with ESMTP id 2EBB040289; Wed, 5 Feb 2025 08:20:41 +0100 (CET) Received: from mail-yb1-f225.google.com (mail-yb1-f225.google.com [209.85.219.225]) by mails.dpdk.org (Postfix) with ESMTP id 6613540270 for ; Wed, 5 Feb 2025 08:20:39 +0100 (CET) Received: by mail-yb1-f225.google.com with SMTP id 3f1490d57ef6-e53a91756e5so6460968276.1 for ; Tue, 04 Feb 2025 23:20:39 -0800 (PST) DKIM-Signature: v=1; a=rsa-sha256; c=relaxed/relaxed; d=iol.unh.edu; s=unh-iol; t=1738740039; x=1739344839; darn=dpdk.org; h=cc:to:from:subject:message-id:date:from:to:cc:subject:date :message-id:reply-to; bh=XWQZ0ukSnuEp5cL6e505SUc7hNTYh7X4TTpxDiKtjk4=; b=cEuHHsz3Qixh7jvHrfjs+/GyPr1YDSJWkOW5TZbopC/OjaQnIzfcE4Z/a4bRGOR7Zq zcRD0txwWoZR0mTAolmMksaDkGVS+BA+ZVTUN9FFW5Sh9yRXSVpqX3veIyCMflnBPSco QTRKuYqoEP7wEwSEQjP/Oxo3RR/hMPioCilKg= X-Google-DKIM-Signature: v=1; a=rsa-sha256; c=relaxed/relaxed; d=1e100.net; s=20230601; t=1738740039; x=1739344839; h=cc:to:from:subject:message-id:date:x-gm-message-state:from:to:cc :subject:date:message-id:reply-to; bh=XWQZ0ukSnuEp5cL6e505SUc7hNTYh7X4TTpxDiKtjk4=; b=sZWh+N0qno0WTVaH7ekSZOHjY4Nbrn2BHdWfkJ/2mAib2YH2GtV3m0CAb602PNrrfb zhpISZlLMTfF/CuqfDxdnutovUj5rCw0D9YoGZ230D0JV5y3142S2sSy9DpoyYFtuRHf zAaF3udoJZgSkCjXnWv0NpBgAbMxc7HcyAj+e/Qld/OqbU8SUEIa/kk09d4NI8GiaIqd S7t4AZYBUXNytF1HcC2Z178uVZBXplc33p3XXGI8QvLbOuH0nLUw3GR5VDh/HxUeel8Q nXO7VDrfZJqRdYpZvxH+TMbUZcuDsa2avXMNbUo614jo3kOmGaOm1Acg90qPGR4+khXu R2QA== X-Gm-Message-State: AOJu0YxgwjLns1EefsG0j69/cLRzyS4VPIpb5A9Cd+Ls9rqEUDeTrcyM XgSFPKaOOi89gHZOlQIH7JHL2UNsMchTUt2LWV0l6b48DYQPbcVCRCSDrY+ZEMIYoAwllQ7JI9D GP8jDEQ9gQdVHT6SpfNZIBaUZb19SyuFibhWT2apB73yBSGwN X-Gm-Gg: ASbGncsLAoWZajaMejciFYwfichC9VgQ7QQL8QVwWc/EEdFWvmjILQIDepJ9rmBONOA Fmw7T8wTRZyvSWe8e3IACqSXAWYlcyuhgaB1Rr4bIhQLvDtQH0G+w87a0HgElMzCXFTV3wp7m8e zPPSvq9ac9bdNlEtwFxMyKF9o12qtWi94kZapoo0KA3H2flwOG1egPb3XZJOgRWd/thoZWNqr2n 7xd+RKXErTGZ1VcQsv1rrUn9jlisnV7vre+cCLabvTRmdFx/ygJsliubhEmRrKU49G3+1p603/0 11SQ+TStu9lOmDLdXKWN0wECh3u+uH+EavU2c9AJOw== X-Google-Smtp-Source: AGHT+IEbxgm7vhZU27TuYIec3teZ45j4gXb2JM70KFbjzvK4GGOvkLZB7MzptMcGOqkqI2nm1S0bh0rw8GpY X-Received: by 2002:a05:6902:200f:b0:e58:cbe:75a1 with SMTP id 3f1490d57ef6-e5b259cd10fmr1333417276.4.1738740038756; Tue, 04 Feb 2025 23:20:38 -0800 (PST) Received: from postal.iol.unh.edu (postal.iol.unh.edu. [2606:4100:3880:1234::84]) by smtp-relay.gmail.com with ESMTPS id 3f1490d57ef6-e5b1383a905sm200041276.1.2025.02.04.23.20.38 (version=TLS1_2 cipher=ECDHE-ECDSA-AES128-GCM-SHA256 bits=128/128); Tue, 04 Feb 2025 23:20:38 -0800 (PST) X-Relaying-Domain: iol.unh.edu Date: Tue, 04 Feb 2025 23:20:38 -0800 (PST) Message-ID: <67a31146.250a0220.389e2f.a41bSMTPIN_ADDED_MISSING@mx.google.com> Received: from [172.21.0.5] (unknown [172.18.0.240]) by postal.iol.unh.edu (Postfix) with ESMTP id 6D8936052471; Wed, 5 Feb 2025 02:20:38 -0500 (EST) Subject: |SUCCESS| [GIT MASTER] c66daa12e76d7b4912cfb7109a761856a7a873ab From: dpdklab@iol.unh.edu To: Test Report Cc: dpdk-test-reports@iol.unh.edu, Xueming Li , Christian Ehrhardt , Kevin Traynor , Luca Boccassi Content-Type: text/plain X-BeenThere: test-report@dpdk.org X-Mailman-Version: 2.1.29 Precedence: list List-Id: automatic DPDK test reports List-Unsubscribe: , List-Archive: List-Post: List-Help: List-Subscribe: , Errors-To: test-report-bounces@dpdk.org _Testing PASS_ Branch: tags/v23.11 c66daa12e76d7b4912cfb7109a761856a7a873ab --> testing pass Upstream job id: Generic-DPDK-Compile-ABI#114833 Test environment and result as below: +-------------------+----------+ | Environment | abi_test | +===================+==========+ | CentOS Stream 9 | PASS | +-------------------+----------+ | Debian Bullseye | PASS | +-------------------+----------+ | Fedora 40 (Clang) | PASS | +-------------------+----------+ | Debian 12 | PASS | +-------------------+----------+ | Fedora 41 (Clang) | PASS | +-------------------+----------+ | Fedora 40 | PASS | +-------------------+----------+ | Fedora 41 | PASS | +-------------------+----------+ | openSUSE Leap 15 | PASS | +-------------------+----------+ | RHEL8 | PASS | +-------------------+----------+ | Ubuntu 22.04 | PASS | +-------------------+----------+ | RHEL9 | PASS | +-------------------+----------+ | Ubuntu 24.04 | PASS | +-------------------+----------+ CentOS Stream 9 Kernel: Depends on container host Compiler: gcc 11.5.0 20240719 (Red Hat 11.5.0-2) Debian Bullseye Kernel: Depends on container host Compiler: gcc (Debian 10.2.1-6) 10.2.1 20210110 Fedora 40 (Clang) Kernel: Depends on container host Compiler: clang 18.1.8 (Fedora 18.1.8-1.fc40) Debian 12 Kernel: Depends on container host Compiler: gcc (Debian 12.2.0-14) 12.2.0 Fedora 41 (Clang) Kernel: Depends on container host Compiler: clang 19.1.5 (Fedora 19.1.5-1.fc41) Fedora 40 Kernel: Depends on container host Compiler: gcc 14.2.1 20240912 (Red Hat 14.2.1-3) Fedora 41 Kernel: Depends on container host Compiler: gcc 14.2.1 20240912 (Red Hat 14.2.1-3) openSUSE Leap 15 Kernel: Depends on container host Compiler: gcc (SUSE Linux) 7.5.0 RHEL8 Kernel: Depends on container host Compiler: gcc 8.5.0 20210514 (Red Hat 8.5.0-22) Ubuntu 22.04 Kernel: Depends on container host Compiler: gcc (Ubuntu 11.4.0-1ubuntu1~22.04) 11.4.0 RHEL9 Kernel: Depends on container host Compiler: gcc 11.5.0 20240719 (Red Hat 11.5.0-2) Ubuntu 24.04 Kernel: Depends on container host Compiler: gcc (Ubuntu 13.3.0-6ubuntu2~24.04) 13.3.0 To view detailed results, visit: https://lab.dpdk.org/results/dashboard/tarballs/32447/ UNH-IOL DPDK Community Lab To manage your email subscriptions, visit: https://lab.dpdk.org/results/dashboard/preferences/subscriptions/