From mboxrd@z Thu Jan 1 00:00:00 1970 Return-Path: Received: from mails.dpdk.org (mails.dpdk.org [217.70.189.124]) by inbox.dpdk.org (Postfix) with ESMTP id D9A5146198 for ; Wed, 5 Feb 2025 08:24:45 +0100 (CET) Received: from mails.dpdk.org (localhost [127.0.0.1]) by mails.dpdk.org (Postfix) with ESMTP id D454240289; Wed, 5 Feb 2025 08:24:45 +0100 (CET) Received: from mail-pj1-f99.google.com (mail-pj1-f99.google.com [209.85.216.99]) by mails.dpdk.org (Postfix) with ESMTP id 1B1D940270 for ; Wed, 5 Feb 2025 08:24:44 +0100 (CET) Received: by mail-pj1-f99.google.com with SMTP id 98e67ed59e1d1-2f9cd9601b8so2237696a91.3 for ; Tue, 04 Feb 2025 23:24:44 -0800 (PST) DKIM-Signature: v=1; a=rsa-sha256; c=relaxed/relaxed; d=iol.unh.edu; s=unh-iol; t=1738740283; x=1739345083; darn=dpdk.org; h=references:in-reply-to:cc:to:from:subject:message-id:date:from:to :cc:subject:date:message-id:reply-to; bh=jWTRljW6lXoCrj4xr5wMle3DvZvycWu4BH4/hQTKVU0=; b=CLFQ/bxQbtU72oEnb2A4P2SMcOmmXJo8pQQdTKw22J1ArrGPV/PjnAq2bk8zscnwJL XmHmffHgRcyk2wsIdNVlx3HB0c96G5xPgpu0WYb/3P4hyA2EeyX8ZEUiezhqv0DDH64t baPdHkR2HZ++x4WLFCljbRdXJ/itzV8oG+oaU= X-Google-DKIM-Signature: v=1; a=rsa-sha256; c=relaxed/relaxed; d=1e100.net; s=20230601; t=1738740283; x=1739345083; h=references:in-reply-to:cc:to:from:subject:message-id:date :x-gm-message-state:from:to:cc:subject:date:message-id:reply-to; bh=jWTRljW6lXoCrj4xr5wMle3DvZvycWu4BH4/hQTKVU0=; b=B63e6AtGqZiXiCHRdesfMZv7WX8P1C5P+UcJ+xHojqgYPTN1md8a0ta88ttInNi3YK iwQ0iIvSFcIJueinAJkWhvMmnprA/Cq4jnIcAHRotB8EE/B/9ZUtOiQmTK/WooWEf1DL /YZ+g6MYMXi8dQpLNy2aBJ856kkhDjgziCk6qwzNFWoweK+Zroxffu/9OD1Ge4ilPcXQ JPQRD/NXoWyFVnjUkril8qWezcekN3gggZtEYZhncSTzu4vspTfN1vnh9/BBTKxdbB7e /nGdY5ITzZTX3rl04PLgc2fPGCnUgguGSRpbOEMpASDuFqcCXMc2iqMVf2Q6F1ynWrQi EvBw== X-Gm-Message-State: AOJu0YxnonkAGnG8J4cnaj4Qm746mOmAOOwuf9LKJnYbFpNncPDMng8H yCiOaS1A4V/Ems8oFkAeEEp1WJ+KvoqmdrdhmzCA0AnpfpP/T+ec/46qMr7Svz1+mEQvRsWvnLy C1qvaPTPdM57LvJYljvS5JdmLeExvi5aMeuLgsrEg X-Gm-Gg: ASbGnctZHgM7d//TuP/KomPO4of3o5Dl5aJK0Ycs8g/gmmQPAL/+PkMcSxZmjA6ePiS rn2PdW/npHZY3tvoGBXwfQo7EDiWW5Ahf9pGy6nCrbFu6dYwQDOATzZruAuAiaUYIg4dd7W7ELD P1q7wrz+p9cWh5nJ1p2/OoGDJgLBc4pNUSWR8TK2JlS798hAKiScTGLKptSCRu71qhLV8zdarjh PpitXS8BNLVB8SL02G0re9xlnHgmDjzF2U78jgJHyCBr4nQ1/ulkzylgilrtsAPrYflNSFnApQH yUNtGtrhwHYZVuP0oKhFU9HB0qBwMw== X-Google-Smtp-Source: AGHT+IE4qeZi//ipC1Ce+FlmzcOButQEjtx4axN+40/+xww1WR5cpd2CybgTGVkl3ibFaNpPBB8uLgaaLrbH X-Received: by 2002:a17:90a:d605:b0:2f2:a664:df20 with SMTP id 98e67ed59e1d1-2f9e0753d07mr2965679a91.7.1738740283208; Tue, 04 Feb 2025 23:24:43 -0800 (PST) Received: from postal.iol.unh.edu (postal.iol.unh.edu. [132.177.123.84]) by smtp-relay.gmail.com with ESMTPS id d9443c01a7336-21de321a70bsm6257205ad.17.2025.02.04.23.24.43 (version=TLS1_2 cipher=ECDHE-ECDSA-AES128-GCM-SHA256 bits=128/128); Tue, 04 Feb 2025 23:24:43 -0800 (PST) X-Relaying-Domain: iol.unh.edu Date: Tue, 04 Feb 2025 23:24:43 -0800 (PST) Message-ID: <67a3123b.170a0220.946ba.cf7fSMTPIN_ADDED_MISSING@mx.google.com> Received: from [172.21.0.5] (unknown [172.18.0.240]) by postal.iol.unh.edu (Postfix) with ESMTP id 66D6A6052471; Wed, 5 Feb 2025 02:24:42 -0500 (EST) Subject: |SUCCESS| pw150930-150931 [PATCH] [v5,2/2] net/cnxk: support rte flo From: dpdklab@iol.unh.edu To: Test Report Cc: dpdk-test-reports@iol.unh.edu In-Reply-To: <20250205054247.1214565-2-psatheesh@marvell.com> References: <20250205054247.1214565-2-psatheesh@marvell.com> Content-Type: text/plain X-BeenThere: test-report@dpdk.org X-Mailman-Version: 2.1.29 Precedence: list List-Id: automatic DPDK test reports List-Unsubscribe: , List-Archive: List-Post: List-Help: List-Subscribe: , Errors-To: test-report-bounces@dpdk.org Test-Label: iol-compile-amd64-testing Test-Status: SUCCESS http://dpdk.org/patch/150931 _Testing PASS_ Submitter: Satheesh Paul Antonysamy Date: Wednesday, February 05 2025 05:42:47 DPDK git baseline: Repo:dpdk Branch: master CommitID:1509e93efb980d1e4da3dabd332748b26cab76fd 150930-150931 --> testing pass Upstream job id: Generic-VM-DPDK-Compile-Meson#33050 Test environment and result as below: +---------------------+-------------------+--------------------+ | Environment | dpdk_msvc_compile | dpdk_meson_compile | +=====================+===================+====================+ | Windows Server 2022 | PASS | SKIPPED | +---------------------+-------------------+--------------------+ | FreeBSD 13.4 | SKIPPED | PASS | +---------------------+-------------------+--------------------+ | FreeBSD 14.2 | SKIPPED | PASS | +---------------------+-------------------+--------------------+ Windows Server 2022 Kernel: 10.0.20348.2031 Compiler: clang 15.0.7, gcc 14.1.0 (MinGW), and MSVC VS 19.39.33521 FreeBSD 13.4 Kernel: 13.4-RELEASE-p1 Compiler: clang 18.1.6 FreeBSD 14.2 Kernel: 14.2-RELEASE Compiler: clang 18.1.6 To view detailed results, visit: https://lab.dpdk.org/results/dashboard/patchsets/32495/ UNH-IOL DPDK Community Lab To manage your email subscriptions, visit: https://lab.dpdk.org/results/dashboard/preferences/subscriptions/