From mboxrd@z Thu Jan 1 00:00:00 1970 Return-Path: Received: from mails.dpdk.org (mails.dpdk.org [217.70.189.124]) by inbox.dpdk.org (Postfix) with ESMTP id 3265646198 for ; Wed, 5 Feb 2025 08:28:02 +0100 (CET) Received: from mails.dpdk.org (localhost [127.0.0.1]) by mails.dpdk.org (Postfix) with ESMTP id 2D92E402E6; Wed, 5 Feb 2025 08:28:02 +0100 (CET) Received: from mail-pj1-f99.google.com (mail-pj1-f99.google.com [209.85.216.99]) by mails.dpdk.org (Postfix) with ESMTP id A081240270 for ; Wed, 5 Feb 2025 08:28:00 +0100 (CET) Received: by mail-pj1-f99.google.com with SMTP id 98e67ed59e1d1-2f9cd8ecbceso2317869a91.0 for ; Tue, 04 Feb 2025 23:28:00 -0800 (PST) DKIM-Signature: v=1; a=rsa-sha256; c=relaxed/relaxed; d=iol.unh.edu; s=unh-iol; t=1738740480; x=1739345280; darn=dpdk.org; h=references:in-reply-to:cc:to:from:subject:message-id:date:from:to :cc:subject:date:message-id:reply-to; bh=lj9AYL1dLurX/BdZ+m5oSdpOvXQAoohTPtsVARIW720=; b=fYecXRz0lE4aD8gZ46S2oLjlmtFhH23BJ8f2JCeEmSyuNwwLecSck+DeN3v+QXuayF iETLw0+iIloXa4Tys1coubvFj+vPio38DZaygTTxW/QGwaCT6rve9IlPJ4LdMg4siV/5 WxJGxTjEeflj92A+CO8ZKrfUYBwTtvKgEUcYE= X-Google-DKIM-Signature: v=1; a=rsa-sha256; c=relaxed/relaxed; d=1e100.net; s=20230601; t=1738740480; x=1739345280; h=references:in-reply-to:cc:to:from:subject:message-id:date :x-gm-message-state:from:to:cc:subject:date:message-id:reply-to; bh=lj9AYL1dLurX/BdZ+m5oSdpOvXQAoohTPtsVARIW720=; b=cAHpJB0atmPqGNAyBh+78KC28dbEK0IIA59vXjy9/+CVSKX1spsT5K6rQKOL1FO2ec eNI2PzS6BVWvY1LI8UwT1IXos4NIjAP0VnKqFkHmwIUC7qc6/dPGkfy9zS/RglvFZ7+S EYK1/+VhxIdCFaiyLaq233K4Alo8kSsqyOgaBBZAHUDwuaMLNsINwB/WWkI06Sno3kZf OAwrgE6ccOwHx04k3yQ2i2W+LBlTeCJ5bnRans7MneC5u0CLjhma4cYPdYYop5aFV+CD dlJ3NOaCz2TR0zZzxBHKcO6zGfce5roeJbCEYtYnoLEhagiW0xoeFMWqTCqaAnO4WIeP ZrRA== X-Gm-Message-State: AOJu0YyQtgmFGdg48p8hh9zSs1gKI1ClpZs811Ft2NfFj/uMoF3A/bl4 kNSxUvOwuaKHqoucgOp1CQ7ggQqzx33rELDZOzrlwSHv4q16tQfCJsL6tx0hpNI+f1asvcXoryV 7G9QWMllhFeZHpFH7ccSruyOkXo6en4p9u2h0WvgAFxF2n4BpF5fdTwpH X-Gm-Gg: ASbGncuh2FGxwLbXElSTnVU7+487T2IFeyi3Iz7KsgEWb6YrgzvuCvUF595YF80zk9M wIwQUrKvTQB5snwczfmvaum2m5y5br90t0b3HhkafG1w9b67BgAG5DMTgS1tBbU6sH9czFxw/f/ QZPbff5y/AFKrgf3mv+/rjSlmW0veX1z0PC+YhqZGunc0+dtZBbO36wyFIuzyZ24a0u+mexJeOQ TkKqw3jgo26r2BiflSSCyMZa/TEkAY8Bg84lyKP25UjpOJ48GGiA/NOqdexUl+zdvhGArHZc1hO htRFln03JfubABAPUrsxiqjI1cCsuXsfG+PEw79D+g== X-Google-Smtp-Source: AGHT+IFczuJf1vZ8rRfSN7Zwl2pHjnyUN0uxmy16ojkhZRxWiHWvohHEE1VEtdmlUdKuiumqnanbXaHfjWjG X-Received: by 2002:a17:90b:4c43:b0:2ee:d024:e4fc with SMTP id 98e67ed59e1d1-2f9e085138fmr3191254a91.33.1738740479748; Tue, 04 Feb 2025 23:27:59 -0800 (PST) Received: from postal.iol.unh.edu (postal.iol.unh.edu. [2606:4100:3880:1234::84]) by smtp-relay.gmail.com with ESMTPS id 98e67ed59e1d1-2f9e1d7ac27sm81775a91.4.2025.02.04.23.27.59 (version=TLS1_2 cipher=ECDHE-ECDSA-AES128-GCM-SHA256 bits=128/128); Tue, 04 Feb 2025 23:27:59 -0800 (PST) X-Relaying-Domain: iol.unh.edu Date: Tue, 04 Feb 2025 23:27:59 -0800 (PST) Message-ID: <67a312ff.170a0220.30d1d.364cSMTPIN_ADDED_MISSING@mx.google.com> Received: from [172.21.0.6] (unknown [172.18.0.240]) by postal.iol.unh.edu (Postfix) with ESMTP id D2C706052471; Wed, 5 Feb 2025 02:27:58 -0500 (EST) Subject: |WARNING| pw150587-150588 [PATCH] [v2,2/2] stack: enable build with From: dpdklab@iol.unh.edu To: Test Report Cc: dpdk-test-reports@iol.unh.edu In-Reply-To: <1738099014-16629-3-git-send-email-andremue@linux.microsoft.com> References: <1738099014-16629-3-git-send-email-andremue@linux.microsoft.com> Content-Type: text/plain X-BeenThere: test-report@dpdk.org X-Mailman-Version: 2.1.29 Precedence: list List-Id: automatic DPDK test reports List-Unsubscribe: , List-Archive: List-Post: List-Help: List-Subscribe: , Errors-To: test-report-bounces@dpdk.org Test-Label: iol-compile-amd64-testing Test-Status: WARNING http://dpdk.org/patch/150588 _Testing issues_ Submitter: Andre Muezerie Date: Tuesday, January 28 2025 21:16:54 DPDK git baseline: Repo:dpdk Branch: master CommitID:3cd695c34528571c378c5f6be7ff81d3cca9a84c 150587-150588 --> testing issues Upstream job id: Windows-Compile-DPDK-Native#26359 Test environment and result as below: +---------------------+--------------------+------------------+-------------------+-------------------+----------------------+-------------------------+ | Environment | dpdk_meson_compile | dpdk_compile_ovs | dpdk_compile_spdk | dpdk_msvc_compile | dpdk_mingw64_compile | dpdk_llvm_clang_compile | +=====================+====================+==================+===================+===================+======================+=========================+ | CentOS Stream 9 | PASS | PASS | PASS | SKIPPED | SKIPPED | SKIPPED | +---------------------+--------------------+------------------+-------------------+-------------------+----------------------+-------------------------+ | Fedora 41 | PASS | PASS | PASS | SKIPPED | SKIPPED | SKIPPED | +---------------------+--------------------+------------------+-------------------+-------------------+----------------------+-------------------------+ | Debian Bullseye | PASS | PASS | PASS | SKIPPED | SKIPPED | SKIPPED | +---------------------+--------------------+------------------+-------------------+-------------------+----------------------+-------------------------+ | Debian 12 | PASS | PASS | PASS | SKIPPED | SKIPPED | SKIPPED | +---------------------+--------------------+------------------+-------------------+-------------------+----------------------+-------------------------+ | Fedora 40 (Clang) | PASS | PASS | PASS | SKIPPED | SKIPPED | SKIPPED | +---------------------+--------------------+------------------+-------------------+-------------------+----------------------+-------------------------+ | Fedora 40 | PASS | PASS | PASS | SKIPPED | SKIPPED | SKIPPED | +---------------------+--------------------+------------------+-------------------+-------------------+----------------------+-------------------------+ | Fedora 41 (Clang) | PASS | PASS | PASS | SKIPPED | SKIPPED | SKIPPED | +---------------------+--------------------+------------------+-------------------+-------------------+----------------------+-------------------------+ | RHEL9 | PASS | PASS | SKIPPED | SKIPPED | SKIPPED | SKIPPED | +---------------------+--------------------+------------------+-------------------+-------------------+----------------------+-------------------------+ | openSUSE Leap 15 | PASS | SKIPPED | SKIPPED | SKIPPED | SKIPPED | SKIPPED | +---------------------+--------------------+------------------+-------------------+-------------------+----------------------+-------------------------+ | RHEL8 | PASS | PASS | SKIPPED | SKIPPED | SKIPPED | SKIPPED | +---------------------+--------------------+------------------+-------------------+-------------------+----------------------+-------------------------+ | Ubuntu 20.04 | PASS | WARN | SKIPPED | SKIPPED | SKIPPED | SKIPPED | +---------------------+--------------------+------------------+-------------------+-------------------+----------------------+-------------------------+ | Ubuntu 24.04 | PASS | PASS | PASS | SKIPPED | SKIPPED | SKIPPED | +---------------------+--------------------+------------------+-------------------+-------------------+----------------------+-------------------------+ | Alpine | PASS | PASS | SKIPPED | SKIPPED | SKIPPED | SKIPPED | +---------------------+--------------------+------------------+-------------------+-------------------+----------------------+-------------------------+ | FreeBSD 13.4 | PASS | SKIPPED | SKIPPED | SKIPPED | SKIPPED | SKIPPED | +---------------------+--------------------+------------------+-------------------+-------------------+----------------------+-------------------------+ | FreeBSD 14.2 | PASS | SKIPPED | SKIPPED | SKIPPED | SKIPPED | SKIPPED | +---------------------+--------------------+------------------+-------------------+-------------------+----------------------+-------------------------+ | Ubuntu 22.04 | PASS | PASS | PASS | SKIPPED | SKIPPED | SKIPPED | +---------------------+--------------------+------------------+-------------------+-------------------+----------------------+-------------------------+ | Windows Server 2022 | SKIPPED | SKIPPED | SKIPPED | PASS | PASS | PASS | +---------------------+--------------------+------------------+-------------------+-------------------+----------------------+-------------------------+ ==== 20 line log output for Ubuntu 20.04 (dpdk_compile_ovs): ==== --- Failed to get log output --- ==== End log output ==== CentOS Stream 9 Kernel: Depends on container host Compiler: gcc 11.5.0 20240719 (Red Hat 11.5.0-2) Fedora 41 Kernel: Depends on container host Compiler: gcc 14.2.1 20240912 (Red Hat 14.2.1-3) Debian Bullseye Kernel: Depends on container host Compiler: gcc (Debian 10.2.1-6) 10.2.1 20210110 Debian 12 Kernel: Depends on container host Compiler: gcc (Debian 12.2.0-14) 12.2.0 Fedora 40 (Clang) Kernel: Depends on container host Compiler: clang 18.1.8 (Fedora 18.1.8-1.fc40) Fedora 40 Kernel: Depends on container host Compiler: gcc 14.2.1 20240912 (Red Hat 14.2.1-3) Fedora 41 (Clang) Kernel: Depends on container host Compiler: clang 19.1.5 (Fedora 19.1.5-1.fc41) RHEL9 Kernel: Depends on container host Compiler: gcc 11.5.0 20240719 (Red Hat 11.5.0-2) openSUSE Leap 15 Kernel: Depends on container host Compiler: gcc (SUSE Linux) 7.5.0 RHEL8 Kernel: Depends on container host Compiler: gcc 8.5.0 20210514 (Red Hat 8.5.0-22) Ubuntu 20.04 Kernel: Depends on container host Compiler: gcc (Ubuntu 9.4.0-1ubuntu1~20.04.2) 9.4.0 Ubuntu 24.04 Kernel: Depends on container host Compiler: gcc (Ubuntu 13.3.0-6ubuntu2~24.04) 13.3.0 Alpine Kernel: Depends on container host Compiler: gcc (Alpine 14.2.0) 14.2.0 FreeBSD 13.4 Kernel: 13.4-RELEASE-p1 Compiler: clang 18.1.6 FreeBSD 14.2 Kernel: 14.2-RELEASE Compiler: clang 18.1.6 Ubuntu 22.04 Kernel: Depends on container host Compiler: gcc (Ubuntu 11.4.0-1ubuntu1~22.04) 11.4.0 Windows Server 2022 Kernel: 10.0.20348.2031 Compiler: clang 15.0.7, gcc 14.1.0 (MinGW), and MSVC VS 19.39.33521 To view detailed results, visit: https://lab.dpdk.org/results/dashboard/patchsets/32445/ UNH-IOL DPDK Community Lab To manage your email subscriptions, visit: https://lab.dpdk.org/results/dashboard/preferences/subscriptions/