From mboxrd@z Thu Jan 1 00:00:00 1970 Return-Path: Received: from mails.dpdk.org (mails.dpdk.org [217.70.189.124]) by inbox.dpdk.org (Postfix) with ESMTP id 0421E46198 for ; Wed, 5 Feb 2025 08:50:58 +0100 (CET) Received: from mails.dpdk.org (localhost [127.0.0.1]) by mails.dpdk.org (Postfix) with ESMTP id EC9A2402D6; Wed, 5 Feb 2025 08:50:57 +0100 (CET) Received: from mail-pl1-f227.google.com (mail-pl1-f227.google.com [209.85.214.227]) by mails.dpdk.org (Postfix) with ESMTP id DC6DE40270 for ; Wed, 5 Feb 2025 08:50:56 +0100 (CET) Received: by mail-pl1-f227.google.com with SMTP id d9443c01a7336-21f05693a27so20568435ad.2 for ; Tue, 04 Feb 2025 23:50:56 -0800 (PST) DKIM-Signature: v=1; a=rsa-sha256; c=relaxed/relaxed; d=iol.unh.edu; s=unh-iol; t=1738741856; x=1739346656; darn=dpdk.org; h=references:in-reply-to:cc:to:from:subject:message-id:date:from:to :cc:subject:date:message-id:reply-to; bh=N0Dk3CHjISMHHNTdlklbJuOZoR3mBfYJSZJQF/rKAm8=; b=DrguE8HXlPdFjpwBdV16hcHB4k/pXUdcuCK9ZkdZ9Cw2jfDkx77agB2vA6SX85xu/0 qsn81fi6chsKwI3PLAb4JgxtqIEEKanpYvHlgiRZmVDPimM8EkKy7rsKP9g7zxw4bNAP C5EqiRevL4uhiLQz5CwzQVHGownx7eNJa914s= X-Google-DKIM-Signature: v=1; a=rsa-sha256; c=relaxed/relaxed; d=1e100.net; s=20230601; t=1738741856; x=1739346656; h=references:in-reply-to:cc:to:from:subject:message-id:date :x-gm-message-state:from:to:cc:subject:date:message-id:reply-to; bh=N0Dk3CHjISMHHNTdlklbJuOZoR3mBfYJSZJQF/rKAm8=; b=gbKnAX4aBkTuM59kjtdz2sU0JVmnLmmGE4U1YtTO0WI7ffCfdH4IBAzn/6WHX6/GuR sHQObvNDIaQoMNvNeQTjIUHQwcpoA5N84pq8/G2kKfoB9Nn5Tk4btiad0hNib4VtGNxp ROqJhKKLkSalE3BqqGbugbdaKJa8r+SLKuzYTSL0HN//MFjMKMVpHVbsWq1QGqwKfUJA LwTDknqfsvIlOEPeOwzfSpqhjvgulzJoPkopzVGJJf39ku1vSnjuphGqRlcyBu+rs6KZ 9oUhKRvrrfwV0xfpZi3LhHu+U3yOeW4he6gskAZmORheQlcjLafdiQvyeYXvrgyCn+p2 StrA== X-Gm-Message-State: AOJu0YwQeX99ErSy8BefiaIz4LOaLuf14iMuy2f6wOMOg6wlW1LfpI8w Kk1wuHFMiHtYk1iKtB+pwrerW+1cRY3LJ59Wzq6NM93BXqep0fDVSHVM1XrqeJC0mgWDhAKkLNz r3BW4Equh0MPKIpxmvgxF1Zk1rytOqBYaTPTm6TU7 X-Gm-Gg: ASbGncvW3skyoXykAr1nZ+yve2CjHVfds8/VAtl/FPPsejRSFU7vbKqQt/QqOZ/VkA4 C8koIxnVUSZamjPZtdhY9MjNg21wbGiHWeG3oeTxBpI7Br8QxwjTuxfNpRQbsO9suYvHF9/ZlDt zIfKsAs/nMyE8scaDbip1TqCaKio8my6jq1f5Pc5ngKmIBbS6HYkLzShmRy78PCYLejdjIwRo9i QEW2g35VqKeWtZgFOA6tBCFerl4VQHW4PO1MuMCetHAS1M+6ApiUpTvjHusMoMiEOsHGUDeFPYJ QMUsBaa3Wj4HGx8ZXi8R2aQG0OC+Iw== X-Google-Smtp-Source: AGHT+IGXJJs7nbson371tWnfONGQoMy0Z2jbF10g8Hp3/mhOhMSO+frZgKS++3a2gOh20t7sIn/tYgNtWUQm X-Received: by 2002:a17:902:cf12:b0:21f:134f:22ad with SMTP id d9443c01a7336-21f17eba99cmr35265455ad.38.1738741856065; Tue, 04 Feb 2025 23:50:56 -0800 (PST) Received: from postal.iol.unh.edu (postal.iol.unh.edu. [132.177.123.84]) by smtp-relay.gmail.com with ESMTPS id d9443c01a7336-21de324cf25sm6380945ad.48.2025.02.04.23.50.55 (version=TLS1_2 cipher=ECDHE-ECDSA-AES128-GCM-SHA256 bits=128/128); Tue, 04 Feb 2025 23:50:56 -0800 (PST) X-Relaying-Domain: iol.unh.edu Date: Tue, 04 Feb 2025 23:50:56 -0800 (PST) Message-ID: <67a31860.170a0220.2be3ce.d25bSMTPIN_ADDED_MISSING@mx.google.com> Received: from [172.21.0.5] (unknown [172.18.0.240]) by postal.iol.unh.edu (Postfix) with ESMTP id 3931E6052471; Wed, 5 Feb 2025 02:50:55 -0500 (EST) Subject: |WARNING| pw150586 [PATCH] net/bnxt: remove unnecessary checks for n From: dpdklab@iol.unh.edu To: Test Report Cc: dpdk-test-reports@iol.unh.edu In-Reply-To: <20250128174219.155796-1-stephen@networkplumber.org> References: <20250128174219.155796-1-stephen@networkplumber.org> Content-Type: text/plain X-BeenThere: test-report@dpdk.org X-Mailman-Version: 2.1.29 Precedence: list List-Id: automatic DPDK test reports List-Unsubscribe: , List-Archive: List-Post: List-Help: List-Subscribe: , Errors-To: test-report-bounces@dpdk.org Test-Label: iol-compile-amd64-testing Test-Status: WARNING http://dpdk.org/patch/150586 _Testing issues_ Submitter: Stephen Hemminger Date: Tuesday, January 28 2025 17:42:19 DPDK git baseline: Repo:dpdk Branch: master CommitID:06e2856620a70000b2a28f0ea715fc247b85fd8d 150586 --> testing issues Upstream job id: Windows-Compile-DPDK-Native#26361 Test environment and result as below: +---------------------+--------------------+------------------+-------------------+-------------------+----------------------+-------------------------+ | Environment | dpdk_meson_compile | dpdk_compile_ovs | dpdk_compile_spdk | dpdk_msvc_compile | dpdk_mingw64_compile | dpdk_llvm_clang_compile | +=====================+====================+==================+===================+===================+======================+=========================+ | CentOS Stream 9 | PASS | PASS | PASS | SKIPPED | SKIPPED | SKIPPED | +---------------------+--------------------+------------------+-------------------+-------------------+----------------------+-------------------------+ | Debian Bullseye | PASS | PASS | PASS | SKIPPED | SKIPPED | SKIPPED | +---------------------+--------------------+------------------+-------------------+-------------------+----------------------+-------------------------+ | Debian 12 | PASS | PASS | PASS | SKIPPED | SKIPPED | SKIPPED | +---------------------+--------------------+------------------+-------------------+-------------------+----------------------+-------------------------+ | Fedora 40 (Clang) | PASS | PASS | PASS | SKIPPED | SKIPPED | SKIPPED | +---------------------+--------------------+------------------+-------------------+-------------------+----------------------+-------------------------+ | Fedora 41 | PASS | PASS | PASS | SKIPPED | SKIPPED | SKIPPED | +---------------------+--------------------+------------------+-------------------+-------------------+----------------------+-------------------------+ | Fedora 41 (Clang) | PASS | PASS | PASS | SKIPPED | SKIPPED | SKIPPED | +---------------------+--------------------+------------------+-------------------+-------------------+----------------------+-------------------------+ | Fedora 40 | PASS | PASS | PASS | SKIPPED | SKIPPED | SKIPPED | +---------------------+--------------------+------------------+-------------------+-------------------+----------------------+-------------------------+ | RHEL9 | PASS | PASS | SKIPPED | SKIPPED | SKIPPED | SKIPPED | +---------------------+--------------------+------------------+-------------------+-------------------+----------------------+-------------------------+ | RHEL8 | PASS | PASS | SKIPPED | SKIPPED | SKIPPED | SKIPPED | +---------------------+--------------------+------------------+-------------------+-------------------+----------------------+-------------------------+ | Ubuntu 22.04 | PASS | PASS | PASS | SKIPPED | SKIPPED | SKIPPED | +---------------------+--------------------+------------------+-------------------+-------------------+----------------------+-------------------------+ | openSUSE Leap 15 | PASS | SKIPPED | SKIPPED | SKIPPED | SKIPPED | SKIPPED | +---------------------+--------------------+------------------+-------------------+-------------------+----------------------+-------------------------+ | Ubuntu 20.04 | PASS | WARN | SKIPPED | SKIPPED | SKIPPED | SKIPPED | +---------------------+--------------------+------------------+-------------------+-------------------+----------------------+-------------------------+ | Ubuntu 24.04 | PASS | PASS | PASS | SKIPPED | SKIPPED | SKIPPED | +---------------------+--------------------+------------------+-------------------+-------------------+----------------------+-------------------------+ | Alpine | PASS | PASS | SKIPPED | SKIPPED | SKIPPED | SKIPPED | +---------------------+--------------------+------------------+-------------------+-------------------+----------------------+-------------------------+ | FreeBSD 13.4 | PASS | SKIPPED | SKIPPED | SKIPPED | SKIPPED | SKIPPED | +---------------------+--------------------+------------------+-------------------+-------------------+----------------------+-------------------------+ | FreeBSD 14.2 | PASS | SKIPPED | SKIPPED | SKIPPED | SKIPPED | SKIPPED | +---------------------+--------------------+------------------+-------------------+-------------------+----------------------+-------------------------+ | Windows Server 2022 | SKIPPED | SKIPPED | SKIPPED | PASS | PASS | PASS | +---------------------+--------------------+------------------+-------------------+-------------------+----------------------+-------------------------+ ==== 20 line log output for Ubuntu 20.04 (dpdk_compile_ovs): ==== --- Failed to get log output --- ==== End log output ==== CentOS Stream 9 Kernel: Depends on container host Compiler: gcc 11.5.0 20240719 (Red Hat 11.5.0-2) Debian Bullseye Kernel: Depends on container host Compiler: gcc (Debian 10.2.1-6) 10.2.1 20210110 Debian 12 Kernel: Depends on container host Compiler: gcc (Debian 12.2.0-14) 12.2.0 Fedora 40 (Clang) Kernel: Depends on container host Compiler: clang 18.1.8 (Fedora 18.1.8-1.fc40) Fedora 41 Kernel: Depends on container host Compiler: gcc 14.2.1 20240912 (Red Hat 14.2.1-3) Fedora 41 (Clang) Kernel: Depends on container host Compiler: clang 19.1.5 (Fedora 19.1.5-1.fc41) Fedora 40 Kernel: Depends on container host Compiler: gcc 14.2.1 20240912 (Red Hat 14.2.1-3) RHEL9 Kernel: Depends on container host Compiler: gcc 11.5.0 20240719 (Red Hat 11.5.0-2) RHEL8 Kernel: Depends on container host Compiler: gcc 8.5.0 20210514 (Red Hat 8.5.0-22) Ubuntu 22.04 Kernel: Depends on container host Compiler: gcc (Ubuntu 11.4.0-1ubuntu1~22.04) 11.4.0 openSUSE Leap 15 Kernel: Depends on container host Compiler: gcc (SUSE Linux) 7.5.0 Ubuntu 20.04 Kernel: Depends on container host Compiler: gcc (Ubuntu 9.4.0-1ubuntu1~20.04.2) 9.4.0 Ubuntu 24.04 Kernel: Depends on container host Compiler: gcc (Ubuntu 13.3.0-6ubuntu2~24.04) 13.3.0 Alpine Kernel: Depends on container host Compiler: gcc (Alpine 14.2.0) 14.2.0 FreeBSD 13.4 Kernel: 13.4-RELEASE-p1 Compiler: clang 18.1.6 FreeBSD 14.2 Kernel: 14.2-RELEASE Compiler: clang 18.1.6 Windows Server 2022 Kernel: 10.0.20348.2031 Compiler: clang 15.0.7, gcc 14.1.0 (MinGW), and MSVC VS 19.39.33521 To view detailed results, visit: https://lab.dpdk.org/results/dashboard/patchsets/32444/ UNH-IOL DPDK Community Lab To manage your email subscriptions, visit: https://lab.dpdk.org/results/dashboard/preferences/subscriptions/