From mboxrd@z Thu Jan 1 00:00:00 1970 Return-Path: Received: from mails.dpdk.org (mails.dpdk.org [217.70.189.124]) by inbox.dpdk.org (Postfix) with ESMTP id DD1D946198 for ; Wed, 5 Feb 2025 08:58:01 +0100 (CET) Received: from mails.dpdk.org (localhost [127.0.0.1]) by mails.dpdk.org (Postfix) with ESMTP id BA4C6402B3; Wed, 5 Feb 2025 08:58:01 +0100 (CET) Received: from mail-oa1-f98.google.com (mail-oa1-f98.google.com [209.85.160.98]) by mails.dpdk.org (Postfix) with ESMTP id B7E6C40270 for ; Wed, 5 Feb 2025 08:58:00 +0100 (CET) Received: by mail-oa1-f98.google.com with SMTP id 586e51a60fabf-2b7fd3c667fso435629fac.2 for ; Tue, 04 Feb 2025 23:58:00 -0800 (PST) DKIM-Signature: v=1; a=rsa-sha256; c=relaxed/relaxed; d=iol.unh.edu; s=unh-iol; t=1738742279; x=1739347079; darn=dpdk.org; h=cc:to:from:subject:message-id:date:from:to:cc:subject:date :message-id:reply-to; bh=o3xECs4GYposmjSHydqOq1zKQH8UqVJdwjFEbRxH6sY=; b=JgIvl43pvMobOT0IVFoFabXuaaY4bIBbN9L9guR0TGfrb1CpywG9EGDm+21fr4BzHc EfWOFBDf0zlKgAmaT3enj6E2lcClgiJpW4ZqRoku6uCgbT8yNFZsNB0k0/c27UJ0hLQQ lLdmy4wPJZOwPwvk+nnerZaj2OpKAOp39n6Js= X-Google-DKIM-Signature: v=1; a=rsa-sha256; c=relaxed/relaxed; d=1e100.net; s=20230601; t=1738742279; x=1739347079; h=cc:to:from:subject:message-id:date:x-gm-message-state:from:to:cc :subject:date:message-id:reply-to; bh=o3xECs4GYposmjSHydqOq1zKQH8UqVJdwjFEbRxH6sY=; b=qxEMjxW0nkvpM48fEa6qspotNd+KWdegvZV2RUVsJuu4/QrN41EkIEQtPqQHbljHBo 6t7ZPIxCp0a6iLV+s2VbYzj8urYuTRVrlINmyJycAYmVP8iggvvFBTTurHfC6OF1iuVz qmyWAuyvjcY/mJSv7XKEK5IXzYmajmrBnGG20zk2jJBL5FBLvHMLKn50kUkh4jEl5Lb6 5eanaqOpDCcxOqw5n0lRFoAvP4lO7gBAqxnTRLAKqi5l7a6+Jk4LzM86yMk30NTMAqM9 ZtGVHEZW3jJ8Dp/TjRb9Pe7HHXfCPopS0FzI/I1mAr4VsT7gPrzr4VP4RgULQ3izOj5J UQDg== X-Gm-Message-State: AOJu0YwP4jQDnezI+d1RDbkwnN9cLHq8zFNJ/Ck063AeYaG+9NnX2lsf 4eevfS1LLS31WPPYr4lIg7KP9HGZhR+otX0hByTbebhueCTkvo50m+KfwChwO57hJylWT14PO9b PcPzT1h1KlkPbRSIIWNKndlVDOoaJcmiAs2gHibBq X-Gm-Gg: ASbGncsPlCCW8Ll0e+DAcJm4QdUP2kOcXI5en5cJYaQYJ7vHDjZGN5Dd/nzMhYJ0c9N bj7arCG5c7Hnz3dKlIo+czqP2kvxoETItEoJNYqCKcxAzoXkpvrt9QyEWtwGOUYYSRx0bC1h/8b 8wKkTeo+0ii9TqTqMz1fI7raqmh5PIuPEm8lQuIoL48vAOwLbLSoyGd2+jRPW+zmKpriRULhUpk 5PgDQ7YQtxxMdRSals+p8Ao/dRDbkMy6AC6zF9iVXYWNsJTxaQatgNVaGpPrS4jBAQ7JYkUq0XL zYaT+F5AltyG2qKOh50+8Oeya8SfUw== X-Google-Smtp-Source: AGHT+IGJNDrnzDwr1B+rPcXQ+6DdCozsEU3m2WxeFS+prHEfdNkXWTpmQGozMqI8AeRpD5XXLEEJisHsT9+k X-Received: by 2002:a05:6871:230b:b0:2a0:d2d:e606 with SMTP id 586e51a60fabf-2b80518b953mr1012591fac.38.1738742279611; Tue, 04 Feb 2025 23:57:59 -0800 (PST) Received: from postal.iol.unh.edu (postal.iol.unh.edu. [132.177.123.84]) by smtp-relay.gmail.com with ESMTPS id 586e51a60fabf-2b398f2990bsm667553fac.21.2025.02.04.23.57.59 (version=TLS1_2 cipher=ECDHE-ECDSA-AES128-GCM-SHA256 bits=128/128); Tue, 04 Feb 2025 23:57:59 -0800 (PST) X-Relaying-Domain: iol.unh.edu Date: Tue, 04 Feb 2025 23:57:59 -0800 (PST) Message-ID: <67a31a07.050a0220.15a245.dcbcSMTPIN_ADDED_MISSING@mx.google.com> Received: from [172.21.0.6] (unknown [172.18.0.240]) by postal.iol.unh.edu (Postfix) with ESMTP id 0EF1B6052471; Wed, 5 Feb 2025 02:57:59 -0500 (EST) Subject: |SUCCESS| [GIT MASTER] 595535be66b103f7ce3ba61939b8013032987404 From: dpdklab@iol.unh.edu To: Test Report Cc: dpdk-test-reports@iol.unh.edu, Stephen Hemminger Content-Type: text/plain X-BeenThere: test-report@dpdk.org X-Mailman-Version: 2.1.29 Precedence: list List-Id: automatic DPDK test reports List-Unsubscribe: , List-Archive: List-Post: List-Help: List-Subscribe: , Errors-To: test-report-bounces@dpdk.org _Testing PASS_ Branch: dpdk-next-net 595535be66b103f7ce3ba61939b8013032987404 --> testing pass Upstream job id: Generic-VM-DPDK-Compile-Meson#33052 Test environment and result as below: +---------------------+-------------------+--------------------+ | Environment | dpdk_msvc_compile | dpdk_meson_compile | +=====================+===================+====================+ | Windows Server 2022 | PASS | SKIPPED | +---------------------+-------------------+--------------------+ | FreeBSD 13.4 | SKIPPED | PASS | +---------------------+-------------------+--------------------+ | FreeBSD 14.2 | SKIPPED | PASS | +---------------------+-------------------+--------------------+ Windows Server 2022 Kernel: 10.0.20348.2031 Compiler: clang 15.0.7, gcc 14.1.0 (MinGW), and MSVC VS 19.39.33521 FreeBSD 13.4 Kernel: 13.4-RELEASE-p1 Compiler: clang 18.1.6 FreeBSD 14.2 Kernel: 14.2-RELEASE Compiler: clang 18.1.6 To view detailed results, visit: https://lab.dpdk.org/results/dashboard/tarballs/32449/ UNH-IOL DPDK Community Lab To manage your email subscriptions, visit: https://lab.dpdk.org/results/dashboard/preferences/subscriptions/