From mboxrd@z Thu Jan 1 00:00:00 1970 Return-Path: Received: from mails.dpdk.org (mails.dpdk.org [217.70.189.124]) by inbox.dpdk.org (Postfix) with ESMTP id B0BC146198 for ; Wed, 5 Feb 2025 09:11:13 +0100 (CET) Received: from mails.dpdk.org (localhost [127.0.0.1]) by mails.dpdk.org (Postfix) with ESMTP id 906B140289; Wed, 5 Feb 2025 09:11:13 +0100 (CET) Received: from mail-ot1-f100.google.com (mail-ot1-f100.google.com [209.85.210.100]) by mails.dpdk.org (Postfix) with ESMTP id 7D23840270 for ; Wed, 5 Feb 2025 09:11:12 +0100 (CET) Received: by mail-ot1-f100.google.com with SMTP id 46e09a7af769-71e181fb288so3657373a34.2 for ; Wed, 05 Feb 2025 00:11:12 -0800 (PST) DKIM-Signature: v=1; a=rsa-sha256; c=relaxed/relaxed; d=iol.unh.edu; s=unh-iol; t=1738743071; x=1739347871; darn=dpdk.org; h=cc:to:from:subject:message-id:date:from:to:cc:subject:date :message-id:reply-to; bh=aD7pbjw7H36So4sue7mg1+lueLWnINgr6S+6d1/pRCM=; b=A/DABLGgZeprVC4UgJCWoHly8vFzt2dXnH1Z98TTlYWr7yM5ahveV1FNF6KJJRZJo9 Sk4+EoW2dUpd1i8+nt9LLlftNqHKDA9paBBOax9dd7SYMboVJVO9fffZs6oL8iulFJUx gqxFFdr6yX4B4izCpA2HUjAE0WiWAg7RslArU= X-Google-DKIM-Signature: v=1; a=rsa-sha256; c=relaxed/relaxed; d=1e100.net; s=20230601; t=1738743071; x=1739347871; h=cc:to:from:subject:message-id:date:x-gm-message-state:from:to:cc :subject:date:message-id:reply-to; bh=aD7pbjw7H36So4sue7mg1+lueLWnINgr6S+6d1/pRCM=; b=AYI1lEqe1gv13g0je4G5/mVPJWJdv9py6FIcbeCSn++EH8a0KBxwDRd5Qq6geCqyst PcXQpdqTG6OlY55H8RyCweslk6CtBQVKLRsG9MX9iVr9aSy5Lln3BGAomXHeZzQF+BcF vh0Y9U4t+iWmmhJfgyiaEA03j1qGi1OYsFlILNpotZvV4DbXbQGfi+jz8Gc0YPXdXPa2 F+XjyjEBKLW57DfkWkE4jL+Ocz2Zpynig+/YvF+5hGFSjat8BbJjFRLM4seJWXlYiiVc HVssYKF3Tki+l9Qt29VVKcWOd9UwwJqExGTX/C0yvB2FeoD1iMKeDc9GCpKsLYtdaLqe MMzA== X-Gm-Message-State: AOJu0YzNSvOiT5Jdeuo6RYYvpENrqv9lSA/JlGAo4qVpZS4Oj7RwgRAS FfeRj5i1RsHn2M1Weyu2BcGUygP3i7QLQFxDNzlfy8AjQONSl0ir1R9POch0MUusB6Op7VqACdB KIx0wxhlD+KBrcOvbNtyviKDZhc13Hl6ZZjSjgXIP X-Gm-Gg: ASbGncvHlWE44u/H8bjt9eYf+pW/MiuYr24iK0e13DbM6nv1XlMR1kbXdLVEGDPdUU+ nnEdC7sJV6TfQ407PTaKkKqpfxHZY0QwMgYM9iKP5zpSpN4B9hxfTILoZECQDpQuyWX0cnv76dA T9ANpEIwCfdn32JxHAZN0KeOzDnHbo5rjcM5RdjDQu+l3wbfzZvnWKxu77aHyybD1cjTsikNXSx TtlFWAdTevKfocGOii3H830DvpDxU9Hg1gNNwvyhxhqrVhfLa1ph0qxK+3ChcCCLLumS2b8DuNM /O32RqsG82wyeLqAH6C1qtycmTnmfA== X-Google-Smtp-Source: AGHT+IF04cKmkVhJdOxwXyWmtcd3Bl7MEmLRrtNGh/yQuuBfDvzhpEWHwfpVBKvL8qCX5WrvrvThzhRHA8Xk X-Received: by 2002:a05:6830:3698:b0:71e:ab4:6257 with SMTP id 46e09a7af769-726a41cd1f2mr1341474a34.15.1738743071598; Wed, 05 Feb 2025 00:11:11 -0800 (PST) Received: from postal.iol.unh.edu (postal.iol.unh.edu. [132.177.123.84]) by smtp-relay.gmail.com with ESMTPS id 586e51a60fabf-2b7f8683e5dsm140899fac.20.2025.02.05.00.11.11 (version=TLS1_2 cipher=ECDHE-ECDSA-AES128-GCM-SHA256 bits=128/128); Wed, 05 Feb 2025 00:11:11 -0800 (PST) X-Relaying-Domain: iol.unh.edu Date: Wed, 05 Feb 2025 00:11:11 -0800 (PST) Message-ID: <67a31d1f.050a0220.2ac5f1.6f3dSMTPIN_ADDED_MISSING@mx.google.com> Received: from [172.21.0.6] (unknown [172.18.0.240]) by postal.iol.unh.edu (Postfix) with ESMTP id 14AA26052471; Wed, 5 Feb 2025 03:11:11 -0500 (EST) Subject: |WARNING| [GIT MASTER] 531a6a62957001333a1cb5c37d43c37a837e2349 From: dpdklab@iol.unh.edu To: Test Report Cc: dpdk-test-reports@iol.unh.edu, Bruce Richardson Content-Type: text/plain X-BeenThere: test-report@dpdk.org X-Mailman-Version: 2.1.29 Precedence: list List-Id: automatic DPDK test reports List-Unsubscribe: , List-Archive: List-Post: List-Help: List-Subscribe: , Errors-To: test-report-bounces@dpdk.org _Testing issues_ Branch: dpdk-next-net-intel 531a6a62957001333a1cb5c37d43c37a837e2349 --> testing issues Upstream job id: Windows-Compile-DPDK-Native#26363 Test environment and result as below: +---------------------+--------------------+------------------+-------------------+-------------------+----------------------+-------------------------+ | Environment | dpdk_meson_compile | dpdk_compile_ovs | dpdk_compile_spdk | dpdk_msvc_compile | dpdk_mingw64_compile | dpdk_llvm_clang_compile | +=====================+====================+==================+===================+===================+======================+=========================+ | Debian Bullseye | PASS | PASS | PASS | SKIPPED | SKIPPED | SKIPPED | +---------------------+--------------------+------------------+-------------------+-------------------+----------------------+-------------------------+ | openSUSE Leap 15 | PASS | SKIPPED | SKIPPED | SKIPPED | SKIPPED | SKIPPED | +---------------------+--------------------+------------------+-------------------+-------------------+----------------------+-------------------------+ | Fedora 40 | PASS | PASS | PASS | SKIPPED | SKIPPED | SKIPPED | +---------------------+--------------------+------------------+-------------------+-------------------+----------------------+-------------------------+ | Debian 12 | PASS | PASS | PASS | SKIPPED | SKIPPED | SKIPPED | +---------------------+--------------------+------------------+-------------------+-------------------+----------------------+-------------------------+ | Fedora 40 (Clang) | PASS | PASS | PASS | SKIPPED | SKIPPED | SKIPPED | +---------------------+--------------------+------------------+-------------------+-------------------+----------------------+-------------------------+ | Fedora 41 | PASS | PASS | PASS | SKIPPED | SKIPPED | SKIPPED | +---------------------+--------------------+------------------+-------------------+-------------------+----------------------+-------------------------+ | Fedora 41 (Clang) | PASS | PASS | PASS | SKIPPED | SKIPPED | SKIPPED | +---------------------+--------------------+------------------+-------------------+-------------------+----------------------+-------------------------+ | Ubuntu 24.04 | PASS | PASS | PASS | SKIPPED | SKIPPED | SKIPPED | +---------------------+--------------------+------------------+-------------------+-------------------+----------------------+-------------------------+ | Ubuntu 20.04 | PASS | WARN | SKIPPED | SKIPPED | SKIPPED | SKIPPED | +---------------------+--------------------+------------------+-------------------+-------------------+----------------------+-------------------------+ | RHEL8 | PASS | PASS | SKIPPED | SKIPPED | SKIPPED | SKIPPED | +---------------------+--------------------+------------------+-------------------+-------------------+----------------------+-------------------------+ | RHEL9 | PASS | PASS | SKIPPED | SKIPPED | SKIPPED | SKIPPED | +---------------------+--------------------+------------------+-------------------+-------------------+----------------------+-------------------------+ | Ubuntu 22.04 | PASS | PASS | PASS | SKIPPED | SKIPPED | SKIPPED | +---------------------+--------------------+------------------+-------------------+-------------------+----------------------+-------------------------+ | Alpine | PASS | PASS | SKIPPED | SKIPPED | SKIPPED | SKIPPED | +---------------------+--------------------+------------------+-------------------+-------------------+----------------------+-------------------------+ | FreeBSD 13.4 | PASS | SKIPPED | SKIPPED | SKIPPED | SKIPPED | SKIPPED | +---------------------+--------------------+------------------+-------------------+-------------------+----------------------+-------------------------+ | FreeBSD 14.2 | PASS | SKIPPED | SKIPPED | SKIPPED | SKIPPED | SKIPPED | +---------------------+--------------------+------------------+-------------------+-------------------+----------------------+-------------------------+ | Windows Server 2022 | SKIPPED | SKIPPED | SKIPPED | PASS | PASS | PASS | +---------------------+--------------------+------------------+-------------------+-------------------+----------------------+-------------------------+ ==== 20 line log output for Ubuntu 20.04 (dpdk_compile_ovs): ==== --- Failed to get log output --- ==== End log output ==== Debian Bullseye Kernel: Depends on container host Compiler: gcc (Debian 10.2.1-6) 10.2.1 20210110 openSUSE Leap 15 Kernel: Depends on container host Compiler: gcc (SUSE Linux) 7.5.0 Fedora 40 Kernel: Depends on container host Compiler: gcc 14.2.1 20240912 (Red Hat 14.2.1-3) Debian 12 Kernel: Depends on container host Compiler: gcc (Debian 12.2.0-14) 12.2.0 Fedora 40 (Clang) Kernel: Depends on container host Compiler: clang 18.1.8 (Fedora 18.1.8-1.fc40) Fedora 41 Kernel: Depends on container host Compiler: gcc 14.2.1 20240912 (Red Hat 14.2.1-3) Fedora 41 (Clang) Kernel: Depends on container host Compiler: clang 19.1.5 (Fedora 19.1.5-1.fc41) Ubuntu 24.04 Kernel: Depends on container host Compiler: gcc (Ubuntu 13.3.0-6ubuntu2~24.04) 13.3.0 Ubuntu 20.04 Kernel: Depends on container host Compiler: gcc (Ubuntu 9.4.0-1ubuntu1~20.04.2) 9.4.0 RHEL8 Kernel: Depends on container host Compiler: gcc 8.5.0 20210514 (Red Hat 8.5.0-22) RHEL9 Kernel: Depends on container host Compiler: gcc 11.5.0 20240719 (Red Hat 11.5.0-2) Ubuntu 22.04 Kernel: Depends on container host Compiler: gcc (Ubuntu 11.4.0-1ubuntu1~22.04) 11.4.0 Alpine Kernel: Depends on container host Compiler: gcc (Alpine 14.2.0) 14.2.0 FreeBSD 13.4 Kernel: 13.4-RELEASE-p1 Compiler: clang 18.1.6 FreeBSD 14.2 Kernel: 14.2-RELEASE Compiler: clang 18.1.6 Windows Server 2022 Kernel: 10.0.20348.2031 Compiler: clang 15.0.7, gcc 14.1.0 (MinGW), and MSVC VS 19.39.33521 To view detailed results, visit: https://lab.dpdk.org/results/dashboard/tarballs/32369/ UNH-IOL DPDK Community Lab To manage your email subscriptions, visit: https://lab.dpdk.org/results/dashboard/preferences/subscriptions/