From mboxrd@z Thu Jan 1 00:00:00 1970 Return-Path: Received: from mails.dpdk.org (mails.dpdk.org [217.70.189.124]) by inbox.dpdk.org (Postfix) with ESMTP id 3EDEE46198 for ; Wed, 5 Feb 2025 09:16:23 +0100 (CET) Received: from mails.dpdk.org (localhost [127.0.0.1]) by mails.dpdk.org (Postfix) with ESMTP id 1683A40289; Wed, 5 Feb 2025 09:16:23 +0100 (CET) Received: from mail-qv1-f100.google.com (mail-qv1-f100.google.com [209.85.219.100]) by mails.dpdk.org (Postfix) with ESMTP id 5AF0240270 for ; Wed, 5 Feb 2025 09:16:21 +0100 (CET) Received: by mail-qv1-f100.google.com with SMTP id 6a1803df08f44-6e1a36b3684so75182526d6.1 for ; Wed, 05 Feb 2025 00:16:21 -0800 (PST) DKIM-Signature: v=1; a=rsa-sha256; c=relaxed/relaxed; d=iol.unh.edu; s=unh-iol; t=1738743380; x=1739348180; darn=dpdk.org; h=references:in-reply-to:cc:to:from:subject:message-id:date:from:to :cc:subject:date:message-id:reply-to; bh=vJ3Fddn3Vqyk05W9F/sv2DeEZaeEMOp40TbY+w4IO0s=; b=GCk6lclE1FCRrFqU4rzQIknwkx89XPvcKkPXUuVUxso4/bjAs4H+jIzJkdDl3nieKh NqmOl09Rvd8UgJwclh2SJTvWYo/ujzPl7eS84E4/+2DGvQD1hVA62WsrwQ8qL7IOK+id k2aloJ1hfm6LaiRytwarW4cmtt4y5Yoo4I8bM= X-Google-DKIM-Signature: v=1; a=rsa-sha256; c=relaxed/relaxed; d=1e100.net; s=20230601; t=1738743380; x=1739348180; h=references:in-reply-to:cc:to:from:subject:message-id:date :x-gm-message-state:from:to:cc:subject:date:message-id:reply-to; bh=vJ3Fddn3Vqyk05W9F/sv2DeEZaeEMOp40TbY+w4IO0s=; b=vKy9394UEmmlv7nx5rNqMyj0Rry/xZiXcNfzu9H5YOvcs28YlxUsZBd+dT7F492Sca MH0GHOz1E34wOyY3EUC+RfwuT3bFldGKkX4OZickj9JLn2SaLUPtCtsLfYarpTPBUEZu bckfJVywpoRFUSRIorYXBs9FIl3iGOtGr4mg8Z+UwiwYy80xOzTsTYBVsw0Pf6k9T0gq Zz4HxKR4ov5y/4z9WudxX3YKLLG/nfSDij5G7Dxx3JYsrn3y9h9XvJeovF27Q/HxRcd9 z+KOZ2PbQB4UkHRBdjB9wI5lhI5F7A1fvf7MD3x0rxmGK2Z9b7CavpsiPSAiVsnDco2V phWA== X-Gm-Message-State: AOJu0Ywb6ywXfFEjh6dEsGpgzPQclejhbxL5HRnQqXsoar/5MihJ9iKQ +z92fGnmj7Vo82vcSVZDZBxLLyFO14ClAbpfiwVEfXUi7xgIIlQcIhg098TBugC1LH7jWzvogQ+ NFyctSP4nCZ1mgV1zFGgkwe27AqBEZy+3YCblPLQuw0Wyy/gbG+RD7FHB X-Gm-Gg: ASbGncsspgowz3HFocjKiDjkGYNWeqco7i7Se1EIfkmUMe9nQODrPqV6gWI43t4Cg+w 7rHOYnyNhSjtDINUbQkR1yRcVNX5NXDmUyIakpLmHP2hAisb/V+T22rVT0dwIfZNnP9X6B0g2fx ZUXNPTWKmQE6QJmL7S0KlW8At+2pu79NigPmTr+uZ577eHvi6yPPkJq3OyOpliHo9SaficbxvjN 70ALVAIylbO9qwj9/0thmTKkko3TF1l1hznIdOBLzzCQ11LTWu3xiihlbxypZR1nLarsP5Hy8YG /P7sfBnVHkoc7WfcoPd//0nAjCCZTgZvx6dJS60fTw== X-Google-Smtp-Source: AGHT+IFKkcj7fezZjse/KU94n/6MOITHASTFAVgOOPEff4GE0957xC0M0qw3BnlGTokl64S/F1ihDubuUSoZ X-Received: by 2002:ad4:5ec6:0:b0:6d8:a0c8:e468 with SMTP id 6a1803df08f44-6e42fc7024emr19016256d6.24.1738743380659; Wed, 05 Feb 2025 00:16:20 -0800 (PST) Received: from postal.iol.unh.edu (postal.iol.unh.edu. [2606:4100:3880:1234::84]) by smtp-relay.gmail.com with ESMTPS id 6a1803df08f44-6e434c96e70sm199596d6.17.2025.02.05.00.16.20 (version=TLS1_2 cipher=ECDHE-ECDSA-AES128-GCM-SHA256 bits=128/128); Wed, 05 Feb 2025 00:16:20 -0800 (PST) X-Relaying-Domain: iol.unh.edu Date: Wed, 05 Feb 2025 00:16:20 -0800 (PST) Message-ID: <67a31e54.d40a0220.254ddd.0c7eSMTPIN_ADDED_MISSING@mx.google.com> Received: from [172.21.0.5] (unknown [172.18.0.240]) by postal.iol.unh.edu (Postfix) with ESMTP id 205FE6052471; Wed, 5 Feb 2025 03:16:20 -0500 (EST) Subject: |WARNING| pw150560-150561 [PATCH] [3/3] net/mlx5: fix flow flush for From: dpdklab@iol.unh.edu To: Test Report Cc: dpdk-test-reports@iol.unh.edu In-Reply-To: <20250128075406.175330-4-mkashani@nvidia.com> References: <20250128075406.175330-4-mkashani@nvidia.com> Content-Type: text/plain X-BeenThere: test-report@dpdk.org X-Mailman-Version: 2.1.29 Precedence: list List-Id: automatic DPDK test reports List-Unsubscribe: , List-Archive: List-Post: List-Help: List-Subscribe: , Errors-To: test-report-bounces@dpdk.org Test-Label: iol-compile-amd64-testing Test-Status: WARNING http://dpdk.org/patch/150561 _Testing issues_ Submitter: Maayan Kashani Date: Tuesday, January 28 2025 07:54:05 DPDK git baseline: Repo:dpdk Branch: master CommitID:5d36a8ca4cf2f7daaa50012f2f4333c67e867dd1 150560-150561 --> testing issues Upstream job id: Windows-Compile-DPDK-Native#26364 Test environment and result as below: +---------------------+--------------------+------------------+-------------------+-------------------+----------------------+-------------------------+ | Environment | dpdk_meson_compile | dpdk_compile_ovs | dpdk_compile_spdk | dpdk_msvc_compile | dpdk_mingw64_compile | dpdk_llvm_clang_compile | +=====================+====================+==================+===================+===================+======================+=========================+ | CentOS Stream 9 | PASS | PASS | PASS | SKIPPED | SKIPPED | SKIPPED | +---------------------+--------------------+------------------+-------------------+-------------------+----------------------+-------------------------+ | Debian Bullseye | PASS | PASS | PASS | SKIPPED | SKIPPED | SKIPPED | +---------------------+--------------------+------------------+-------------------+-------------------+----------------------+-------------------------+ | Debian 12 | PASS | PASS | PASS | SKIPPED | SKIPPED | SKIPPED | +---------------------+--------------------+------------------+-------------------+-------------------+----------------------+-------------------------+ | Fedora 40 | PASS | PASS | PASS | SKIPPED | SKIPPED | SKIPPED | +---------------------+--------------------+------------------+-------------------+-------------------+----------------------+-------------------------+ | Fedora 41 (Clang) | PASS | PASS | PASS | SKIPPED | SKIPPED | SKIPPED | +---------------------+--------------------+------------------+-------------------+-------------------+----------------------+-------------------------+ | Fedora 41 | PASS | PASS | PASS | SKIPPED | SKIPPED | SKIPPED | +---------------------+--------------------+------------------+-------------------+-------------------+----------------------+-------------------------+ | Fedora 40 (Clang) | PASS | PASS | PASS | SKIPPED | SKIPPED | SKIPPED | +---------------------+--------------------+------------------+-------------------+-------------------+----------------------+-------------------------+ | openSUSE Leap 15 | PASS | SKIPPED | SKIPPED | SKIPPED | SKIPPED | SKIPPED | +---------------------+--------------------+------------------+-------------------+-------------------+----------------------+-------------------------+ | RHEL8 | PASS | PASS | SKIPPED | SKIPPED | SKIPPED | SKIPPED | +---------------------+--------------------+------------------+-------------------+-------------------+----------------------+-------------------------+ | RHEL9 | PASS | PASS | SKIPPED | SKIPPED | SKIPPED | SKIPPED | +---------------------+--------------------+------------------+-------------------+-------------------+----------------------+-------------------------+ | Ubuntu 20.04 | PASS | WARN | SKIPPED | SKIPPED | SKIPPED | SKIPPED | +---------------------+--------------------+------------------+-------------------+-------------------+----------------------+-------------------------+ | Ubuntu 22.04 | PASS | PASS | PASS | SKIPPED | SKIPPED | SKIPPED | +---------------------+--------------------+------------------+-------------------+-------------------+----------------------+-------------------------+ | Ubuntu 24.04 | PASS | PASS | PASS | SKIPPED | SKIPPED | SKIPPED | +---------------------+--------------------+------------------+-------------------+-------------------+----------------------+-------------------------+ | Alpine | PASS | PASS | SKIPPED | SKIPPED | SKIPPED | SKIPPED | +---------------------+--------------------+------------------+-------------------+-------------------+----------------------+-------------------------+ | FreeBSD 13.4 | PASS | SKIPPED | SKIPPED | SKIPPED | SKIPPED | SKIPPED | +---------------------+--------------------+------------------+-------------------+-------------------+----------------------+-------------------------+ | FreeBSD 14.2 | PASS | SKIPPED | SKIPPED | SKIPPED | SKIPPED | SKIPPED | +---------------------+--------------------+------------------+-------------------+-------------------+----------------------+-------------------------+ | Windows Server 2022 | SKIPPED | SKIPPED | SKIPPED | PASS | PASS | PASS | +---------------------+--------------------+------------------+-------------------+-------------------+----------------------+-------------------------+ ==== 20 line log output for Ubuntu 20.04 (dpdk_compile_ovs): ==== --- Failed to get log output --- ==== End log output ==== CentOS Stream 9 Kernel: Depends on container host Compiler: gcc 11.5.0 20240719 (Red Hat 11.5.0-2) Debian Bullseye Kernel: Depends on container host Compiler: gcc (Debian 10.2.1-6) 10.2.1 20210110 Debian 12 Kernel: Depends on container host Compiler: gcc (Debian 12.2.0-14) 12.2.0 Fedora 40 Kernel: Depends on container host Compiler: gcc 14.2.1 20240912 (Red Hat 14.2.1-3) Fedora 41 (Clang) Kernel: Depends on container host Compiler: clang 19.1.5 (Fedora 19.1.5-1.fc41) Fedora 41 Kernel: Depends on container host Compiler: gcc 14.2.1 20240912 (Red Hat 14.2.1-3) Fedora 40 (Clang) Kernel: Depends on container host Compiler: clang 18.1.8 (Fedora 18.1.8-1.fc40) openSUSE Leap 15 Kernel: Depends on container host Compiler: gcc (SUSE Linux) 7.5.0 RHEL8 Kernel: Depends on container host Compiler: gcc 8.5.0 20210514 (Red Hat 8.5.0-22) RHEL9 Kernel: Depends on container host Compiler: gcc 11.5.0 20240719 (Red Hat 11.5.0-2) Ubuntu 20.04 Kernel: Depends on container host Compiler: gcc (Ubuntu 9.4.0-1ubuntu1~20.04.2) 9.4.0 Ubuntu 22.04 Kernel: Depends on container host Compiler: gcc (Ubuntu 11.4.0-1ubuntu1~22.04) 11.4.0 Ubuntu 24.04 Kernel: Depends on container host Compiler: gcc (Ubuntu 13.3.0-6ubuntu2~24.04) 13.3.0 Alpine Kernel: Depends on container host Compiler: gcc (Alpine 14.2.0) 14.2.0 FreeBSD 13.4 Kernel: 13.4-RELEASE-p1 Compiler: clang 18.1.6 FreeBSD 14.2 Kernel: 14.2-RELEASE Compiler: clang 18.1.6 Windows Server 2022 Kernel: 10.0.20348.2031 Compiler: clang 15.0.7, gcc 14.1.0 (MinGW), and MSVC VS 19.39.33521 To view detailed results, visit: https://lab.dpdk.org/results/dashboard/patchsets/32438/ UNH-IOL DPDK Community Lab To manage your email subscriptions, visit: https://lab.dpdk.org/results/dashboard/preferences/subscriptions/