From mboxrd@z Thu Jan 1 00:00:00 1970 Return-Path: Received: from mails.dpdk.org (mails.dpdk.org [217.70.189.124]) by inbox.dpdk.org (Postfix) with ESMTP id 015E846198 for ; Wed, 5 Feb 2025 09:22:07 +0100 (CET) Received: from mails.dpdk.org (localhost [127.0.0.1]) by mails.dpdk.org (Postfix) with ESMTP id D0F2E40289; Wed, 5 Feb 2025 09:22:07 +0100 (CET) Received: from mail-pl1-f228.google.com (mail-pl1-f228.google.com [209.85.214.228]) by mails.dpdk.org (Postfix) with ESMTP id 07AFA40270 for ; Wed, 5 Feb 2025 09:22:06 +0100 (CET) Received: by mail-pl1-f228.google.com with SMTP id d9443c01a7336-21f21cc7af5so1122125ad.2 for ; Wed, 05 Feb 2025 00:22:05 -0800 (PST) DKIM-Signature: v=1; a=rsa-sha256; c=relaxed/relaxed; d=iol.unh.edu; s=unh-iol; t=1738743725; x=1739348525; darn=dpdk.org; h=references:in-reply-to:cc:to:from:subject:message-id:date:from:to :cc:subject:date:message-id:reply-to; bh=Z9mg9yWMc3jN3Jn9a28bwEUzyDbpDAZdxmEuJ9Zk0kU=; b=VNYa2rQySN+NoL5v8Nx8sKFiDjPqJMy1Lv5+VL0yJRD5wfF9kZHt+6Pvcm8zt5p6BK qrI7ciaDIf04WfbfK0eZzQNVHKVkksVyjiyZ++6WTKT5RIUnABrEutztDlfCq66iCtme K8IcKMZ+D9Y9pPTFbMmFGgt3AGWIqSDz+AaCg= X-Google-DKIM-Signature: v=1; a=rsa-sha256; c=relaxed/relaxed; d=1e100.net; s=20230601; t=1738743725; x=1739348525; h=references:in-reply-to:cc:to:from:subject:message-id:date :x-gm-message-state:from:to:cc:subject:date:message-id:reply-to; bh=Z9mg9yWMc3jN3Jn9a28bwEUzyDbpDAZdxmEuJ9Zk0kU=; b=EZsx+XZ4r82FhIOEsgo4yw/g3Y59/sYAYOZo7GhG924SwToQZAbFs1v8C/shNKjNsZ BGYka2yA6rRW3IT7G7B5IA1IDObB91t+/Jv7maixAKQBlEok5MzW7RKBJPz4AjepLSek vInsvsEcU3Kyv6kEIbnwoM/9zx1mW/QS0H6Qhf+1wZqBhMaAR52z61jOfRxgrecbnYeZ 5gN/PDlufyUGji82N7VTvpMzWOPrWZKkRQM2fCh8YbU6JwNE13z69PoezMgn6n0Oy6hM cLH3DXcbA99DIAmFbElcEVLr/eJ1Oe1MjqtruVAijoc01PqO8euKkoZDH/8On4m5OuS4 j6XA== X-Gm-Message-State: AOJu0Ywx1xYZG+nVkGEbB3dmLmYciezEsi30K9/Br/Yj/5IOjMyuhYp3 MnuvlkwT4TTz0i/dw+A1Qs1lbP6aks4x4/ZYhZ5djGmsFa8RrT1hqLzllfXPRqCSq972dJUGYzJ 74EkDDzT0tLLKz9NkYFLeOgpTMBoNCA0f28pGqmz1 X-Gm-Gg: ASbGnctgq6E1pyjhUbHCcGScTb+2jh4zd5tWpwSxj5emYj0A7FgiRXuq/0Rvu3tAMW9 Xw6co2yLFrA+8x6cZhaqBBWzNKEXnSM8xHm8mfmX6Vpid/VsSkdQdN+sq2/imtSuuqblij2v354 9d0iRejFSNDDUT3vWG6Gc6wKuVzwwm3aJJbrtghOMJMMOeJ/upd5AlwkYkN7C6gHYbGds6aIZoZ p4zQwBPT8AcDiyLGtOIKpEoqxGAlfyCWg4erK7OmYFQFY8N32UoAZ6R9ziyrHjrJeRu0ZU0lofZ lTxhnmY4wFP6QXpzRxvYYuRXkfgJiA== X-Google-Smtp-Source: AGHT+IFSjlo9BRsnXj49rusrXvVRa0Eu40v6eR5njoa0Qew+aAYyx2kTv7/+7pjOI5vNXP1hdLDEEzDbPCKs X-Received: by 2002:a17:902:f54b:b0:21f:f02:4176 with SMTP id d9443c01a7336-21f17ecbcfamr36800285ad.33.1738743724924; Wed, 05 Feb 2025 00:22:04 -0800 (PST) Received: from postal.iol.unh.edu (postal.iol.unh.edu. [132.177.123.84]) by smtp-relay.gmail.com with ESMTPS id d9443c01a7336-21de326bf11sm6022385ad.53.2025.02.05.00.22.04 (version=TLS1_2 cipher=ECDHE-ECDSA-AES128-GCM-SHA256 bits=128/128); Wed, 05 Feb 2025 00:22:04 -0800 (PST) X-Relaying-Domain: iol.unh.edu Date: Wed, 05 Feb 2025 00:22:04 -0800 (PST) Message-ID: <67a31fac.170a0220.310144.afa8SMTPIN_ADDED_MISSING@mx.google.com> Received: from [172.21.0.7] (unknown [172.18.0.240]) by postal.iol.unh.edu (Postfix) with ESMTP id 14CFC6052471; Wed, 5 Feb 2025 03:22:04 -0500 (EST) Subject: |WARNING| pw150563 [PATCH] net/mlx5: fix GRE open matcher does not m From: dpdklab@iol.unh.edu To: Test Report Cc: dpdk-test-reports@iol.unh.edu In-Reply-To: <20250128075930.175636-1-mkashani@nvidia.com> References: <20250128075930.175636-1-mkashani@nvidia.com> Content-Type: text/plain X-BeenThere: test-report@dpdk.org X-Mailman-Version: 2.1.29 Precedence: list List-Id: automatic DPDK test reports List-Unsubscribe: , List-Archive: List-Post: List-Help: List-Subscribe: , Errors-To: test-report-bounces@dpdk.org Test-Label: iol-compile-amd64-testing Test-Status: WARNING http://dpdk.org/patch/150563 _Testing issues_ Submitter: Maayan Kashani Date: Tuesday, January 28 2025 07:59:30 DPDK git baseline: Repo:dpdk Branch: master CommitID:5d36a8ca4cf2f7daaa50012f2f4333c67e867dd1 150563 --> testing issues Upstream job id: Windows-Compile-DPDK-Native#26365 Test environment and result as below: +---------------------+--------------------+-------------------+------------------+-------------------+----------------------+-------------------------+ | Environment | dpdk_meson_compile | dpdk_msvc_compile | dpdk_compile_ovs | dpdk_compile_spdk | dpdk_mingw64_compile | dpdk_llvm_clang_compile | +=====================+====================+===================+==================+===================+======================+=========================+ | FreeBSD 13.4 | PASS | SKIPPED | SKIPPED | SKIPPED | SKIPPED | SKIPPED | +---------------------+--------------------+-------------------+------------------+-------------------+----------------------+-------------------------+ | FreeBSD 14.2 | PASS | SKIPPED | SKIPPED | SKIPPED | SKIPPED | SKIPPED | +---------------------+--------------------+-------------------+------------------+-------------------+----------------------+-------------------------+ | CentOS Stream 9 | PASS | SKIPPED | PASS | PASS | SKIPPED | SKIPPED | +---------------------+--------------------+-------------------+------------------+-------------------+----------------------+-------------------------+ | Debian 12 | PASS | SKIPPED | PASS | PASS | SKIPPED | SKIPPED | +---------------------+--------------------+-------------------+------------------+-------------------+----------------------+-------------------------+ | Fedora 40 (Clang) | PASS | SKIPPED | PASS | PASS | SKIPPED | SKIPPED | +---------------------+--------------------+-------------------+------------------+-------------------+----------------------+-------------------------+ | Fedora 40 | PASS | SKIPPED | PASS | PASS | SKIPPED | SKIPPED | +---------------------+--------------------+-------------------+------------------+-------------------+----------------------+-------------------------+ | Fedora 41 (Clang) | PASS | SKIPPED | PASS | PASS | SKIPPED | SKIPPED | +---------------------+--------------------+-------------------+------------------+-------------------+----------------------+-------------------------+ | Fedora 41 | PASS | SKIPPED | PASS | PASS | SKIPPED | SKIPPED | +---------------------+--------------------+-------------------+------------------+-------------------+----------------------+-------------------------+ | openSUSE Leap 15 | PASS | SKIPPED | SKIPPED | SKIPPED | SKIPPED | SKIPPED | +---------------------+--------------------+-------------------+------------------+-------------------+----------------------+-------------------------+ | RHEL8 | PASS | SKIPPED | PASS | SKIPPED | SKIPPED | SKIPPED | +---------------------+--------------------+-------------------+------------------+-------------------+----------------------+-------------------------+ | RHEL9 | PASS | SKIPPED | PASS | SKIPPED | SKIPPED | SKIPPED | +---------------------+--------------------+-------------------+------------------+-------------------+----------------------+-------------------------+ | Ubuntu 20.04 | PASS | SKIPPED | WARN | SKIPPED | SKIPPED | SKIPPED | +---------------------+--------------------+-------------------+------------------+-------------------+----------------------+-------------------------+ | Ubuntu 22.04 | PASS | SKIPPED | PASS | PASS | SKIPPED | SKIPPED | +---------------------+--------------------+-------------------+------------------+-------------------+----------------------+-------------------------+ | Ubuntu 24.04 | PASS | SKIPPED | PASS | PASS | SKIPPED | SKIPPED | +---------------------+--------------------+-------------------+------------------+-------------------+----------------------+-------------------------+ | Alpine | PASS | SKIPPED | PASS | SKIPPED | SKIPPED | SKIPPED | +---------------------+--------------------+-------------------+------------------+-------------------+----------------------+-------------------------+ | Debian Bullseye | PASS | SKIPPED | PASS | PASS | SKIPPED | SKIPPED | +---------------------+--------------------+-------------------+------------------+-------------------+----------------------+-------------------------+ | Windows Server 2022 | SKIPPED | PASS | SKIPPED | SKIPPED | PASS | PASS | +---------------------+--------------------+-------------------+------------------+-------------------+----------------------+-------------------------+ ==== 20 line log output for Ubuntu 20.04 (dpdk_compile_ovs): ==== --- Failed to get log output --- ==== End log output ==== FreeBSD 13.4 Kernel: 13.4-RELEASE-p1 Compiler: clang 18.1.6 FreeBSD 14.2 Kernel: 14.2-RELEASE Compiler: clang 18.1.6 CentOS Stream 9 Kernel: Depends on container host Compiler: gcc 11.5.0 20240719 (Red Hat 11.5.0-2) Debian 12 Kernel: Depends on container host Compiler: gcc (Debian 12.2.0-14) 12.2.0 Fedora 40 (Clang) Kernel: Depends on container host Compiler: clang 18.1.8 (Fedora 18.1.8-1.fc40) Fedora 40 Kernel: Depends on container host Compiler: gcc 14.2.1 20240912 (Red Hat 14.2.1-3) Fedora 41 (Clang) Kernel: Depends on container host Compiler: clang 19.1.5 (Fedora 19.1.5-1.fc41) Fedora 41 Kernel: Depends on container host Compiler: gcc 14.2.1 20240912 (Red Hat 14.2.1-3) openSUSE Leap 15 Kernel: Depends on container host Compiler: gcc (SUSE Linux) 7.5.0 RHEL8 Kernel: Depends on container host Compiler: gcc 8.5.0 20210514 (Red Hat 8.5.0-22) RHEL9 Kernel: Depends on container host Compiler: gcc 11.5.0 20240719 (Red Hat 11.5.0-2) Ubuntu 20.04 Kernel: Depends on container host Compiler: gcc (Ubuntu 9.4.0-1ubuntu1~20.04.2) 9.4.0 Ubuntu 22.04 Kernel: Depends on container host Compiler: gcc (Ubuntu 11.4.0-1ubuntu1~22.04) 11.4.0 Ubuntu 24.04 Kernel: Depends on container host Compiler: gcc (Ubuntu 13.3.0-6ubuntu2~24.04) 13.3.0 Alpine Kernel: Depends on container host Compiler: gcc (Alpine 14.2.0) 14.2.0 Debian Bullseye Kernel: Depends on container host Compiler: gcc (Debian 10.2.1-6) 10.2.1 20210110 Windows Server 2022 Kernel: 10.0.20348.2031 Compiler: clang 15.0.7, gcc 14.1.0 (MinGW), and MSVC VS 19.39.33521 To view detailed results, visit: https://lab.dpdk.org/results/dashboard/patchsets/32439/ UNH-IOL DPDK Community Lab To manage your email subscriptions, visit: https://lab.dpdk.org/results/dashboard/preferences/subscriptions/