From mboxrd@z Thu Jan 1 00:00:00 1970 Return-Path: Received: from mails.dpdk.org (mails.dpdk.org [217.70.189.124]) by inbox.dpdk.org (Postfix) with ESMTP id 8B95C46198 for ; Wed, 5 Feb 2025 09:28:05 +0100 (CET) Received: from mails.dpdk.org (localhost [127.0.0.1]) by mails.dpdk.org (Postfix) with ESMTP id 646F540289; Wed, 5 Feb 2025 09:28:05 +0100 (CET) Received: from mail-yw1-f226.google.com (mail-yw1-f226.google.com [209.85.128.226]) by mails.dpdk.org (Postfix) with ESMTP id A2E4040270 for ; Wed, 5 Feb 2025 09:28:03 +0100 (CET) Received: by mail-yw1-f226.google.com with SMTP id 00721157ae682-6efe4324f96so46233407b3.1 for ; Wed, 05 Feb 2025 00:28:03 -0800 (PST) DKIM-Signature: v=1; a=rsa-sha256; c=relaxed/relaxed; d=iol.unh.edu; s=unh-iol; t=1738744083; x=1739348883; darn=dpdk.org; h=cc:to:from:subject:message-id:date:from:to:cc:subject:date :message-id:reply-to; bh=N3gSR05XAHg63/mQV0JAwuRiraOlk/nBM1URb0WvWsk=; b=Jw4Kaf9Wp3o9THwSFj3xbzJviZ0ggzy4136p9dlECZm3cJ2kW36zd7pq2uVMC58ht1 bHG3/fuRKgNVWuTk9c217FK5I92WTGECr4sNhm+CktvzvB6IBhdFQCUOaOQg9fG41Dff kPjN+i7f/v3xfRcVo1qafNSZMtsS9CqAwKgeY= X-Google-DKIM-Signature: v=1; a=rsa-sha256; c=relaxed/relaxed; d=1e100.net; s=20230601; t=1738744083; x=1739348883; h=cc:to:from:subject:message-id:date:x-gm-message-state:from:to:cc :subject:date:message-id:reply-to; bh=N3gSR05XAHg63/mQV0JAwuRiraOlk/nBM1URb0WvWsk=; b=Kl5tcJ5c9ElqyHGZXOkdoMGM+bG9VEy5S9/kH2Ic86rk1nkXpq+ZsPz8wWUvAvaD91 6UWZSzYv+X8VerxEpn2xwp0ZMQk3kTv4I59aCjVXSmDnc59WpsukXDl+/N6/kKqTx1Dd PIYqNnnkreozie3Tnc/aJfBfdR2IcMlLS1S542CHIACBxmhyOK7PUdKPe3Nsi0cp1Nll 60YECqFypVM8CbeZKK2SWkdpqN36+9TqYwhjYxJKOT1WLgoW5lBpTYay1MwgWW7Pnp3Y tuX8DQZSyloqr+FTe6wW4EpalC+oc0fuzP7opxIBlzdPZ2spnWjOiXiDHE9Q4PEtFXCZ LYBQ== X-Gm-Message-State: AOJu0YxcFyytsU43Ww+7hBSbVOrxFuJwTiSYYr7JeDps4A9M55Y5CQgu qcoEZ/nLrRBNn+mMB5iiL8CFXM7fT+KH1l1z3TuvXWFhBFFAg0kHp7Y2JsToieRYJpcvmTycKUN idcvrTicfRr/OG3P+VJBQVOMIFtlXaQJwH7WLwub/2ajR7HkXAHkoMfRW X-Gm-Gg: ASbGncs+Xa+PRr+5PSAZfMfJOfJsM98lAqN3GIahD83ThZ3yO+ZMhFZ2TpzwhKps/B2 1Gyfh45HlW3b9iEu/skTqBcAzYNK+UHpI+UCJgLFrwM8F/t11Ab/mW1Fs04KVLWTLlAlprHzRKB hJ9qy27bZzEINV9RZllP1xHwcsqmPdiFDyTAMXyoLkffc4z8gGIkd/TRcExrTyrbKXMKADOKOgo UMWT/ui7VWwp4DsMgIvqVruFJxUdj3ssmhNbgQXijqvndk7qKZM81co+R9b487maZMD1Gfgswqv wuEkFvbB1YUebkLRZsKdsR2U2I+kxA7GBcLHpDsK3w== X-Google-Smtp-Source: AGHT+IH5DWj9GvfFt8RG8Hpj46cdgtydl5ic/Bx9sMBoK8K/UxJ9n2HrU5IHmbmRAJP2i6JTBoR/5Ko1Ugaa X-Received: by 2002:a05:690c:7002:b0:6f6:d537:b53b with SMTP id 00721157ae682-6f989f1a483mr14367707b3.24.1738744082959; Wed, 05 Feb 2025 00:28:02 -0800 (PST) Received: from postal.iol.unh.edu (postal.iol.unh.edu. [2606:4100:3880:1234::84]) by smtp-relay.gmail.com with ESMTPS id 00721157ae682-6f8c460bd83sm6433927b3.12.2025.02.05.00.28.02 (version=TLS1_2 cipher=ECDHE-ECDSA-AES128-GCM-SHA256 bits=128/128); Wed, 05 Feb 2025 00:28:02 -0800 (PST) X-Relaying-Domain: iol.unh.edu Date: Wed, 05 Feb 2025 00:28:02 -0800 (PST) Message-ID: <67a32112.050a0220.3368fe.c8daSMTPIN_ADDED_MISSING@mx.google.com> Received: from [172.21.0.5] (unknown [172.18.0.240]) by postal.iol.unh.edu (Postfix) with ESMTP id 8C0BF6052471; Wed, 5 Feb 2025 03:28:02 -0500 (EST) Subject: |WARNING| [GIT MASTER] 3ba602522abfc4db664008b89ec7c90cfbf7173d From: dpdklab@iol.unh.edu To: Test Report Cc: dpdk-test-reports@iol.unh.edu, Stephen Hemminger Content-Type: text/plain X-BeenThere: test-report@dpdk.org X-Mailman-Version: 2.1.29 Precedence: list List-Id: automatic DPDK test reports List-Unsubscribe: , List-Archive: List-Post: List-Help: List-Subscribe: , Errors-To: test-report-bounces@dpdk.org _Testing issues_ Branch: dpdk-next-net 3ba602522abfc4db664008b89ec7c90cfbf7173d --> testing issues Upstream job id: Windows-Compile-DPDK-Native#26366 Test environment and result as below: +---------------------+-------------------+--------------------+----------------------+------------------+-------------------+-------------------------+ | Environment | dpdk_msvc_compile | dpdk_meson_compile | dpdk_mingw64_compile | dpdk_compile_ovs | dpdk_compile_spdk | dpdk_llvm_clang_compile | +=====================+===================+====================+======================+==================+===================+=========================+ | Windows Server 2022 | PASS | SKIPPED | PASS | SKIPPED | SKIPPED | PASS | +---------------------+-------------------+--------------------+----------------------+------------------+-------------------+-------------------------+ | FreeBSD 13.4 | SKIPPED | PASS | SKIPPED | SKIPPED | SKIPPED | SKIPPED | +---------------------+-------------------+--------------------+----------------------+------------------+-------------------+-------------------------+ | FreeBSD 14.2 | SKIPPED | PASS | SKIPPED | SKIPPED | SKIPPED | SKIPPED | +---------------------+-------------------+--------------------+----------------------+------------------+-------------------+-------------------------+ | CentOS Stream 9 | SKIPPED | PASS | SKIPPED | PASS | PASS | SKIPPED | +---------------------+-------------------+--------------------+----------------------+------------------+-------------------+-------------------------+ | Debian Bullseye | SKIPPED | PASS | SKIPPED | PASS | PASS | SKIPPED | +---------------------+-------------------+--------------------+----------------------+------------------+-------------------+-------------------------+ | Debian 12 | SKIPPED | PASS | SKIPPED | PASS | PASS | SKIPPED | +---------------------+-------------------+--------------------+----------------------+------------------+-------------------+-------------------------+ | Fedora 40 (Clang) | SKIPPED | PASS | SKIPPED | PASS | PASS | SKIPPED | +---------------------+-------------------+--------------------+----------------------+------------------+-------------------+-------------------------+ | Fedora 40 | SKIPPED | PASS | SKIPPED | PASS | PASS | SKIPPED | +---------------------+-------------------+--------------------+----------------------+------------------+-------------------+-------------------------+ | Fedora 41 (Clang) | SKIPPED | PASS | SKIPPED | PASS | PASS | SKIPPED | +---------------------+-------------------+--------------------+----------------------+------------------+-------------------+-------------------------+ | Fedora 41 | SKIPPED | PASS | SKIPPED | PASS | PASS | SKIPPED | +---------------------+-------------------+--------------------+----------------------+------------------+-------------------+-------------------------+ | openSUSE Leap 15 | SKIPPED | PASS | SKIPPED | SKIPPED | SKIPPED | SKIPPED | +---------------------+-------------------+--------------------+----------------------+------------------+-------------------+-------------------------+ | RHEL8 | SKIPPED | PASS | SKIPPED | PASS | SKIPPED | SKIPPED | +---------------------+-------------------+--------------------+----------------------+------------------+-------------------+-------------------------+ | RHEL9 | SKIPPED | PASS | SKIPPED | PASS | SKIPPED | SKIPPED | +---------------------+-------------------+--------------------+----------------------+------------------+-------------------+-------------------------+ | Ubuntu 20.04 | SKIPPED | PASS | SKIPPED | WARN | SKIPPED | SKIPPED | +---------------------+-------------------+--------------------+----------------------+------------------+-------------------+-------------------------+ | Ubuntu 24.04 | SKIPPED | PASS | SKIPPED | PASS | PASS | SKIPPED | +---------------------+-------------------+--------------------+----------------------+------------------+-------------------+-------------------------+ | Alpine | SKIPPED | PASS | SKIPPED | PASS | SKIPPED | SKIPPED | +---------------------+-------------------+--------------------+----------------------+------------------+-------------------+-------------------------+ | Ubuntu 22.04 | SKIPPED | PASS | SKIPPED | PASS | PASS | SKIPPED | +---------------------+-------------------+--------------------+----------------------+------------------+-------------------+-------------------------+ ==== 20 line log output for Ubuntu 20.04 (dpdk_compile_ovs): ==== --- Failed to get log output --- ==== End log output ==== Windows Server 2022 Kernel: 10.0.20348.2031 Compiler: clang 15.0.7, gcc 14.1.0 (MinGW), and MSVC VS 19.39.33521 FreeBSD 13.4 Kernel: 13.4-RELEASE-p1 Compiler: clang 18.1.6 FreeBSD 14.2 Kernel: 14.2-RELEASE Compiler: clang 18.1.6 CentOS Stream 9 Kernel: Depends on container host Compiler: gcc 11.5.0 20240719 (Red Hat 11.5.0-2) Debian Bullseye Kernel: Depends on container host Compiler: gcc (Debian 10.2.1-6) 10.2.1 20210110 Debian 12 Kernel: Depends on container host Compiler: gcc (Debian 12.2.0-14) 12.2.0 Fedora 40 (Clang) Kernel: Depends on container host Compiler: clang 18.1.8 (Fedora 18.1.8-1.fc40) Fedora 40 Kernel: Depends on container host Compiler: gcc 14.2.1 20240912 (Red Hat 14.2.1-3) Fedora 41 (Clang) Kernel: Depends on container host Compiler: clang 19.1.5 (Fedora 19.1.5-1.fc41) Fedora 41 Kernel: Depends on container host Compiler: gcc 14.2.1 20240912 (Red Hat 14.2.1-3) openSUSE Leap 15 Kernel: Depends on container host Compiler: gcc (SUSE Linux) 7.5.0 RHEL8 Kernel: Depends on container host Compiler: gcc 8.5.0 20210514 (Red Hat 8.5.0-22) RHEL9 Kernel: Depends on container host Compiler: gcc 11.5.0 20240719 (Red Hat 11.5.0-2) Ubuntu 20.04 Kernel: Depends on container host Compiler: gcc (Ubuntu 9.4.0-1ubuntu1~20.04.2) 9.4.0 Ubuntu 24.04 Kernel: Depends on container host Compiler: gcc (Ubuntu 13.3.0-6ubuntu2~24.04) 13.3.0 Alpine Kernel: Depends on container host Compiler: gcc (Alpine 14.2.0) 14.2.0 Ubuntu 22.04 Kernel: Depends on container host Compiler: gcc (Ubuntu 11.4.0-1ubuntu1~22.04) 11.4.0 To view detailed results, visit: https://lab.dpdk.org/results/dashboard/tarballs/32366/ UNH-IOL DPDK Community Lab To manage your email subscriptions, visit: https://lab.dpdk.org/results/dashboard/preferences/subscriptions/