From mboxrd@z Thu Jan 1 00:00:00 1970 Return-Path: Received: from mails.dpdk.org (mails.dpdk.org [217.70.189.124]) by inbox.dpdk.org (Postfix) with ESMTP id 08D3046198 for ; Wed, 5 Feb 2025 09:33:28 +0100 (CET) Received: from mails.dpdk.org (localhost [127.0.0.1]) by mails.dpdk.org (Postfix) with ESMTP id D935C40289; Wed, 5 Feb 2025 09:33:27 +0100 (CET) Received: from mail-qv1-f98.google.com (mail-qv1-f98.google.com [209.85.219.98]) by mails.dpdk.org (Postfix) with ESMTP id 6978140270 for ; Wed, 5 Feb 2025 09:33:26 +0100 (CET) Received: by mail-qv1-f98.google.com with SMTP id 6a1803df08f44-6dfbc45355bso69096416d6.2 for ; Wed, 05 Feb 2025 00:33:26 -0800 (PST) DKIM-Signature: v=1; a=rsa-sha256; c=relaxed/relaxed; d=iol.unh.edu; s=unh-iol; t=1738744406; x=1739349206; darn=dpdk.org; h=references:in-reply-to:cc:to:from:subject:message-id:date:from:to :cc:subject:date:message-id:reply-to; bh=ZrduI8Z8GnATw0HsO3q5X5GCi8k/cJ+ZwCq7AOBTSpU=; b=HY9aE9p+zfXZfqfcXPyKRMUEaQJlHYT96xoOmzu2oF5WDYY5BVoHVMpafqP2kTf8uD 8eAjJP+GVfAYkEm73BrokrinDmgDqYm7E6HUUXgoybxxktP/nSMyEM+B154yn5fo+no3 ps6wa+adE/WInMsPP9kCxUDZhIYcZA2eEfitU= X-Google-DKIM-Signature: v=1; a=rsa-sha256; c=relaxed/relaxed; d=1e100.net; s=20230601; t=1738744406; x=1739349206; h=references:in-reply-to:cc:to:from:subject:message-id:date :x-gm-message-state:from:to:cc:subject:date:message-id:reply-to; bh=ZrduI8Z8GnATw0HsO3q5X5GCi8k/cJ+ZwCq7AOBTSpU=; b=u1vle7rQ6VyKCsgowUQedY/P1Jv216hNw0jZPaBrDml0i592BV5GDG2TEf1mz0MwKV IyuP9o67o7YLg1tuoIYEl3qzm7Xtk/qHaMvvcaA+Fy1M80XxsQmI0m/Xb4KPlkxz4IIz zzxDJBbdEnIpK549C2mn/HgY/VTWf5A4syPBlfhOuv8tZQ1GzA3soAf4EDIR3HhAqnUq ksGi4mUW3GrdM+L5O0ODaP7WmT4AKyN6H+dHIFrwTCeMxPeEnm1KnZytoABmKsbub22i 3zogZGpie70mxYIzKhC+Z2M+e3KPCaRbxD7zdcz0c0sO6BCP7/U/7CELEh67MNGZEwws AZvg== X-Gm-Message-State: AOJu0YxCJ33dufTyxRjK81QhjPEmdnXIsMs5X9FNlSY6VdMkL0Jtaz2o PVL+ulcAVIV+1hVbKs+rhSKpQhmim39QtJJmQZ7Wo0bcjuRfTe1QqD1HKYCsWOE6M9WFA9vw48N LJ6Fl80Q57FzeRQelqF6pEaa4INFcB5jTZ4x9bpfUYFl32Yw1EGokREBr X-Gm-Gg: ASbGncugEvMqsxJjqhFB8j3NHifLrvPzlEclnqfjJynEQJew5ZRi8dpVNOpRWuqxAvH 4W73hdxk6tHHTAuW8DQnl5V+26bcZ6zUeAj6aEmB4SlVpR8+DHjN+fhYRF7iIOZ5+/Nn0TW2YWi ePBup9YVFeP01LGJUP2629cwC+oqHSCeYh966c8JymlXzgMltiwDoDkSOB8TBi7hOCb1lAl+1nv f+LfIDWp/q4KNEbN5oIiPzXCK5z/tkqhk641kQSxgUCOmo0Gfg6ghFvjg39UO2KxuOPu0msp/EC OsgY9xMJwgHg+16GVM0HclkdQULQTxan/iTMh3woUQ== X-Google-Smtp-Source: AGHT+IEu3b4cmxfAwS6/Me8T09cIynXEk4Zi/+HQvXsxSsM1Ptw0xgP+UlB0a2e+eCG0wU57WBNELxwg9TOC X-Received: by 2002:a05:6214:5d85:b0:6d8:d79c:1cbd with SMTP id 6a1803df08f44-6e42fc219e0mr28189356d6.15.1738744405840; Wed, 05 Feb 2025 00:33:25 -0800 (PST) Received: from postal.iol.unh.edu (postal.iol.unh.edu. [2606:4100:3880:1234::84]) by smtp-relay.gmail.com with ESMTPS id 6a1803df08f44-6e254810ef7sm10059636d6.27.2025.02.05.00.33.25 (version=TLS1_2 cipher=ECDHE-ECDSA-AES128-GCM-SHA256 bits=128/128); Wed, 05 Feb 2025 00:33:25 -0800 (PST) X-Relaying-Domain: iol.unh.edu Date: Wed, 05 Feb 2025 00:33:25 -0800 (PST) Message-ID: <67a32255.050a0220.3b57ac.fb74SMTPIN_ADDED_MISSING@mx.google.com> Received: from [172.21.0.5] (unknown [172.18.0.240]) by postal.iol.unh.edu (Postfix) with ESMTP id 733F06052471; Wed, 5 Feb 2025 03:33:25 -0500 (EST) Subject: |SUCCESS| pw150893 [PATCH] net/af_packet: fix socket close on device From: dpdklab@iol.unh.edu To: Test Report Cc: dpdk-test-reports@iol.unh.edu In-Reply-To: <20250204164508.864080-1-tudor.cornea@gmail.com> References: <20250204164508.864080-1-tudor.cornea@gmail.com> Content-Type: text/plain X-BeenThere: test-report@dpdk.org X-Mailman-Version: 2.1.29 Precedence: list List-Id: automatic DPDK test reports List-Unsubscribe: , List-Archive: List-Post: List-Help: List-Subscribe: , Errors-To: test-report-bounces@dpdk.org Test-Label: iol-compile-arm64-testing Test-Status: SUCCESS http://dpdk.org/patch/150893 _Testing PASS_ Submitter: Tudor Cornea Date: Tuesday, February 04 2025 16:45:08 DPDK git baseline: Repo:dpdk Branch: master CommitID:595535be66b103f7ce3ba61939b8013032987404 150893 --> testing pass Upstream job id: Generic-DPDK-Compile-Meson#357749 Test environment and result as below: +----------------------------------------+--------------------+ | Environment | dpdk_meson_compile | +========================================+====================+ | RHEL9 (ARM) | PASS | +----------------------------------------+--------------------+ | Ubuntu 20.04 ARM GCC Cross Compile | PASS | +----------------------------------------+--------------------+ | Ubuntu 20.04 ARM SVE | PASS | +----------------------------------------+--------------------+ | Debian 12 with MUSDK | PASS | +----------------------------------------+--------------------+ | Fedora 40 (ARM) | PASS | +----------------------------------------+--------------------+ | Fedora 41 (ARM) | PASS | +----------------------------------------+--------------------+ | Fedora 41 (ARM Clang) | PASS | +----------------------------------------+--------------------+ | Ubuntu 20.04 (ARM) | PASS | +----------------------------------------+--------------------+ | Ubuntu 22.04 (ARM) | PASS | +----------------------------------------+--------------------+ | Ubuntu 24.04 (ARM) | PASS | +----------------------------------------+--------------------+ | CentOS Stream 9 (ARM) | PASS | +----------------------------------------+--------------------+ | Debian 11 (Buster) (ARM) | PASS | +----------------------------------------+--------------------+ | Debian 12 (arm) | PASS | +----------------------------------------+--------------------+ | Ubuntu 20.04 ARM Clang Cross Compile | PASS | +----------------------------------------+--------------------+ | Ubuntu 20.04 aarch32 GCC Cross Compile | PASS | +----------------------------------------+--------------------+ | Fedora 40 (ARM Clang) | PASS | +----------------------------------------+--------------------+ RHEL9 (ARM) Kernel: Depends on container host Compiler: gcc 11.5.0 20240719 (Red Hat 11.5.0-2) Ubuntu 20.04 ARM GCC Cross Compile Kernel: Depends on container host Compiler: aarch64-linux-gnu-gcc (Ubuntu 9.4.0-1ubuntu1~20.04.2) 9.4.0 Ubuntu 20.04 ARM SVE Kernel: Depends on container host Compiler: gcc (Ubuntu 10.5.0-1ubuntu1~20.04) 10.5.0 Debian 12 with MUSDK Kernel: Depends on container host Compiler: gcc (Debian 12.2.0-14) 12.2.0 Fedora 40 (ARM) Kernel: Depends on container host Compiler: gcc 14.2.1 20240912 (Red Hat 14.2.1-3) Fedora 41 (ARM) Kernel: Depends on container host Compiler: gcc 14.2.1 20240912 (Red Hat 14.2.1-3) Fedora 41 (ARM Clang) Kernel: Depends on container host Compiler: clang 19.1.5 (Fedora 19.1.5-1.fc41) Ubuntu 20.04 (ARM) Kernel: Depends on container host Compiler: gcc (Ubuntu 9.4.0-1ubuntu1~20.04.2) 9.4.0 Ubuntu 22.04 (ARM) Kernel: Depends on container host Compiler: gcc (Ubuntu 11.4.0-1ubuntu1~22.04) 11.4.0 Ubuntu 24.04 (ARM) Kernel: Depends on container host Compiler: gcc (Ubuntu 13.3.0-6ubuntu2~24.04) 13.3.0 CentOS Stream 9 (ARM) Kernel: Depends on container host Compiler: gcc 11.5.0 20240719 (Red Hat 11.5.0-2) Debian 11 (Buster) (ARM) Kernel: Depends on container host Compiler: gcc (Debian 10.2.1-6) 10.2.1 20210110 Debian 12 (arm) Kernel: Depends on container host Compiler: gcc (Debian 12.2.0-14) 12.2.0 Ubuntu 20.04 ARM Clang Cross Compile Kernel: Depends on container host Compiler: clang 10.0.0-4ubuntu1 Ubuntu 20.04 aarch32 GCC Cross Compile Kernel: Depends on container host Compiler: gcc 9.4.0 Fedora 40 (ARM Clang) Kernel: Depends on container host Compiler: clang 18.1.8 (Fedora 18.1.8-1.fc40) To view detailed results, visit: https://lab.dpdk.org/results/dashboard/patchsets/32490/ UNH-IOL DPDK Community Lab To manage your email subscriptions, visit: https://lab.dpdk.org/results/dashboard/preferences/subscriptions/