From mboxrd@z Thu Jan 1 00:00:00 1970 Return-Path: Received: from mails.dpdk.org (mails.dpdk.org [217.70.189.124]) by inbox.dpdk.org (Postfix) with ESMTP id 823A946198 for ; Wed, 5 Feb 2025 09:59:41 +0100 (CET) Received: from mails.dpdk.org (localhost [127.0.0.1]) by mails.dpdk.org (Postfix) with ESMTP id 58ACD40289; Wed, 5 Feb 2025 09:59:41 +0100 (CET) Received: from mail-il1-f225.google.com (mail-il1-f225.google.com [209.85.166.225]) by mails.dpdk.org (Postfix) with ESMTP id 00BF040270 for ; Wed, 5 Feb 2025 09:59:39 +0100 (CET) Received: by mail-il1-f225.google.com with SMTP id e9e14a558f8ab-3d0465a8d34so10393535ab.0 for ; Wed, 05 Feb 2025 00:59:39 -0800 (PST) DKIM-Signature: v=1; a=rsa-sha256; c=relaxed/relaxed; d=iol.unh.edu; s=unh-iol; t=1738745979; x=1739350779; darn=dpdk.org; h=cc:to:from:subject:message-id:date:from:to:cc:subject:date :message-id:reply-to; bh=OK/95GgloLsO5A4RGCGeD0EvCKTVAOFYkpJPzFz5FXg=; b=OotglB00/92o7N2Q83ae3GKxTK/QHO9HlA01UPA39imePFrxN66gPwGPhX7IHD1eVI r7feXpZgzNpJbQfk3T/G62PwnglDW98tY2s+dFcg7a88jSJwaSkZKboPeozRbfbRbhDi IqbAKB8hBoncIzE6rhIyTur5eKgQ91F6nWy6w= X-Google-DKIM-Signature: v=1; a=rsa-sha256; c=relaxed/relaxed; d=1e100.net; s=20230601; t=1738745979; x=1739350779; h=cc:to:from:subject:message-id:date:x-gm-message-state:from:to:cc :subject:date:message-id:reply-to; bh=OK/95GgloLsO5A4RGCGeD0EvCKTVAOFYkpJPzFz5FXg=; b=xHn7H+VdVOY/44Q9wXH0QkTB4/P1YzUEUgeIZZyBqf8OsrzIj77xn6U6e9ba4Pdj/L Yis4IUJJ1bqzoVkOR5Kc28tBKfiEmNDbF7L7h6//zLTOJ8hx2WFdWeZxb6Vl3dybV8qI xB8hRQ/FolM+KCLvlfiOgYCIWiKaDzG1UZ7uUUGtvl3jibb4VALLfN4M9PZJ+FrdIyJf dWSlUBkZxW8XK3H0gfutYiYIPh6kr+kDDc50HaV6vYyRhzeDHxXROXo4sju7EnD6thZ8 x5BygQTYvBDe+9Tk9NKcifxIoMmfNLawekn2YRrl2ljC/QuL4oduXy3CJ/uPw5rVlNRS aA0Q== X-Gm-Message-State: AOJu0Ywu9v5q3aypaXsSldiePmafzCayrwVxhsmzJXTXFaEr8NPsxpyf j6dXRQxJ2Oky/fymTideZoAi5aS4NNEFEbIMrM2NCUDo9aZ43/ENEVsFBGtnn5F/NwoWyI/k4DP z966N/cktuMFtQWnWFs0MZaO+6qvdkBmbfLdvjfNz X-Gm-Gg: ASbGncv6zxADo7ylcTqeSEIQ4sPcb2Yp0aiV0L9hHteZRpjff/25aumaa5QF6D7DpYb CtMnieIqjcMEP04T1oa90vkdeGbugdtfhEu6vtG6N27J8xZ7d+UzmCYRrab570D4lbxszNqfXXt ARTw6XRHLGiPmFYmsrAwtmS1Tfzavi9Lbdp7fJWvASv5UV+1m9zuvcF4JhvqopVyDSN2f/LptHH oL5hBUzkbBlBylgKam8rBzn69ZAzkqgyRnDVMTJXpYGukstRwBTI4Y059RUuYv9OP39qnc35tFc pIP5zGLrbEx4Yiy5NTQKQrKTbV9bpA== X-Google-Smtp-Source: AGHT+IHI6RqjM469cVdJNFmcsr60w2lFlk55F/oQSw4W36ftvfBOKGOm1yxIsRqFVePaWMAOXRx2zJMQ2+rH X-Received: by 2002:a05:6e02:170e:b0:3cf:b5d2:cf44 with SMTP id e9e14a558f8ab-3d04f8f7004mr15458885ab.15.1738745979229; Wed, 05 Feb 2025 00:59:39 -0800 (PST) Received: from postal.iol.unh.edu (postal.iol.unh.edu. [132.177.123.84]) by smtp-relay.gmail.com with ESMTPS id e9e14a558f8ab-3d050bdbfaasm767575ab.28.2025.02.05.00.59.39 (version=TLS1_2 cipher=ECDHE-ECDSA-AES128-GCM-SHA256 bits=128/128); Wed, 05 Feb 2025 00:59:39 -0800 (PST) X-Relaying-Domain: iol.unh.edu Date: Wed, 05 Feb 2025 00:59:39 -0800 (PST) Message-ID: <67a3287b.050a0220.befc4.34d8SMTPIN_ADDED_MISSING@mx.google.com> Received: from [172.21.0.7] (unknown [172.18.0.240]) by postal.iol.unh.edu (Postfix) with ESMTP id AA46D6052471; Wed, 5 Feb 2025 03:59:38 -0500 (EST) Subject: |WARNING| [GIT MASTER] 5b856206c74bbcf19e12cafa15382a7e15b0a1b5 From: dpdklab@iol.unh.edu To: Test Report Cc: dpdk-test-reports@iol.unh.edu Content-Type: text/plain X-BeenThere: test-report@dpdk.org X-Mailman-Version: 2.1.29 Precedence: list List-Id: automatic DPDK test reports List-Unsubscribe: , List-Archive: List-Post: List-Help: List-Subscribe: , Errors-To: test-report-bounces@dpdk.org _Testing issues_ Branch: dpdk 5b856206c74bbcf19e12cafa15382a7e15b0a1b5 --> testing issues Upstream job id: Windows-Compile-DPDK-Native#26371 Test environment and result as below: +---------------------+--------------------+------------------+-------------------+-------------------+----------------------+-------------------------+ | Environment | dpdk_meson_compile | dpdk_compile_ovs | dpdk_compile_spdk | dpdk_msvc_compile | dpdk_mingw64_compile | dpdk_llvm_clang_compile | +=====================+====================+==================+===================+===================+======================+=========================+ | CentOS Stream 9 | PASS | PASS | PASS | SKIPPED | SKIPPED | SKIPPED | +---------------------+--------------------+------------------+-------------------+-------------------+----------------------+-------------------------+ | Debian Bullseye | PASS | PASS | PASS | SKIPPED | SKIPPED | SKIPPED | +---------------------+--------------------+------------------+-------------------+-------------------+----------------------+-------------------------+ | Debian 12 | PASS | PASS | PASS | SKIPPED | SKIPPED | SKIPPED | +---------------------+--------------------+------------------+-------------------+-------------------+----------------------+-------------------------+ | Fedora 40 | PASS | PASS | PASS | SKIPPED | SKIPPED | SKIPPED | +---------------------+--------------------+------------------+-------------------+-------------------+----------------------+-------------------------+ | Fedora 41 (Clang) | PASS | PASS | PASS | SKIPPED | SKIPPED | SKIPPED | +---------------------+--------------------+------------------+-------------------+-------------------+----------------------+-------------------------+ | Fedora 40 (Clang) | PASS | PASS | PASS | SKIPPED | SKIPPED | SKIPPED | +---------------------+--------------------+------------------+-------------------+-------------------+----------------------+-------------------------+ | openSUSE Leap 15 | PASS | SKIPPED | SKIPPED | SKIPPED | SKIPPED | SKIPPED | +---------------------+--------------------+------------------+-------------------+-------------------+----------------------+-------------------------+ | RHEL9 | PASS | PASS | SKIPPED | SKIPPED | SKIPPED | SKIPPED | +---------------------+--------------------+------------------+-------------------+-------------------+----------------------+-------------------------+ | RHEL8 | PASS | PASS | SKIPPED | SKIPPED | SKIPPED | SKIPPED | +---------------------+--------------------+------------------+-------------------+-------------------+----------------------+-------------------------+ | Ubuntu 20.04 | PASS | WARN | SKIPPED | SKIPPED | SKIPPED | SKIPPED | +---------------------+--------------------+------------------+-------------------+-------------------+----------------------+-------------------------+ | Ubuntu 22.04 | PASS | PASS | PASS | SKIPPED | SKIPPED | SKIPPED | +---------------------+--------------------+------------------+-------------------+-------------------+----------------------+-------------------------+ | Arch Linux | PASS | PASS | SKIPPED | SKIPPED | SKIPPED | SKIPPED | +---------------------+--------------------+------------------+-------------------+-------------------+----------------------+-------------------------+ | Alpine | PASS | PASS | SKIPPED | SKIPPED | SKIPPED | SKIPPED | +---------------------+--------------------+------------------+-------------------+-------------------+----------------------+-------------------------+ | Ubuntu 24.04 | PASS | PASS | PASS | SKIPPED | SKIPPED | SKIPPED | +---------------------+--------------------+------------------+-------------------+-------------------+----------------------+-------------------------+ | FreeBSD 13.4 | PASS | SKIPPED | SKIPPED | SKIPPED | SKIPPED | SKIPPED | +---------------------+--------------------+------------------+-------------------+-------------------+----------------------+-------------------------+ | FreeBSD 14.2 | PASS | SKIPPED | SKIPPED | SKIPPED | SKIPPED | SKIPPED | +---------------------+--------------------+------------------+-------------------+-------------------+----------------------+-------------------------+ | Fedora 41 | PASS | PASS | PASS | SKIPPED | SKIPPED | SKIPPED | +---------------------+--------------------+------------------+-------------------+-------------------+----------------------+-------------------------+ | Windows Server 2022 | SKIPPED | SKIPPED | SKIPPED | PASS | PASS | PASS | +---------------------+--------------------+------------------+-------------------+-------------------+----------------------+-------------------------+ ==== 20 line log output for Ubuntu 20.04 (dpdk_compile_ovs): ==== --- Failed to get log output --- ==== End log output ==== CentOS Stream 9 Kernel: Depends on container host Compiler: gcc 11.5.0 20240719 (Red Hat 11.5.0-2) Debian Bullseye Kernel: Depends on container host Compiler: gcc (Debian 10.2.1-6) 10.2.1 20210110 Debian 12 Kernel: Depends on container host Compiler: gcc (Debian 12.2.0-14) 12.2.0 Fedora 40 Kernel: Depends on container host Compiler: gcc 14.2.1 20240912 (Red Hat 14.2.1-3) Fedora 41 (Clang) Kernel: Depends on container host Compiler: clang 19.1.5 (Fedora 19.1.5-1.fc41) Fedora 40 (Clang) Kernel: Depends on container host Compiler: clang 18.1.8 (Fedora 18.1.8-1.fc40) openSUSE Leap 15 Kernel: Depends on container host Compiler: gcc (SUSE Linux) 7.5.0 RHEL9 Kernel: Depends on container host Compiler: gcc 11.5.0 20240719 (Red Hat 11.5.0-2) RHEL8 Kernel: Depends on container host Compiler: gcc 8.5.0 20210514 (Red Hat 8.5.0-22) Ubuntu 20.04 Kernel: Depends on container host Compiler: gcc (Ubuntu 9.4.0-1ubuntu1~20.04.2) 9.4.0 Ubuntu 22.04 Kernel: Depends on container host Compiler: gcc (Ubuntu 11.4.0-1ubuntu1~22.04) 11.4.0 Arch Linux Kernel: Depends on container host Compiler: gcc 14.2.1 20240910 Alpine Kernel: Depends on container host Compiler: gcc (Alpine 14.2.0) 14.2.0 Ubuntu 24.04 Kernel: Depends on container host Compiler: gcc (Ubuntu 13.3.0-6ubuntu2~24.04) 13.3.0 FreeBSD 13.4 Kernel: 13.4-RELEASE-p1 Compiler: clang 18.1.6 FreeBSD 14.2 Kernel: 14.2-RELEASE Compiler: clang 18.1.6 Fedora 41 Kernel: Depends on container host Compiler: gcc 14.2.1 20240912 (Red Hat 14.2.1-3) Windows Server 2022 Kernel: 10.0.20348.2031 Compiler: clang 15.0.7, gcc 14.1.0 (MinGW), and MSVC VS 19.39.33521 To view detailed results, visit: https://lab.dpdk.org/results/dashboard/tarballs/32361/ UNH-IOL DPDK Community Lab To manage your email subscriptions, visit: https://lab.dpdk.org/results/dashboard/preferences/subscriptions/