From mboxrd@z Thu Jan 1 00:00:00 1970 Return-Path: Received: from mails.dpdk.org (mails.dpdk.org [217.70.189.124]) by inbox.dpdk.org (Postfix) with ESMTP id 89A564619A for ; Wed, 5 Feb 2025 10:08:11 +0100 (CET) Received: from mails.dpdk.org (localhost [127.0.0.1]) by mails.dpdk.org (Postfix) with ESMTP id 5E7C640289; Wed, 5 Feb 2025 10:08:11 +0100 (CET) Received: from mail-pj1-f99.google.com (mail-pj1-f99.google.com [209.85.216.99]) by mails.dpdk.org (Postfix) with ESMTP id D75C340270 for ; Wed, 5 Feb 2025 10:08:09 +0100 (CET) Received: by mail-pj1-f99.google.com with SMTP id 98e67ed59e1d1-2f9ef7a3c3cso131284a91.1 for ; Wed, 05 Feb 2025 01:08:09 -0800 (PST) DKIM-Signature: v=1; a=rsa-sha256; c=relaxed/relaxed; d=iol.unh.edu; s=unh-iol; t=1738746489; x=1739351289; darn=dpdk.org; h=references:in-reply-to:cc:to:from:subject:message-id:date:from:to :cc:subject:date:message-id:reply-to; bh=RrM8kfeR3FcJILQN1jxbqssz/lYDRI72hI780Kbn/Us=; b=MX6MfXVYWDdFJNUgntxBnZI+j1LTq1xsQ3ypIC53cDnCciJySCATD4us7CldyIKg0Q httdxSH20xUrHSN2wD0B7s8vTB9xk4BIGKqQgu66JyQe6wYoiNcWAO9qG6A4+qMq5Gif xMiBV2KrorwSuqhlNPPixW29KxSqsQBw7Z1lY= X-Google-DKIM-Signature: v=1; a=rsa-sha256; c=relaxed/relaxed; d=1e100.net; s=20230601; t=1738746489; x=1739351289; h=references:in-reply-to:cc:to:from:subject:message-id:date :x-gm-message-state:from:to:cc:subject:date:message-id:reply-to; bh=RrM8kfeR3FcJILQN1jxbqssz/lYDRI72hI780Kbn/Us=; b=IMCHUY++VS3lVdN33gx7V0eYvSm3+hB6DJuNgmF9oTXHAV0/xjRx+uY3GeV1WS0Qaf Xf+YuU3gwA89l4mdxKvMWaykgU0rJhGrnTFmm2aujP642YIfrzfsdAxLGiDwS/W7dku5 +RXtKY5HuQq6jn3eYPA1bomlUmFscBqMC8vMW9k1I9LUfSXEmYILZ/grx1T7tiSdKb/a vev+woNyKKaa3jo06+hW6nnYROYXUYUh3t28dPmRNlKMatyzn5gM38hRXSZrFGcT902O 51b+4Laa2cHqRigrZ+FJUhjcBXUMcYB7kKW7V9V89DqqdAJO+Qx+pTOkI4XRy3SXBG8P 8J7w== X-Gm-Message-State: AOJu0Yw/f45RTUwu22DZqx/rZHOTRaeJ12S8x4zx3ydAxDfZPZHLDjl4 IzkUX7h8VMhksXFpMnETAFVvnScAuZykJ+ofXhyZLuRTc8Rnx1qRreipAsXMC8V5Fra+dfoAf9W kGuyITghMQ+9MP5rU3D2XoOVgDs1dVk9+jUTQ+GRxRlnp5gQ8DCRYhfPD X-Gm-Gg: ASbGncs+GGF3CkgRktZjnSOb/oGUh1C8lpr+7zkE3ILHfze2IeSqRSviI8eUt1w1Eu/ WWwfbQXRdExZh/Tb8m5Ctlrj10MtSOe7r38DxCCWr/tKit+Ck9UPif9marTWB6/seeEwhVcrGfu nosc6XFQ4KVEwWEFZROHW96NIRrN2kNhP+bEgEEUuOOL56Lk/7dCTO+DXps66Quig91vBuLoExS XOwMj/O+QonZuuhnq7bJxtdboHr27O+7DvDLLvEbuINhcJH+HemL/9jRpC+637J2LE4jhqJbQe0 e9/a1i6WxxgJZbMBvY6YegqGX1qRQ8yTafSeJqSJaw== X-Google-Smtp-Source: AGHT+IGCexbwQ/v9CRpXLNGT+5DH28GdG2ZfCt2+1606YYUwijj5vyqw+dH3cF/EfebcDYvgYVK0JGoFayPy X-Received: by 2002:a17:90b:4acd:b0:2ea:8aac:6ac1 with SMTP id 98e67ed59e1d1-2f9dff8b603mr3814658a91.15.1738746488916; Wed, 05 Feb 2025 01:08:08 -0800 (PST) Received: from postal.iol.unh.edu (postal.iol.unh.edu. [2606:4100:3880:1234::84]) by smtp-relay.gmail.com with ESMTPS id 98e67ed59e1d1-2f9e1d63d18sm99587a91.2.2025.02.05.01.08.08 (version=TLS1_2 cipher=ECDHE-ECDSA-AES128-GCM-SHA256 bits=128/128); Wed, 05 Feb 2025 01:08:08 -0800 (PST) X-Relaying-Domain: iol.unh.edu Date: Wed, 05 Feb 2025 01:08:08 -0800 (PST) Message-ID: <67a32a78.170a0220.239d65.4431SMTPIN_ADDED_MISSING@mx.google.com> Received: from [172.21.0.5] (unknown [172.18.0.240]) by postal.iol.unh.edu (Postfix) with ESMTP id 181B96052471; Wed, 5 Feb 2025 04:08:08 -0500 (EST) Subject: |WARNING| pw150546-150552 [PATCH] [RFC,7/7] raw/ifpga: use EAL versi From: dpdklab@iol.unh.edu To: Test Report Cc: dpdk-test-reports@iol.unh.edu In-Reply-To: <20250127180842.97907-8-stephen@networkplumber.org> References: <20250127180842.97907-8-stephen@networkplumber.org> Content-Type: text/plain X-BeenThere: test-report@dpdk.org X-Mailman-Version: 2.1.29 Precedence: list List-Id: automatic DPDK test reports List-Unsubscribe: , List-Archive: List-Post: List-Help: List-Subscribe: , Errors-To: test-report-bounces@dpdk.org Test-Label: iol-compile-amd64-testing Test-Status: WARNING http://dpdk.org/patch/150552 _Testing issues_ Submitter: Stephen Hemminger Date: Monday, January 27 2025 18:04:01 DPDK git baseline: Repo:dpdk Branch: master CommitID:5b856206c74bbcf19e12cafa15382a7e15b0a1b5 150546-150552 --> testing issues Upstream job id: Windows-Compile-DPDK-Native#26372 Test environment and result as below: +---------------------+--------------------+------------------+-------------------+-------------------+----------------------+-------------------------+ | Environment | dpdk_meson_compile | dpdk_compile_ovs | dpdk_compile_spdk | dpdk_msvc_compile | dpdk_mingw64_compile | dpdk_llvm_clang_compile | +=====================+====================+==================+===================+===================+======================+=========================+ | CentOS Stream 9 | PASS | PASS | PASS | SKIPPED | SKIPPED | SKIPPED | +---------------------+--------------------+------------------+-------------------+-------------------+----------------------+-------------------------+ | Debian Bullseye | PASS | PASS | PASS | SKIPPED | SKIPPED | SKIPPED | +---------------------+--------------------+------------------+-------------------+-------------------+----------------------+-------------------------+ | Fedora 40 | PASS | PASS | PASS | SKIPPED | SKIPPED | SKIPPED | +---------------------+--------------------+------------------+-------------------+-------------------+----------------------+-------------------------+ | Fedora 41 | PASS | PASS | PASS | SKIPPED | SKIPPED | SKIPPED | +---------------------+--------------------+------------------+-------------------+-------------------+----------------------+-------------------------+ | Fedora 40 (Clang) | PASS | PASS | PASS | SKIPPED | SKIPPED | SKIPPED | +---------------------+--------------------+------------------+-------------------+-------------------+----------------------+-------------------------+ | Fedora 41 (Clang) | PASS | PASS | PASS | SKIPPED | SKIPPED | SKIPPED | +---------------------+--------------------+------------------+-------------------+-------------------+----------------------+-------------------------+ | openSUSE Leap 15 | PASS | SKIPPED | SKIPPED | SKIPPED | SKIPPED | SKIPPED | +---------------------+--------------------+------------------+-------------------+-------------------+----------------------+-------------------------+ | Ubuntu 20.04 | PASS | WARN | SKIPPED | SKIPPED | SKIPPED | SKIPPED | +---------------------+--------------------+------------------+-------------------+-------------------+----------------------+-------------------------+ | RHEL9 | PASS | PASS | SKIPPED | SKIPPED | SKIPPED | SKIPPED | +---------------------+--------------------+------------------+-------------------+-------------------+----------------------+-------------------------+ | Alpine | PASS | PASS | SKIPPED | SKIPPED | SKIPPED | SKIPPED | +---------------------+--------------------+------------------+-------------------+-------------------+----------------------+-------------------------+ | RHEL8 | PASS | PASS | SKIPPED | SKIPPED | SKIPPED | SKIPPED | +---------------------+--------------------+------------------+-------------------+-------------------+----------------------+-------------------------+ | Ubuntu 22.04 | PASS | PASS | PASS | SKIPPED | SKIPPED | SKIPPED | +---------------------+--------------------+------------------+-------------------+-------------------+----------------------+-------------------------+ | Ubuntu 24.04 | PASS | PASS | PASS | SKIPPED | SKIPPED | SKIPPED | +---------------------+--------------------+------------------+-------------------+-------------------+----------------------+-------------------------+ | FreeBSD 13.4 | PASS | SKIPPED | SKIPPED | SKIPPED | SKIPPED | SKIPPED | +---------------------+--------------------+------------------+-------------------+-------------------+----------------------+-------------------------+ | FreeBSD 14.2 | PASS | SKIPPED | SKIPPED | SKIPPED | SKIPPED | SKIPPED | +---------------------+--------------------+------------------+-------------------+-------------------+----------------------+-------------------------+ | Debian 12 | PASS | PASS | PASS | SKIPPED | SKIPPED | SKIPPED | +---------------------+--------------------+------------------+-------------------+-------------------+----------------------+-------------------------+ | Windows Server 2022 | SKIPPED | SKIPPED | SKIPPED | PASS | PASS | PASS | +---------------------+--------------------+------------------+-------------------+-------------------+----------------------+-------------------------+ ==== 20 line log output for Ubuntu 20.04 (dpdk_compile_ovs): ==== --- Failed to get log output --- ==== End log output ==== CentOS Stream 9 Kernel: Depends on container host Compiler: gcc 11.5.0 20240719 (Red Hat 11.5.0-2) Debian Bullseye Kernel: Depends on container host Compiler: gcc (Debian 10.2.1-6) 10.2.1 20210110 Fedora 40 Kernel: Depends on container host Compiler: gcc 14.2.1 20240912 (Red Hat 14.2.1-3) Fedora 41 Kernel: Depends on container host Compiler: gcc 14.2.1 20240912 (Red Hat 14.2.1-3) Fedora 40 (Clang) Kernel: Depends on container host Compiler: clang 18.1.8 (Fedora 18.1.8-1.fc40) Fedora 41 (Clang) Kernel: Depends on container host Compiler: clang 19.1.5 (Fedora 19.1.5-1.fc41) openSUSE Leap 15 Kernel: Depends on container host Compiler: gcc (SUSE Linux) 7.5.0 Ubuntu 20.04 Kernel: Depends on container host Compiler: gcc (Ubuntu 9.4.0-1ubuntu1~20.04.2) 9.4.0 RHEL9 Kernel: Depends on container host Compiler: gcc 11.5.0 20240719 (Red Hat 11.5.0-2) Alpine Kernel: Depends on container host Compiler: gcc (Alpine 14.2.0) 14.2.0 RHEL8 Kernel: Depends on container host Compiler: gcc 8.5.0 20210514 (Red Hat 8.5.0-22) Ubuntu 22.04 Kernel: Depends on container host Compiler: gcc (Ubuntu 11.4.0-1ubuntu1~22.04) 11.4.0 Ubuntu 24.04 Kernel: Depends on container host Compiler: gcc (Ubuntu 13.3.0-6ubuntu2~24.04) 13.3.0 FreeBSD 13.4 Kernel: 13.4-RELEASE-p1 Compiler: clang 18.1.6 FreeBSD 14.2 Kernel: 14.2-RELEASE Compiler: clang 18.1.6 Debian 12 Kernel: Depends on container host Compiler: gcc (Debian 12.2.0-14) 12.2.0 Windows Server 2022 Kernel: 10.0.20348.2031 Compiler: clang 15.0.7, gcc 14.1.0 (MinGW), and MSVC VS 19.39.33521 To view detailed results, visit: https://lab.dpdk.org/results/dashboard/patchsets/32435/ UNH-IOL DPDK Community Lab To manage your email subscriptions, visit: https://lab.dpdk.org/results/dashboard/preferences/subscriptions/