From mboxrd@z Thu Jan 1 00:00:00 1970 Return-Path: Received: from mails.dpdk.org (mails.dpdk.org [217.70.189.124]) by inbox.dpdk.org (Postfix) with ESMTP id 100204619A for ; Wed, 5 Feb 2025 10:15:43 +0100 (CET) Received: from mails.dpdk.org (localhost [127.0.0.1]) by mails.dpdk.org (Postfix) with ESMTP id 171CB40289; Wed, 5 Feb 2025 10:15:42 +0100 (CET) Received: from mail-io1-f97.google.com (mail-io1-f97.google.com [209.85.166.97]) by mails.dpdk.org (Postfix) with ESMTP id E4E6C40270 for ; Wed, 5 Feb 2025 10:15:40 +0100 (CET) Received: by mail-io1-f97.google.com with SMTP id ca18e2360f4ac-851c4f1fb18so164386439f.2 for ; Wed, 05 Feb 2025 01:15:40 -0800 (PST) DKIM-Signature: v=1; a=rsa-sha256; c=relaxed/relaxed; d=iol.unh.edu; s=unh-iol; t=1738746940; x=1739351740; darn=dpdk.org; h=references:in-reply-to:cc:to:from:subject:message-id:date:from:to :cc:subject:date:message-id:reply-to; bh=kIVVp79GJb++GmZZjz1YUmbDRP77GjAWidftE1fdLbM=; b=U60d8sh9zEGYmfNakwJf4CcOP5YNtBmI/w9Ue2lLvr1KkcMQWmCq9b68wkeUP9fUyD +RSe7wqHI2McIVxKWZ876tPTNd6/0e/5RVxi+3PaEOx9hbPdENQU6NH0nv0F3X4fJqYQ ouluyQm0Xeol/vOW+IzdR7MWrmVwPfItjGHs0= X-Google-DKIM-Signature: v=1; a=rsa-sha256; c=relaxed/relaxed; d=1e100.net; s=20230601; t=1738746940; x=1739351740; h=references:in-reply-to:cc:to:from:subject:message-id:date :x-gm-message-state:from:to:cc:subject:date:message-id:reply-to; bh=kIVVp79GJb++GmZZjz1YUmbDRP77GjAWidftE1fdLbM=; b=bogKiCssXur7eF/+q37AyjiuBZ4PtSjCf7cYveC9oObTCr/CINdghN2ttdBEFd0pps XyZrfkub3GNu1YTKXfXCwzMc8NN+M9WQLZCYEp8rGwgU+k3U8LV143pn0wvy6fbepO2Q B8z4zJjAu0x2F4eU2K7jPBKHjlBDYGhHb4YgFRiNMYhc0+W4pstXYwcbXlEd8loaPdxL iwFICTXo5gzqTce4VigZSATc695dWoD6MFuZeIhca+eYt/QD14NlkN8LxFWV9Jpf+fNn Ri7mDmn7Z6N4hDNXjhz7JMMiBAfIslU4seBO6LuJuaJcBGsF6EgYEFK+tfcNFoKJlMmn YVQQ== X-Gm-Message-State: AOJu0Yy6yQNsYMyEHALDOfi6qp5TuQ/bSK4o2B+Ny/m1/GP7egwGNGeu 0WVVGJk8D6eMQ1JSlhzqNt1aeVoZfHC6wAPYlLbkHU/WN+IgJXZSPBBcOIp48THug8kG6vwL6zM R4kQIrOnt6R252VFjhtJkOkjV56W6onP14hTalUu2IT/tHh1zvRMOyvVF X-Gm-Gg: ASbGncumgKDMktBuuhY/d53igtkn2WyvJK6duOOFjn+yTjiIqkmhjpmO0E/XnXAxmxD odx1wNkwYMMtO7rosXP9vJBXob1jSToKR1UxQnWVDM71symLZS/DP81IOc6cl0wIg689laISPjh ehunLC51IhzzIvqKmGW0F/eQT3fi7g3ZI8M+R78dC8UqmocAUdg/mNu3km9W+8TnD1kaCdE+FdN 5K3GOTPSyEeZ0HwwWpSbPe3WaHl73miSqiJXFZr04CJaM0cVacDnIsMNo9O7BYRceO4TKB1MsZK Hrp2bNDw2HPU2DdzFHudeU5qJTqHcpYKYKOFD9N6ZQ== X-Google-Smtp-Source: AGHT+IGfRB9KTG7d27rp0bDZ9Atc4K153dX5X9/3HaLrojCuwXRaA2eyrONz5jbODec26+5j++5RlkC0fvwX X-Received: by 2002:a05:6602:b8f:b0:844:debf:24dc with SMTP id ca18e2360f4ac-854ea43f3f2mr243971439f.5.1738746940166; Wed, 05 Feb 2025 01:15:40 -0800 (PST) Received: from postal.iol.unh.edu (postal.iol.unh.edu. [2606:4100:3880:1234::84]) by smtp-relay.gmail.com with ESMTPS id 8926c6da1cb9f-4ec745b6a32sm786024173.30.2025.02.05.01.15.40 (version=TLS1_2 cipher=ECDHE-ECDSA-AES128-GCM-SHA256 bits=128/128); Wed, 05 Feb 2025 01:15:40 -0800 (PST) X-Relaying-Domain: iol.unh.edu Date: Wed, 05 Feb 2025 01:15:40 -0800 (PST) Message-ID: <67a32c3c.050a0220.2ee86e.58d2SMTPIN_ADDED_MISSING@mx.google.com> Received: from [172.21.0.5] (unknown [172.18.0.240]) by postal.iol.unh.edu (Postfix) with ESMTP id A18F06052471; Wed, 5 Feb 2025 04:15:39 -0500 (EST) Subject: |WARNING| pw150553-150555 [PATCH] [v3,3/3] drivers/crypto: use RTE_B From: dpdklab@iol.unh.edu To: Test Report Cc: dpdk-test-reports@iol.unh.edu In-Reply-To: <1738006389-17193-3-git-send-email-andremue@linux.microsoft.com> References: <1738006389-17193-3-git-send-email-andremue@linux.microsoft.com> Content-Type: text/plain X-BeenThere: test-report@dpdk.org X-Mailman-Version: 2.1.29 Precedence: list List-Id: automatic DPDK test reports List-Unsubscribe: , List-Archive: List-Post: List-Help: List-Subscribe: , Errors-To: test-report-bounces@dpdk.org Test-Label: iol-compile-amd64-testing Test-Status: WARNING http://dpdk.org/patch/150555 _Testing issues_ Submitter: Andre Muezerie Date: Monday, January 27 2025 19:33:09 DPDK git baseline: Repo:dpdk Branch: master CommitID:e110e9ecc60a78e26026496b1697863312f262a4 150553-150555 --> testing issues Upstream job id: Windows-Compile-DPDK-Native#26373 Test environment and result as below: +---------------------+--------------------+------------------+-------------------+-------------------+----------------------+-------------------------+ | Environment | dpdk_meson_compile | dpdk_compile_ovs | dpdk_compile_spdk | dpdk_msvc_compile | dpdk_mingw64_compile | dpdk_llvm_clang_compile | +=====================+====================+==================+===================+===================+======================+=========================+ | CentOS Stream 9 | PASS | PASS | PASS | SKIPPED | SKIPPED | SKIPPED | +---------------------+--------------------+------------------+-------------------+-------------------+----------------------+-------------------------+ | Debian Bullseye | PASS | PASS | PASS | SKIPPED | SKIPPED | SKIPPED | +---------------------+--------------------+------------------+-------------------+-------------------+----------------------+-------------------------+ | Debian 12 | PASS | PASS | PASS | SKIPPED | SKIPPED | SKIPPED | +---------------------+--------------------+------------------+-------------------+-------------------+----------------------+-------------------------+ | Fedora 40 (Clang) | PASS | PASS | PASS | SKIPPED | SKIPPED | SKIPPED | +---------------------+--------------------+------------------+-------------------+-------------------+----------------------+-------------------------+ | Fedora 40 | PASS | PASS | PASS | SKIPPED | SKIPPED | SKIPPED | +---------------------+--------------------+------------------+-------------------+-------------------+----------------------+-------------------------+ | Fedora 41 (Clang) | PASS | PASS | PASS | SKIPPED | SKIPPED | SKIPPED | +---------------------+--------------------+------------------+-------------------+-------------------+----------------------+-------------------------+ | RHEL8 | PASS | PASS | SKIPPED | SKIPPED | SKIPPED | SKIPPED | +---------------------+--------------------+------------------+-------------------+-------------------+----------------------+-------------------------+ | Ubuntu 20.04 | PASS | WARN | SKIPPED | SKIPPED | SKIPPED | SKIPPED | +---------------------+--------------------+------------------+-------------------+-------------------+----------------------+-------------------------+ | Fedora 41 | PASS | PASS | PASS | SKIPPED | SKIPPED | SKIPPED | +---------------------+--------------------+------------------+-------------------+-------------------+----------------------+-------------------------+ | openSUSE Leap 15 | PASS | SKIPPED | SKIPPED | SKIPPED | SKIPPED | SKIPPED | +---------------------+--------------------+------------------+-------------------+-------------------+----------------------+-------------------------+ | RHEL9 | PASS | PASS | SKIPPED | SKIPPED | SKIPPED | SKIPPED | +---------------------+--------------------+------------------+-------------------+-------------------+----------------------+-------------------------+ | Ubuntu 22.04 | PASS | PASS | PASS | SKIPPED | SKIPPED | SKIPPED | +---------------------+--------------------+------------------+-------------------+-------------------+----------------------+-------------------------+ | Ubuntu 24.04 | PASS | PASS | PASS | SKIPPED | SKIPPED | SKIPPED | +---------------------+--------------------+------------------+-------------------+-------------------+----------------------+-------------------------+ | Alpine | PASS | PASS | SKIPPED | SKIPPED | SKIPPED | SKIPPED | +---------------------+--------------------+------------------+-------------------+-------------------+----------------------+-------------------------+ | FreeBSD 13.4 | PASS | SKIPPED | SKIPPED | SKIPPED | SKIPPED | SKIPPED | +---------------------+--------------------+------------------+-------------------+-------------------+----------------------+-------------------------+ | FreeBSD 14.2 | PASS | SKIPPED | SKIPPED | SKIPPED | SKIPPED | SKIPPED | +---------------------+--------------------+------------------+-------------------+-------------------+----------------------+-------------------------+ | Windows Server 2022 | SKIPPED | SKIPPED | SKIPPED | PASS | PASS | PASS | +---------------------+--------------------+------------------+-------------------+-------------------+----------------------+-------------------------+ ==== 20 line log output for Ubuntu 20.04 (dpdk_compile_ovs): ==== --- Failed to get log output --- ==== End log output ==== CentOS Stream 9 Kernel: Depends on container host Compiler: gcc 11.5.0 20240719 (Red Hat 11.5.0-2) Debian Bullseye Kernel: Depends on container host Compiler: gcc (Debian 10.2.1-6) 10.2.1 20210110 Debian 12 Kernel: Depends on container host Compiler: gcc (Debian 12.2.0-14) 12.2.0 Fedora 40 (Clang) Kernel: Depends on container host Compiler: clang 18.1.8 (Fedora 18.1.8-1.fc40) Fedora 40 Kernel: Depends on container host Compiler: gcc 14.2.1 20240912 (Red Hat 14.2.1-3) Fedora 41 (Clang) Kernel: Depends on container host Compiler: clang 19.1.5 (Fedora 19.1.5-1.fc41) RHEL8 Kernel: Depends on container host Compiler: gcc 8.5.0 20210514 (Red Hat 8.5.0-22) Ubuntu 20.04 Kernel: Depends on container host Compiler: gcc (Ubuntu 9.4.0-1ubuntu1~20.04.2) 9.4.0 Fedora 41 Kernel: Depends on container host Compiler: gcc 14.2.1 20240912 (Red Hat 14.2.1-3) openSUSE Leap 15 Kernel: Depends on container host Compiler: gcc (SUSE Linux) 7.5.0 RHEL9 Kernel: Depends on container host Compiler: gcc 11.5.0 20240719 (Red Hat 11.5.0-2) Ubuntu 22.04 Kernel: Depends on container host Compiler: gcc (Ubuntu 11.4.0-1ubuntu1~22.04) 11.4.0 Ubuntu 24.04 Kernel: Depends on container host Compiler: gcc (Ubuntu 13.3.0-6ubuntu2~24.04) 13.3.0 Alpine Kernel: Depends on container host Compiler: gcc (Alpine 14.2.0) 14.2.0 FreeBSD 13.4 Kernel: 13.4-RELEASE-p1 Compiler: clang 18.1.6 FreeBSD 14.2 Kernel: 14.2-RELEASE Compiler: clang 18.1.6 Windows Server 2022 Kernel: 10.0.20348.2031 Compiler: clang 15.0.7, gcc 14.1.0 (MinGW), and MSVC VS 19.39.33521 To view detailed results, visit: https://lab.dpdk.org/results/dashboard/patchsets/32436/ UNH-IOL DPDK Community Lab To manage your email subscriptions, visit: https://lab.dpdk.org/results/dashboard/preferences/subscriptions/