From mboxrd@z Thu Jan 1 00:00:00 1970 Return-Path: Received: from mails.dpdk.org (mails.dpdk.org [217.70.189.124]) by inbox.dpdk.org (Postfix) with ESMTP id E31A64619A for ; Wed, 5 Feb 2025 10:21:39 +0100 (CET) Received: from mails.dpdk.org (localhost [127.0.0.1]) by mails.dpdk.org (Postfix) with ESMTP id B89FC40289; Wed, 5 Feb 2025 10:21:39 +0100 (CET) Received: from mail-pl1-f228.google.com (mail-pl1-f228.google.com [209.85.214.228]) by mails.dpdk.org (Postfix) with ESMTP id 6EFA740270 for ; Wed, 5 Feb 2025 10:21:37 +0100 (CET) Received: by mail-pl1-f228.google.com with SMTP id d9443c01a7336-2165cb60719so118795325ad.0 for ; Wed, 05 Feb 2025 01:21:37 -0800 (PST) DKIM-Signature: v=1; a=rsa-sha256; c=relaxed/relaxed; d=iol.unh.edu; s=unh-iol; t=1738747296; x=1739352096; darn=dpdk.org; h=references:in-reply-to:cc:to:from:subject:message-id:date:from:to :cc:subject:date:message-id:reply-to; bh=gSmTlbcr061/dxYGy1T8i6h43SYf9y7tSBFCae+hdR4=; b=SWKWfC0+iRDXm1NMIMpIP0aY7LJCpRdgyPJBXtdHdU8osk1IBfemQ1Cn3Wa3ktHVbH bBl/TxoD+jOQ3PvkVGFJ+rVMage4rMqN/ZcD1KSpShyXH/D1eq7m0Cb1EYc1H9pqP33V WyDggOpUQEnA0LWWy0M6WOV2r8Tmi8yAyID3E= X-Google-DKIM-Signature: v=1; a=rsa-sha256; c=relaxed/relaxed; d=1e100.net; s=20230601; t=1738747296; x=1739352096; h=references:in-reply-to:cc:to:from:subject:message-id:date :x-gm-message-state:from:to:cc:subject:date:message-id:reply-to; bh=gSmTlbcr061/dxYGy1T8i6h43SYf9y7tSBFCae+hdR4=; b=jBVUVIo8KATWHMqy80aJRjohONEcQd7jV9XJ6gI6xvv4KL6CJnMOus5h0K0w1FWsxz fJsnlMUnEkHkVEmRoRlTp6GClVVIJuVBccFqyLHYw2BdO21hIBgIfJLKqosaxXJ2jVxm p0x6D5PIEUXv06mUWDi8fLDP3LQihRcHdI/oN/6FDZV/07NhMBtwoaueYnwg8GbdkWoq 7Zvfawir0LgZiSTUVAfpFWs5j7s8H38dYuj8/orf6B6cutfzn7qzDNuSdlAWSxkCgFBj fIQLwITd/Qm9CAn2licOHO53B5bpV4gE0RMLLOGTpmGxNxbGw87E1la0F37fFLGc04qb et1Q== X-Gm-Message-State: AOJu0YxNk4DxpWFnjVOWyczInsj0lR86R4m8uY5zhs9LsvoyAdMfFOKx 1bDBApjLZj1H8dkzBqeBvqJC9rk7jUzUCZI5WqF8BNDiFZj985C5KnyjuLhFSdwzskYnUnfi9RX 8TF/RhekLYJVqR8NUjP/4HFlAwmuApbGKGqVZZvRMCNJAK7p3M3E8t7qN X-Gm-Gg: ASbGnct+MHF/DY+qUNwasNbJ0Rhr/eCnPslrO2zqS/kCEl5pOx4SmTTuTJmMwSYoTiE FevLehpeVPe1icBtH8BWS2pH26TUrw+3zQW9C360vsQv6GKh8UF40IT3YHayFZ0ldT22PAzpd8L wBQ2rgX26AnvEZJACpg2xghYGP0mSUFGGbk3xVhs9dDFQAIM+dW7zxg1kZnxGPp8m3XLHxJW965 9LdDr7mErhIuSgv8pxv5psIbzagZo3g246B60LYo9fguLL5vZTGGx3hPDRIQHdLObOYHUyIFlOf Ni1yYzHkuKwJ9uaFkPAiu6EblUq3sEnz5Z7DVJXSFQ== X-Google-Smtp-Source: AGHT+IEpkGmYkYHPvaJM96dv0NFurjN0ovt/qNUDUbhwrtwDg4ZcKsLauguP9zAs8m1ar70LJ7yWHZ9CUI0b X-Received: by 2002:a05:6a00:4608:b0:725:f1ca:fd8a with SMTP id d2e1a72fcca58-730351b893amr2935068b3a.19.1738747296372; Wed, 05 Feb 2025 01:21:36 -0800 (PST) Received: from postal.iol.unh.edu (postal.iol.unh.edu. [2606:4100:3880:1234::84]) by smtp-relay.gmail.com with ESMTPS id d2e1a72fcca58-72fe6a28c8esm1021803b3a.24.2025.02.05.01.21.36 (version=TLS1_2 cipher=ECDHE-ECDSA-AES128-GCM-SHA256 bits=128/128); Wed, 05 Feb 2025 01:21:36 -0800 (PST) X-Relaying-Domain: iol.unh.edu Date: Wed, 05 Feb 2025 01:21:36 -0800 (PST) Message-ID: <67a32da0.050a0220.ba740.f4bdSMTPIN_ADDED_MISSING@mx.google.com> Received: from [172.21.0.6] (unknown [172.18.0.240]) by postal.iol.unh.edu (Postfix) with ESMTP id 070E46052471; Wed, 5 Feb 2025 04:21:35 -0500 (EST) Subject: |SUCCESS| pw150893 [PATCH] net/af_packet: fix socket close on device From: dpdklab@iol.unh.edu To: Test Report Cc: dpdk-test-reports@iol.unh.edu In-Reply-To: <20250204164508.864080-1-tudor.cornea@gmail.com> References: <20250204164508.864080-1-tudor.cornea@gmail.com> Content-Type: text/plain X-BeenThere: test-report@dpdk.org X-Mailman-Version: 2.1.29 Precedence: list List-Id: automatic DPDK test reports List-Unsubscribe: , List-Archive: List-Post: List-Help: List-Subscribe: , Errors-To: test-report-bounces@dpdk.org Test-Label: iol-unit-arm64-testing Test-Status: SUCCESS http://dpdk.org/patch/150893 _Testing PASS_ Submitter: Tudor Cornea Date: Tuesday, February 04 2025 16:45:08 DPDK git baseline: Repo:dpdk Branch: master CommitID:595535be66b103f7ce3ba61939b8013032987404 150893 --> testing pass Upstream job id: Generic-Unit-Test-DPDK#311609 Test environment and result as below: +--------------------------+--------------+------------------------------+---------------------------+----------------+ | Environment | lpm_autotest | cryptodev_sw_snow3g_autotest | cryptodev_sw_zuc_autotest | dpdk_unit_test | +==========================+==============+==============================+===========================+================+ | Ubuntu 20.04 ARM SVE | PASS | SKIPPED | SKIPPED | SKIPPED | +--------------------------+--------------+------------------------------+---------------------------+----------------+ | Debian 12 (arm) | SKIPPED | PASS | PASS | PASS | +--------------------------+--------------+------------------------------+---------------------------+----------------+ | Debian 11 (Buster) (ARM) | SKIPPED | SKIPPED | SKIPPED | PASS | +--------------------------+--------------+------------------------------+---------------------------+----------------+ | CentOS Stream 9 (ARM) | SKIPPED | SKIPPED | SKIPPED | PASS | +--------------------------+--------------+------------------------------+---------------------------+----------------+ | Fedora 40 (ARM Clang) | SKIPPED | SKIPPED | SKIPPED | PASS | +--------------------------+--------------+------------------------------+---------------------------+----------------+ | Fedora 40 (ARM) | SKIPPED | SKIPPED | SKIPPED | PASS | +--------------------------+--------------+------------------------------+---------------------------+----------------+ | Fedora 41 (ARM) | SKIPPED | SKIPPED | SKIPPED | PASS | +--------------------------+--------------+------------------------------+---------------------------+----------------+ | RHEL9 (ARM) | SKIPPED | SKIPPED | SKIPPED | PASS | +--------------------------+--------------+------------------------------+---------------------------+----------------+ | Fedora 41 (ARM Clang) | SKIPPED | SKIPPED | SKIPPED | PASS | +--------------------------+--------------+------------------------------+---------------------------+----------------+ | Ubuntu 20.04 (ARM) | SKIPPED | SKIPPED | SKIPPED | PASS | +--------------------------+--------------+------------------------------+---------------------------+----------------+ | Ubuntu 22.04 (ARM) | SKIPPED | SKIPPED | SKIPPED | PASS | +--------------------------+--------------+------------------------------+---------------------------+----------------+ | Ubuntu 24.04 (ARM) | SKIPPED | SKIPPED | SKIPPED | PASS | +--------------------------+--------------+------------------------------+---------------------------+----------------+ Ubuntu 20.04 ARM SVE Kernel: Depends on container host Compiler: gcc (Ubuntu 10.5.0-1ubuntu1~20.04) 10.5.0 Debian 12 (arm) Kernel: Depends on container host Compiler: gcc (Debian 12.2.0-14) 12.2.0 Debian 11 (Buster) (ARM) Kernel: Depends on container host Compiler: gcc (Debian 10.2.1-6) 10.2.1 20210110 CentOS Stream 9 (ARM) Kernel: Depends on container host Compiler: gcc 11.5.0 20240719 (Red Hat 11.5.0-2) Fedora 40 (ARM Clang) Kernel: Depends on container host Compiler: clang 18.1.8 (Fedora 18.1.8-1.fc40) Fedora 40 (ARM) Kernel: Depends on container host Compiler: gcc 14.2.1 20240912 (Red Hat 14.2.1-3) Fedora 41 (ARM) Kernel: Depends on container host Compiler: gcc 14.2.1 20240912 (Red Hat 14.2.1-3) RHEL9 (ARM) Kernel: Depends on container host Compiler: gcc 11.5.0 20240719 (Red Hat 11.5.0-2) Fedora 41 (ARM Clang) Kernel: Depends on container host Compiler: clang 19.1.5 (Fedora 19.1.5-1.fc41) Ubuntu 20.04 (ARM) Kernel: Depends on container host Compiler: gcc (Ubuntu 9.4.0-1ubuntu1~20.04.2) 9.4.0 Ubuntu 22.04 (ARM) Kernel: Depends on container host Compiler: gcc (Ubuntu 11.4.0-1ubuntu1~22.04) 11.4.0 Ubuntu 24.04 (ARM) Kernel: Depends on container host Compiler: gcc (Ubuntu 13.3.0-6ubuntu2~24.04) 13.3.0 To view detailed results, visit: https://lab.dpdk.org/results/dashboard/patchsets/32490/ UNH-IOL DPDK Community Lab To manage your email subscriptions, visit: https://lab.dpdk.org/results/dashboard/preferences/subscriptions/