From mboxrd@z Thu Jan 1 00:00:00 1970 Return-Path: Received: from mails.dpdk.org (mails.dpdk.org [217.70.189.124]) by inbox.dpdk.org (Postfix) with ESMTP id 535814619A for ; Wed, 5 Feb 2025 10:24:29 +0100 (CET) Received: from mails.dpdk.org (localhost [127.0.0.1]) by mails.dpdk.org (Postfix) with ESMTP id 255FA40289; Wed, 5 Feb 2025 10:24:29 +0100 (CET) Received: from mail-pl1-f226.google.com (mail-pl1-f226.google.com [209.85.214.226]) by mails.dpdk.org (Postfix) with ESMTP id D801B40270 for ; Wed, 5 Feb 2025 10:24:27 +0100 (CET) Received: by mail-pl1-f226.google.com with SMTP id d9443c01a7336-21effc750d2so28444195ad.3 for ; Wed, 05 Feb 2025 01:24:27 -0800 (PST) DKIM-Signature: v=1; a=rsa-sha256; c=relaxed/relaxed; d=iol.unh.edu; s=unh-iol; t=1738747467; x=1739352267; darn=dpdk.org; h=cc:to:from:subject:message-id:date:from:to:cc:subject:date :message-id:reply-to; bh=VbE3OYEtsuXdW2sTm18+TXTME2Gzw6ZoHUJ4hCiKUTs=; b=Qk8dCxzc8OyKcLzSZUjeDZYAdVlel90SCUqaR33iCU+bmyyRj+dQsBLm2VaUmhYD9d HlFy5L+b2PDoLVlyLl3s/l0INbY29aHxN16wNO701qCN4lrw1OFF7xqCHvBz+mWDRxyl p33Pum50VagDHzSx0FUDpjYmJAJ3kAQO0Lg7g= X-Google-DKIM-Signature: v=1; a=rsa-sha256; c=relaxed/relaxed; d=1e100.net; s=20230601; t=1738747467; x=1739352267; h=cc:to:from:subject:message-id:date:x-gm-message-state:from:to:cc :subject:date:message-id:reply-to; bh=VbE3OYEtsuXdW2sTm18+TXTME2Gzw6ZoHUJ4hCiKUTs=; b=a8iAvPk7F1OhAJeOXUSTtG4/sRvJxhiSbGUURpKeyDDZlotonWK3DgA4tXAWC28bE0 /JRPVyIL4Ts1HyF1ja1HvBZakCcaN3NeTh210hf+MYvx8s+vRkoHASRpSUlvJ3l5LIoU IW+VbJcrdyLDQH4mSrSceOvZxKPwnyOcDjm1OOC7MpJpSFC3ubrrzPx5mudZfbr0d0Eq xBBmQ6RPRTtBQqeJbfnQAp3R8H4h3LkWlOW5Sckga/D/I2YvH3UDtPiSHEVrsh725Hdh yZcCLUrKF5v0nLs4NK7GLgOpLEjMEQgBCLZWrvR+gXBkVcyVfwvc5ftJJWNJirkjhFGt voPA== X-Gm-Message-State: AOJu0Yw5AEpzO9JyOjkH9nj6KMp+cXmXGZWpx6HQ4xCPbF8aiLSs894O 0fbsHVmtJlkvvHiY/+FRiOO5z4VwFBEb8PTkLvW+R6boUlW4Pk35NXynTIh9UdbDTV7Hj//+uLp 53WBU17O6V06dZW/vItj9WG9aDZSZHvUHoz5jh/VYYqGEujexYZpWfQ7m X-Gm-Gg: ASbGnctrvB+b6WpXlx/W3Rn1RcFoIK8dZhff3je3cGTTUbFUYN744JI5VF8PQuGukSD KDji+XL+D2tl5dGd9dwOC+3gyOpycrhml4t44ULwzjTi144kYy0ocoEEzJUX+VfzkC9c4UjI796 tsD7ygHe9rJRSqcDj/tmoe8I7JO3BNJKdgaf3n/146gcHlcwTnYj2IUTBQyo+XjktFIBXLTIcpG mPKJcuwclaALjPTYE7BsNwU/bzjpNXtO9tZS7FxtVYopAWg92e9PR6P63UGoIPcjN9bnPmTOie5 TmggNFLuzNaQM/fKeDIUYzgtN1JCj0d6iwH1ulqhGg== X-Google-Smtp-Source: AGHT+IE2VgHyDU+fpAE2jgCT8/tBdIQ/XuRB42YEAVL2qfhUP9L9U4eUOm2dKO9H7J7gtM2YSYNAUtViu7IH X-Received: by 2002:a17:902:ce86:b0:215:a60d:bcc9 with SMTP id d9443c01a7336-21f17dde083mr38708555ad.2.1738747466986; Wed, 05 Feb 2025 01:24:26 -0800 (PST) Received: from postal.iol.unh.edu (postal.iol.unh.edu. [2606:4100:3880:1234::84]) by smtp-relay.gmail.com with ESMTPS id d9443c01a7336-21de321aa57sm6458995ad.20.2025.02.05.01.24.26 (version=TLS1_2 cipher=ECDHE-ECDSA-AES128-GCM-SHA256 bits=128/128); Wed, 05 Feb 2025 01:24:26 -0800 (PST) X-Relaying-Domain: iol.unh.edu Date: Wed, 05 Feb 2025 01:24:26 -0800 (PST) Message-ID: <67a32e4a.170a0220.28b056.eb9dSMTPIN_ADDED_MISSING@mx.google.com> Received: from [172.21.0.5] (unknown [172.18.0.240]) by postal.iol.unh.edu (Postfix) with ESMTP id 67B6C6052471; Wed, 5 Feb 2025 04:24:26 -0500 (EST) Subject: |SUCCESS| [GIT MASTER] 595535be66b103f7ce3ba61939b8013032987404 From: dpdklab@iol.unh.edu To: Test Report Cc: dpdk-test-reports@iol.unh.edu, Stephen Hemminger Content-Type: text/plain X-BeenThere: test-report@dpdk.org X-Mailman-Version: 2.1.29 Precedence: list List-Id: automatic DPDK test reports List-Unsubscribe: , List-Archive: List-Post: List-Help: List-Subscribe: , Errors-To: test-report-bounces@dpdk.org _Testing PASS_ Branch: dpdk-next-net 595535be66b103f7ce3ba61939b8013032987404 --> testing pass Upstream job id: Windows-Compile-DPDK-Native#26374 Test environment and result as below: +---------------------+-------------------+--------------------+-------------------------+ | Environment | dpdk_msvc_compile | dpdk_meson_compile | dpdk_llvm_clang_compile | +=====================+===================+====================+=========================+ | Windows Server 2022 | PASS | SKIPPED | PASS | +---------------------+-------------------+--------------------+-------------------------+ | FreeBSD 13.4 | SKIPPED | PASS | SKIPPED | +---------------------+-------------------+--------------------+-------------------------+ | FreeBSD 14.2 | SKIPPED | PASS | SKIPPED | +---------------------+-------------------+--------------------+-------------------------+ Windows Server 2022 Kernel: 10.0.20348.2031 Compiler: clang 15.0.7, gcc 14.1.0 (MinGW), and MSVC VS 19.39.33521 FreeBSD 13.4 Kernel: 13.4-RELEASE-p1 Compiler: clang 18.1.6 FreeBSD 14.2 Kernel: 14.2-RELEASE Compiler: clang 18.1.6 To view detailed results, visit: https://lab.dpdk.org/results/dashboard/tarballs/32449/ UNH-IOL DPDK Community Lab To manage your email subscriptions, visit: https://lab.dpdk.org/results/dashboard/preferences/subscriptions/