From mboxrd@z Thu Jan 1 00:00:00 1970 Return-Path: Received: from mails.dpdk.org (mails.dpdk.org [217.70.189.124]) by inbox.dpdk.org (Postfix) with ESMTP id 6BBB44619A for ; Wed, 5 Feb 2025 10:34:11 +0100 (CET) Received: from mails.dpdk.org (localhost [127.0.0.1]) by mails.dpdk.org (Postfix) with ESMTP id 4F59D40289; Wed, 5 Feb 2025 10:34:11 +0100 (CET) Received: from mail-io1-f99.google.com (mail-io1-f99.google.com [209.85.166.99]) by mails.dpdk.org (Postfix) with ESMTP id 1F95940270 for ; Wed, 5 Feb 2025 10:34:10 +0100 (CET) Received: by mail-io1-f99.google.com with SMTP id ca18e2360f4ac-851c4ee2a37so153482539f.3 for ; Wed, 05 Feb 2025 01:34:10 -0800 (PST) DKIM-Signature: v=1; a=rsa-sha256; c=relaxed/relaxed; d=iol.unh.edu; s=unh-iol; t=1738748049; x=1739352849; darn=dpdk.org; h=references:in-reply-to:cc:to:from:subject:message-id:date:from:to :cc:subject:date:message-id:reply-to; bh=aNABzC5U/fkU3ZbdTQT88XQGKEB0l1/LK03KNc1SvPg=; b=CF2E5N4ztYr1J1IGyWA6tb9J9EdGJScPsNg+R04ysErs4nbhAJL+Vn/XcH9LUHmkWz uZBKcLRl0J+vXPzl+azPqFvfsfqVUhiwrHQnP7ksNGsgOtReHqnNiwgWeeQNMhaaEZRB W4MIUTWJ9MhoVC2t5pbBMZ3blLGDdfFto4uR0= X-Google-DKIM-Signature: v=1; a=rsa-sha256; c=relaxed/relaxed; d=1e100.net; s=20230601; t=1738748049; x=1739352849; h=references:in-reply-to:cc:to:from:subject:message-id:date :x-gm-message-state:from:to:cc:subject:date:message-id:reply-to; bh=aNABzC5U/fkU3ZbdTQT88XQGKEB0l1/LK03KNc1SvPg=; b=toXpbxxhSPXMNWjgSBSKC5DAkN6HLUA4Eq0yVGCjUuuRWXDT6w4X9OBLfyi9Zo4xWq r0tuW39H+fT7BATOvua+Z2P8m8C9MSK6FJ09lsQn/MVg2dgj9SQ0UC0a6Z+Gau0NFcmC v5nANkQfmNovdpoN+gst+5pa7aJjz5UTioLykprFMcqB+QE01XRC9+PWR1PuPsPF0aKO kxSf+5W7poLyB+FTjfVK8iFQHjbaY1yXB1IyzPmGyn2pxARnjdgHYzBwQX9DdQcJ176b cpGkqL3sHu8fEKs7u2N5sqjt8rG/VxNH8A90ZiaYVbGN5PmGL3Hbh84Vu58v2eHGDcdB veYA== X-Gm-Message-State: AOJu0YyHDYpkj7fVXQChMpiWhRJ+/znUg/sR0wxvly8ka2N+BWeVPH6U O7dzONsj4mS4sYuLFYJoAUQinKWDa2oI85sVCv9RkwM1PqOip77qJWWCzyjbO+x54QY6t86/iz6 lXTDz3G6kTU2/FD9SzyqLdCkPoNsHSGLBR3fyaDT0WyiCgLiNLE9NKIX/ X-Gm-Gg: ASbGncuh/5Jc2aUz0wWFbLeFf3SyItfZT+2JiyANyzaFUnfoeknn1a4U0P8jzOq6WDS l/+joucecZEliAxeKFjfO9PZAfi+aVzH2cNn24vPg5/hnmH4mMdgcnYhGTU+bOLci8BIj0FOzKE 00RYlYKMf+8KdruHX5cvxFW+4esPIdxnzD8KWblahB4I7OUrBVxqoHh5rw58sqMku801PLQr6M1 BtzPrYzqTVHdjYsL1FI22eEcGira8a4zBzL5ydO72eX0pVigzXi8z9L3u/ma4SvS3bOgJfhjn/w X9qMDVZVlsYvsqHbNQaxr2gcTM/nsHvAjCeLz32sZg== X-Google-Smtp-Source: AGHT+IGO4levkxOPdWw786ZLi9heH/PTba5Jox/oPJtib2gAZ8RADVh1rBqqX/0/Zw1uwuR+Wq5fPn4DhosC X-Received: by 2002:a05:6602:368a:b0:835:4402:e2eb with SMTP id ca18e2360f4ac-854ea461b13mr221186639f.7.1738748049418; Wed, 05 Feb 2025 01:34:09 -0800 (PST) Received: from postal.iol.unh.edu (postal.iol.unh.edu. [2606:4100:3880:1234::84]) by smtp-relay.gmail.com with ESMTPS id 8926c6da1cb9f-4ec745b63d8sm765079173.18.2025.02.05.01.34.09 (version=TLS1_2 cipher=ECDHE-ECDSA-AES128-GCM-SHA256 bits=128/128); Wed, 05 Feb 2025 01:34:09 -0800 (PST) X-Relaying-Domain: iol.unh.edu Date: Wed, 05 Feb 2025 01:34:09 -0800 (PST) Message-ID: <67a33091.050a0220.74358.2e2cSMTPIN_ADDED_MISSING@mx.google.com> Received: from [172.21.0.5] (unknown [172.18.0.240]) by postal.iol.unh.edu (Postfix) with ESMTP id A3AA66052471; Wed, 5 Feb 2025 04:34:08 -0500 (EST) Subject: |WARNING| pw150542 [PATCH] telemetry-exporter: listen on loopback by From: dpdklab@iol.unh.edu To: Test Report Cc: dpdk-test-reports@iol.unh.edu In-Reply-To: <20250127115143.585207-2-rjarry@redhat.com> References: <20250127115143.585207-2-rjarry@redhat.com> Content-Type: text/plain X-BeenThere: test-report@dpdk.org X-Mailman-Version: 2.1.29 Precedence: list List-Id: automatic DPDK test reports List-Unsubscribe: , List-Archive: List-Post: List-Help: List-Subscribe: , Errors-To: test-report-bounces@dpdk.org Test-Label: iol-compile-amd64-testing Test-Status: WARNING http://dpdk.org/patch/150542 _Testing issues_ Submitter: Robin Jarry Date: Monday, January 27 2025 11:51:44 DPDK git baseline: Repo:dpdk Branch: master CommitID:5b856206c74bbcf19e12cafa15382a7e15b0a1b5 150542 --> testing issues Upstream job id: Windows-Compile-DPDK-Native#26375 Test environment and result as below: +---------------------+--------------------+------------------+-------------------+-------------------+----------------------+-------------------------+ | Environment | dpdk_meson_compile | dpdk_compile_ovs | dpdk_compile_spdk | dpdk_msvc_compile | dpdk_mingw64_compile | dpdk_llvm_clang_compile | +=====================+====================+==================+===================+===================+======================+=========================+ | CentOS Stream 9 | PASS | PASS | PASS | SKIPPED | SKIPPED | SKIPPED | +---------------------+--------------------+------------------+-------------------+-------------------+----------------------+-------------------------+ | Debian Bullseye | PASS | PASS | PASS | SKIPPED | SKIPPED | SKIPPED | +---------------------+--------------------+------------------+-------------------+-------------------+----------------------+-------------------------+ | Fedora 40 (Clang) | PASS | PASS | PASS | SKIPPED | SKIPPED | SKIPPED | +---------------------+--------------------+------------------+-------------------+-------------------+----------------------+-------------------------+ | Fedora 40 | PASS | PASS | PASS | SKIPPED | SKIPPED | SKIPPED | +---------------------+--------------------+------------------+-------------------+-------------------+----------------------+-------------------------+ | Fedora 41 (Clang) | PASS | PASS | PASS | SKIPPED | SKIPPED | SKIPPED | +---------------------+--------------------+------------------+-------------------+-------------------+----------------------+-------------------------+ | Fedora 41 | PASS | PASS | PASS | SKIPPED | SKIPPED | SKIPPED | +---------------------+--------------------+------------------+-------------------+-------------------+----------------------+-------------------------+ | openSUSE Leap 15 | PASS | SKIPPED | SKIPPED | SKIPPED | SKIPPED | SKIPPED | +---------------------+--------------------+------------------+-------------------+-------------------+----------------------+-------------------------+ | RHEL9 | PASS | PASS | SKIPPED | SKIPPED | SKIPPED | SKIPPED | +---------------------+--------------------+------------------+-------------------+-------------------+----------------------+-------------------------+ | Ubuntu 20.04 | PASS | WARN | SKIPPED | SKIPPED | SKIPPED | SKIPPED | +---------------------+--------------------+------------------+-------------------+-------------------+----------------------+-------------------------+ | Ubuntu 22.04 | PASS | PASS | PASS | SKIPPED | SKIPPED | SKIPPED | +---------------------+--------------------+------------------+-------------------+-------------------+----------------------+-------------------------+ | Ubuntu 24.04 | PASS | PASS | PASS | SKIPPED | SKIPPED | SKIPPED | +---------------------+--------------------+------------------+-------------------+-------------------+----------------------+-------------------------+ | Alpine | PASS | PASS | SKIPPED | SKIPPED | SKIPPED | SKIPPED | +---------------------+--------------------+------------------+-------------------+-------------------+----------------------+-------------------------+ | FreeBSD 13.4 | PASS | SKIPPED | SKIPPED | SKIPPED | SKIPPED | SKIPPED | +---------------------+--------------------+------------------+-------------------+-------------------+----------------------+-------------------------+ | FreeBSD 14.2 | PASS | SKIPPED | SKIPPED | SKIPPED | SKIPPED | SKIPPED | +---------------------+--------------------+------------------+-------------------+-------------------+----------------------+-------------------------+ | RHEL8 | PASS | PASS | SKIPPED | SKIPPED | SKIPPED | SKIPPED | +---------------------+--------------------+------------------+-------------------+-------------------+----------------------+-------------------------+ | Debian 12 | PASS | PASS | PASS | SKIPPED | SKIPPED | SKIPPED | +---------------------+--------------------+------------------+-------------------+-------------------+----------------------+-------------------------+ | Windows Server 2022 | SKIPPED | SKIPPED | SKIPPED | PASS | PASS | PASS | +---------------------+--------------------+------------------+-------------------+-------------------+----------------------+-------------------------+ ==== 20 line log output for Ubuntu 20.04 (dpdk_compile_ovs): ==== --- Failed to get log output --- ==== End log output ==== CentOS Stream 9 Kernel: Depends on container host Compiler: gcc 11.5.0 20240719 (Red Hat 11.5.0-2) Debian Bullseye Kernel: Depends on container host Compiler: gcc (Debian 10.2.1-6) 10.2.1 20210110 Fedora 40 (Clang) Kernel: Depends on container host Compiler: clang 18.1.8 (Fedora 18.1.8-1.fc40) Fedora 40 Kernel: Depends on container host Compiler: gcc 14.2.1 20240912 (Red Hat 14.2.1-3) Fedora 41 (Clang) Kernel: Depends on container host Compiler: clang 19.1.5 (Fedora 19.1.5-1.fc41) Fedora 41 Kernel: Depends on container host Compiler: gcc 14.2.1 20240912 (Red Hat 14.2.1-3) openSUSE Leap 15 Kernel: Depends on container host Compiler: gcc (SUSE Linux) 7.5.0 RHEL9 Kernel: Depends on container host Compiler: gcc 11.5.0 20240719 (Red Hat 11.5.0-2) Ubuntu 20.04 Kernel: Depends on container host Compiler: gcc (Ubuntu 9.4.0-1ubuntu1~20.04.2) 9.4.0 Ubuntu 22.04 Kernel: Depends on container host Compiler: gcc (Ubuntu 11.4.0-1ubuntu1~22.04) 11.4.0 Ubuntu 24.04 Kernel: Depends on container host Compiler: gcc (Ubuntu 13.3.0-6ubuntu2~24.04) 13.3.0 Alpine Kernel: Depends on container host Compiler: gcc (Alpine 14.2.0) 14.2.0 FreeBSD 13.4 Kernel: 13.4-RELEASE-p1 Compiler: clang 18.1.6 FreeBSD 14.2 Kernel: 14.2-RELEASE Compiler: clang 18.1.6 RHEL8 Kernel: Depends on container host Compiler: gcc 8.5.0 20210514 (Red Hat 8.5.0-22) Debian 12 Kernel: Depends on container host Compiler: gcc (Debian 12.2.0-14) 12.2.0 Windows Server 2022 Kernel: 10.0.20348.2031 Compiler: clang 15.0.7, gcc 14.1.0 (MinGW), and MSVC VS 19.39.33521 To view detailed results, visit: https://lab.dpdk.org/results/dashboard/patchsets/32432/ UNH-IOL DPDK Community Lab To manage your email subscriptions, visit: https://lab.dpdk.org/results/dashboard/preferences/subscriptions/