From mboxrd@z Thu Jan 1 00:00:00 1970 Return-Path: Received: from mails.dpdk.org (mails.dpdk.org [217.70.189.124]) by inbox.dpdk.org (Postfix) with ESMTP id 3AE7F4619A for ; Wed, 5 Feb 2025 10:42:24 +0100 (CET) Received: from mails.dpdk.org (localhost [127.0.0.1]) by mails.dpdk.org (Postfix) with ESMTP id 109D440289; Wed, 5 Feb 2025 10:42:24 +0100 (CET) Received: from mail-io1-f100.google.com (mail-io1-f100.google.com [209.85.166.100]) by mails.dpdk.org (Postfix) with ESMTP id A95EA40270 for ; Wed, 5 Feb 2025 10:42:22 +0100 (CET) Received: by mail-io1-f100.google.com with SMTP id ca18e2360f4ac-844e6d1283aso19688039f.1 for ; Wed, 05 Feb 2025 01:42:22 -0800 (PST) DKIM-Signature: v=1; a=rsa-sha256; c=relaxed/relaxed; d=iol.unh.edu; s=unh-iol; t=1738748542; x=1739353342; darn=dpdk.org; h=references:in-reply-to:cc:to:from:subject:message-id:date:from:to :cc:subject:date:message-id:reply-to; bh=AEes3UbbvonXe0L9h2nFkEmIu13Yji3A3Bj0710CaoI=; b=GCfFZy+GDE1fYEevrELwoI+rBZKGPwh8xTbdSZQiskT+5Dx5xLmU1SE0EcvHOnO9F0 gYQWqhtKOYIWMnISK3gNOurvLp9Wk54wGRCSfQmrngDw3H1FxkrFY0cQYRgD0NuGSsCH u4NwcuWUxR5aSaL66WYdM3Uv5/56W+rfMWfr4= X-Google-DKIM-Signature: v=1; a=rsa-sha256; c=relaxed/relaxed; d=1e100.net; s=20230601; t=1738748542; x=1739353342; h=references:in-reply-to:cc:to:from:subject:message-id:date :x-gm-message-state:from:to:cc:subject:date:message-id:reply-to; bh=AEes3UbbvonXe0L9h2nFkEmIu13Yji3A3Bj0710CaoI=; b=u8LcKCyfm1lXnSycNLSi1/j3J/fZjtKjWFlXnd3rebO7MZMedqsTBxWGKv/OwjwXuC 1l1SRLcFYkVZyn3GxNp/ClMWZv0cXYosMu+U/AGtB/ehiCrXBHd+3cOWx8dfvncnRRTF 8EHs0KTmBziDZaKMCh8FQSkHMv0Cm/iBV96KtPt+qua1UidFGXe431/FvpOaZC1Vu7Pv Hbr5FW66fGePuOyKjxyamR5Kke0fVpsYtFdLS4JrZZHp54c2xzehYuGXkdaY9npZKoVh sDJPq9Rhc3GlbpsvneNKtoc2N1nQSw4b4TszXssOtefGCuYqYvcGYiYqrBNzKqY6kXN6 wmYw== X-Gm-Message-State: AOJu0Yz3rSryRCy1qbRdvsZ6RSyFiW0jOaWe87nzh+c3uhrhPHfezvAL LhNZMf+aKQQa0tLelOWSeb9zR0kH6IMKJ7k7Jge5x6495NbreKhtiGYgfyufo9kd0xuixB385Cv TRp8L6PRXCNoYP0iD1beo7gnBXMDYfVSKRXPb9qnI X-Gm-Gg: ASbGncvaHtJWgT6V62DZRIs1/6tspuLn29d6XngZXIKpwzvEmnGhfifaLnXdvoY619w /n8gFcl7+D0Os4XSI7SgUdU30cFSesmgiaWUEs0AZRtZ3IaVoXNjJeqktbKsxEllJi45/f2orbt 6vA7yrI0GnI4q3E0uW6qBny3BJ4mh6zIVwqKQR3aJ4qN8B7XObl1tFdufYo1cgWbw/C/kQCc0HF 0TXiMnZJaozydGPJRz5uBEuc7WxOtwTwNviZJIhwftvJCjBiMwrN/Uz733azlqTH8LTg+Dg8m9j c72ubMCsaS249OfQxY2hAenCy9QdGg== X-Google-Smtp-Source: AGHT+IG6cLVp6pOo1fi7l5kFh7GHW7Bc7BNZwThYxZJlKET9ga/dhtG7naeOIT1eMK2PwZOJukDCrNS/eHrt X-Received: by 2002:a05:6e02:1563:b0:3cf:c07d:e9a with SMTP id e9e14a558f8ab-3d03f4af8f4mr52034515ab.4.1738748541831; Wed, 05 Feb 2025 01:42:21 -0800 (PST) Received: from postal.iol.unh.edu (postal.iol.unh.edu. [132.177.123.84]) by smtp-relay.gmail.com with ESMTPS id 8926c6da1cb9f-4ec746a46fcsm816617173.47.2025.02.05.01.42.21 (version=TLS1_2 cipher=ECDHE-ECDSA-AES128-GCM-SHA256 bits=128/128); Wed, 05 Feb 2025 01:42:21 -0800 (PST) X-Relaying-Domain: iol.unh.edu Date: Wed, 05 Feb 2025 01:42:21 -0800 (PST) Message-ID: <67a3327d.050a0220.74087.8bcaSMTPIN_ADDED_MISSING@mx.google.com> Received: from [172.21.0.6] (unknown [172.18.0.240]) by postal.iol.unh.edu (Postfix) with ESMTP id 4A6316052471; Wed, 5 Feb 2025 04:42:21 -0500 (EST) Subject: |SUCCESS| pw150893 [PATCH] net/af_packet: fix socket close on device From: dpdklab@iol.unh.edu To: Test Report Cc: dpdk-test-reports@iol.unh.edu In-Reply-To: <20250204164508.864080-1-tudor.cornea@gmail.com> References: <20250204164508.864080-1-tudor.cornea@gmail.com> Content-Type: text/plain X-BeenThere: test-report@dpdk.org X-Mailman-Version: 2.1.29 Precedence: list List-Id: automatic DPDK test reports List-Unsubscribe: , List-Archive: List-Post: List-Help: List-Subscribe: , Errors-To: test-report-bounces@dpdk.org Test-Label: iol-compile-arm64-testing Test-Status: SUCCESS http://dpdk.org/patch/150893 _Testing PASS_ Submitter: Tudor Cornea Date: Tuesday, February 04 2025 16:45:08 DPDK git baseline: Repo:dpdk Branch: master CommitID:595535be66b103f7ce3ba61939b8013032987404 150893 --> testing pass Upstream job id: Generic-DPDK-Compile-Meson#357795 Test environment and result as below: +----------------------------------------+--------------------+ | Environment | dpdk_meson_compile | +========================================+====================+ | RHEL9 (ARM) | PASS | +----------------------------------------+--------------------+ | Ubuntu 20.04 ARM GCC Cross Compile | PASS | +----------------------------------------+--------------------+ | Ubuntu 20.04 ARM SVE | PASS | +----------------------------------------+--------------------+ | Debian 12 with MUSDK | PASS | +----------------------------------------+--------------------+ | Fedora 40 (ARM) | PASS | +----------------------------------------+--------------------+ | Fedora 40 (ARM Clang) | PASS | +----------------------------------------+--------------------+ | Fedora 41 (ARM) | PASS | +----------------------------------------+--------------------+ | Fedora 41 (ARM Clang) | PASS | +----------------------------------------+--------------------+ | Ubuntu 20.04 (ARM) | PASS | +----------------------------------------+--------------------+ | Ubuntu 22.04 (ARM) | PASS | +----------------------------------------+--------------------+ | Ubuntu 24.04 (ARM) | PASS | +----------------------------------------+--------------------+ | CentOS Stream 9 (ARM) | PASS | +----------------------------------------+--------------------+ | Debian 11 (Buster) (ARM) | PASS | +----------------------------------------+--------------------+ | Debian 12 (arm) | PASS | +----------------------------------------+--------------------+ | Ubuntu 20.04 ARM Clang Cross Compile | PASS | +----------------------------------------+--------------------+ | Ubuntu 20.04 aarch32 GCC Cross Compile | PASS | +----------------------------------------+--------------------+ RHEL9 (ARM) Kernel: Depends on container host Compiler: gcc 11.5.0 20240719 (Red Hat 11.5.0-2) Ubuntu 20.04 ARM GCC Cross Compile Kernel: Depends on container host Compiler: aarch64-linux-gnu-gcc (Ubuntu 9.4.0-1ubuntu1~20.04.2) 9.4.0 Ubuntu 20.04 ARM SVE Kernel: Depends on container host Compiler: gcc (Ubuntu 10.5.0-1ubuntu1~20.04) 10.5.0 Debian 12 with MUSDK Kernel: Depends on container host Compiler: gcc (Debian 12.2.0-14) 12.2.0 Fedora 40 (ARM) Kernel: Depends on container host Compiler: gcc 14.2.1 20240912 (Red Hat 14.2.1-3) Fedora 40 (ARM Clang) Kernel: Depends on container host Compiler: clang 18.1.8 (Fedora 18.1.8-1.fc40) Fedora 41 (ARM) Kernel: Depends on container host Compiler: gcc 14.2.1 20240912 (Red Hat 14.2.1-3) Fedora 41 (ARM Clang) Kernel: Depends on container host Compiler: clang 19.1.5 (Fedora 19.1.5-1.fc41) Ubuntu 20.04 (ARM) Kernel: Depends on container host Compiler: gcc (Ubuntu 9.4.0-1ubuntu1~20.04.2) 9.4.0 Ubuntu 22.04 (ARM) Kernel: Depends on container host Compiler: gcc (Ubuntu 11.4.0-1ubuntu1~22.04) 11.4.0 Ubuntu 24.04 (ARM) Kernel: Depends on container host Compiler: gcc (Ubuntu 13.3.0-6ubuntu2~24.04) 13.3.0 CentOS Stream 9 (ARM) Kernel: Depends on container host Compiler: gcc 11.5.0 20240719 (Red Hat 11.5.0-2) Debian 11 (Buster) (ARM) Kernel: Depends on container host Compiler: gcc (Debian 10.2.1-6) 10.2.1 20210110 Debian 12 (arm) Kernel: Depends on container host Compiler: gcc (Debian 12.2.0-14) 12.2.0 Ubuntu 20.04 ARM Clang Cross Compile Kernel: Depends on container host Compiler: clang 10.0.0-4ubuntu1 Ubuntu 20.04 aarch32 GCC Cross Compile Kernel: Depends on container host Compiler: gcc 9.4.0 To view detailed results, visit: https://lab.dpdk.org/results/dashboard/patchsets/32490/ UNH-IOL DPDK Community Lab To manage your email subscriptions, visit: https://lab.dpdk.org/results/dashboard/preferences/subscriptions/